Workbook

Sheet титул
A1: РЕЕСТР организаций отдыха детей и их оздоровления, расположенных на территории Свердловской области по состоянию на 14.09.26 Министерство образования Свердловской области

Sheet ЗОЛ
A1: Организации отдыха детей и их оздоровления сезонного или круглогодичного действия (загородные лагеря отдыха и оздоровления детей, детские оздоровительные центры, базы и комплексы, детские оздоровительно-образовательные центры)
A2: Номер строки | B2: Полное и сокращенное наименование организации отдыха детей и их оздоровления | C2: Организационно-правовая форма организации отдыха детей и их оздоровления | D2: ФИО руководителя организации отдыха детей и их оздоровления | E2: ИНН | F2: Адрес (место нахождения) организации отдыха детей и их оздоровления, контактный телефон, адрес электронной почты | G2: Официальный сайт организации отдыха детей и их оздоровления в информационно-телекоммуникационной сети "Интернет", ссылка | H2: Тип организации отдыха детей и их оздоровления | I2: Предоставляемые организацией отдыха детей и их оздоровления услуги в сфере отдыха и оздоровления детей | O2: Дата ввода в эксплуатацию объектов (зданий, строений, сооружений), используемых организацией отдыха детей и их оздоровления и дата проведения капитального ремонта (для организаций стационарного типа) | P2: Информация о наличии санитарно-эпидемиологического заключения, включая дату и номер заключения | Q2: Информация о результатах проведения органами, осуществляющими государственный контроль (надзор), плановых и внеплановых проверок, профилактических визитов в текущем году (при наличии) и в предыдущем году | R2: Информация о наличии лицензии на осуществление медицинской деятельности | S2: Информация о наличии лицензии на осуществление образовательной деятельности | T2: Обеспечение в организации отдыха детей и их оздоровления доступности услуг для детей инвалидов и детей с ограниченными возможностями здоровья | U2: Сведения о наличии программы воспитательной работы и календарного плана воспитательной работы, ссылка
I3: Режим работы организации отдыха детей и их оздоровления | J3: Даты проведения смен | K3: Средняя стоимость 1 дня пребывания в организации отдыха детей и их оздоровления | L3: Возрастная категория детей, принимаемых в организацию отдыха детей и их оздоровления | M3: Информация о проживании и питании детей в организации отдыха детей и их оздоровления | N3: Наличие оборудованного места для купания
A4: 1 | B4: 2 | C4: 3 | D4: 4 | E4: 5 | F4: 6 | G4: 7 | H4: 8 | I4: 9 | J4: 10 | K4: 11 | L4: 12 | M4: 13 | N4: 14 | O4: 15 | P4: 16 | Q4: 17 | R4: 18 | S4: 19 | T4: 20 | U4: 21
A5: 1 | B5: Оздоровительный лагерь «Прометей» Управления по эксплуатации зданий и сооружений филиала Общества с ограниченной ответственностью «Газпром трансгаз Екатеринбург», Оздоровительный лагерь «Прометей» | C5: Структурное подразделение | D5: Диденко Дмитрий Генрихович | E5: 6608007434 | F5: 624021, Свердловская обл., Сысертский р-н, п. Верхняя Сысерть, территория базы отдыха "Прометей"; тел.: 8(343)287-22-69, 287-20-18; email: M.Gajdt@ekaterinburg-tr.gazprom.ru | G5: https://ekaterinburg-tr.gazprom.ru | H5: Загородная организация отдыха детей и их оздоровления | I5: Сезонный | J5: 01.06.2026-21.06.2026, 24.06.2026-07.07.2026, 10.07.2026-23.07.2026, 26.07.2026-08.08.2026, 11.08.2026-24.08.2026 | K5: 3240 | L5: 7 - 17 лет | M5: Количество смен в год: 5. Мощность: 270. Проживание: в трехместных, четырехместных, шестиместных номерах, с душем и туалетом в каждом номере. Питание: шестиразовое | N5: Имеется. | O5: Дата ввода: 1985 год (столовая), 2011 год (столовая), 1985 год (Административно - приемный корпус), 1991 год (Корпус кружковых помещений), с 1985 по 2011 год (Спальные корпуса). Дата капитального ремонта: с 2004 по 2006 год (Столовые), 2015 год (Административно - приемный корпус), 2024 год (Корпус кружковых помещений), с 2019 по 2024 год (Спальные корпуса). | P5: №66.01.37.000.М.001497.05.26 от 28.05.2026 | Q5: В 2025 г.: Предписание ОНДи ПР Сысертского ГО, Арамильского ГО УНД и ПР ГУ МЧС России по Свердловской области от 27.05.2025 №2505/027-66/43-В/ПВП, срок выполнения - 12.04.2027 | R5: №ЛО-66-01-005609 от 28.09.2018 | S5: Отсутствует | T5: Объект недоступен для детей с ОВЗ и детей-инвалидов. Паспорт доступности № 1-11 от 07.04.2026 | U5: Ссылка на программу воспитательной работы: https://clck.ru/3UYNWG
A6: 2 | B6: Муниципальное автономное учреждение детский оздоровительный лагерь «Волна», МАУ ДОЛ «Волна» (Детский оздоровительный лагерь «Волна») | C6: Муниципальное автономное учреждение | D6: Пащенко Александр Вадимович | E6: 6621010387 | F6: 624175, Свердловская обл., Невьянский р-н, п. Таватуй, территория ДОЛ "Волна"; тел.: 8(952)144-38-97; email: a89521443897@yandex.ru | G6: https://долволна.екатеринбург.рф/ | H6: Загородная организация отдыха детей и их оздоровления | I6: Сезонный | J6: 30.05.2026-12.06.2026, 14.06.2026-27.06.2026, 29.06.2026-12.07.2026, 14.07.2026-03.08.2026, 05.08.2026-18.08.2026, 20.08.2026-29.08.2026 | K6: 2000,00 (10дн.); 2142,85(17 дн.); 1952,38(21 дн.) | L6: 6,5 - 18 лет | M6: Количество смен в год: 6. Мощность: 200. Проживание: размещение детей осуществляется в трех полностью благоустроенных двухэтажных спальных корпусах по 3 и по 10 человек в комнате. Питание: шестиразовое | N6: Отсутствует. | O6: Дата ввода: 1973 год (административный корпус, спальные корпуса 1, 2, 3, столовая, здание охраны пожарного имущества, овощной склад, хоз. склад, прачечная с душевыми, изолятор), 1975 год (клуб с котельной, будка охранника, игровой павильон, павильон для кружковой работы, насосная у хлораторной, дизельная), 1995 год (гараж, насосная фекальных вод, проходная на хоз. дворе, основной склад с мастерской-гаражом), 1998 год (баня), 2002 год (игровой павильон) 2012 год (общежитие, здание сторожа, здания для временного проживания 1, 2, 3). | P6: №66.01.37.000.М.001379.05.26 от 27.05.2026 | Q6: В 2022 г.: ГУ МЧС России по Свердловской области. Решение № 66-13-2022/0111рс от 05.09.2022. Предписание об устранении нарушений обязательных требований пожарной безопасности № 111/1 от 20.09.2022. Замечания устраняются. Федеральная служба по надзору в сфере защиты прав потребителей и благополучия человека по Свердловской области. Предложение от 10.08.2022 №66-08-12/11-74389-2022. Замечания устранены. | R6: Отсутствует. Договор на оказание медицинского обслуживания в процессе заключения | S6: Отсутствует | T6: Объект частично доступен для детей с ОВЗ и детей-инвалидов по следующим нозологиям: с логопедическими нарушениями (общее недоразвитие речи,фонетико-фонематическое недоразвитие речи, заикание); с нарушениями слуха (слабослышащие дети); с нарушениями зрения (слабовидящие дети); соматически ослабленные (часто болеющие дети). Паспорт доступности №12/04 от 05.04.2022 | U6: Программа утверждена Приказом №7 от 21.04.2025 г. Ссылка на программу: https://vk.com/topic-41204198_53671842
A7: 3 | B7: Муниципальное автономное учреждение Детский оздоровительный лагерь «Мечта», МАУ ДОЛ «Мечта» (Детский оздоровительный лагерь «Мечта») | C7: Муниципальное автономное учреждение | D7: Крутиков Дмитрий Борисович | E7: 6627012704 | F7: 620000, Свердловская обл., г. Ревда, территория ДОЛ "Мечта"; тел.: 8(343)213-81-17; email: krtik@yandex.ru | G7: https://долмечта.екатеринбург.рф | H7: Загородная организация отдыха детей и их оздоровления | I7: Сезонный | J7: 28.05.2026-10.06.2026, 12.06.2026-02.07.2026, 04.07.2026-17.07.2026, 19.07.2026-01.08.2026, 03.08.2026-16.08.2026, 18.08.2026-31.08.2026 | K7: 1857.14 | L7: 6,5 - 18 лет | M7: Количество смен в год: 1. Мощность: 200. Проживание: 5 одноэтажных капитальных спальных корпусов, медицинский корпус, клуб, душевые-прачечная, столовая со складскими помещениями, административный корпус, туалеты и умывальные павильоны находятся в непосредственной близости от спальных корпусов. Размещение детей от 2-х до 10 человек. Питание: шестиразовое в собственной столовой | N7: Отсутствует. | O7: Дата ввода: 1968 год (Спальный корпус № 1–№ 5, столовая, складские помещения, душевая/прачечная, медицинский корпус, клуб, административный корпус, общежитие для сотрудников, котельная, артезианские скважины, стадион, игровые площадки). | P7: №66.01.37.000.М.001229.05.26 от 22.05.2026 | Q7: В 2023 г.: ГУ МЧС РФ по СО: 2023 год - предписание № 2304/040-6628-В/ПВ/3 от 11.04.2023 - исполнено. ТО Управления Роспотребнадзора по СО: предписание № 228/2023- 121 от 10.07.2023 - исполнено | R7: №ЛО-66-01-004737 от 19.06.2017 | S7: Отсутствует | T7: Объект частично доступен для детей с ОВЗ и детей-инвалидов по следующим нозологиям: для слабовидящих (все зоны и помещения доступны с сопровождением сотрудника (тьютора), кроме детей с полной слепотой); для слабослышащих (все зоны и помещения доступны с сопровождением сотрудника (тьютора)); для людей с интеллектуальными нарушениями (полная доступность всех зон при условии, что ПМПК подтвердила отсутствие необходимости в специальных условиях пребывания). Паспорт доступности № 1-5 от 01.08.2024 г. | U7: Ссылка на программу: https://долмечта.екатеринбург.рф
A8: 4 | B8: Муниципальное автономное учреждение детский оздоровительный лагерь «Буревестник», МАУ ДОЛ «Буревестник» (Детский оздоровительный лагерь «Буревестник») | C8: Муниципальное автономное учреждение | D8: Васильева Елена Анатольевна | E8: 6670434188 | F8: 624022, Свердловская обл., Сысертский р-н, 1,5 км. автомобильной дороги "Сысерть- Полевской"; тел. 8(343)74-6-27-17; email: dol.burevestnik@mail.ru | G8: http://долбуревестник.екатеринбург.рф | H8: Загородная организация отдыха детей и их оздоровления | I8: Сезонный | J8: 28.05.2026-10.06.2026, 12.06.2026-25.06.2026, 27.06.2026-10.07.2026, 12.07.2026-01.08.2026, 03.08.2026-16.08.2026, 18.08.2026-31.08.2026, 24.10.2026-30.10.2026 | K8: 2071.43 | L8: 6,5 - 17 лет | M8: Количество смен в год: 7. Мощность: 270. Проживание: в 4 спальных 2хэтажных корпусах в комнатах по 4 - 5 человек, удобства на этаже. Библиотека, медпункт. Питание: шестиразовое, столовая 350 мест. | N8: Отсутствует. | O8: Дата ввода: 1951 г., 1986 г. 1979 г. (Столовая), 1965 г. (Санитарно-хозяйственный блок (прачечная, душевые)), 1994 г. (Общежитие для сотрудников, двухэтажное здание), 1997 г. (Спальный корпус № 1, 2, 3, 4), 1999 г. (Центр досуга, Медпункт). Дата капитального ремонта: 2009 г. , 2010 г. (Спальный корпус № 2 (2 этаж), Спальный корпус № 4 (1-2 этажа), Медпункт), 2013 г. (Общежитие для сотрудников, двухэтажное здание), 2014 г. (Санитарно-хозяйственный блок (прачечная, душевые)), 2016 г. (Спальный корпус № 2, 1 этаж), 2025 г. (Спальный корпус № 1 (1-2 этажи), Спальный корпус № 3 (1-2 этажа)), 2026 г. (Столовая) | P8: №66.01.37.000.М.001228.05.26 от 22.05.2026 | Q8: В 2026 г.: Акт обследования (технического осмотра) состояния антитеррористической защищённости, и инженерно - технической укреплённости объекта. Сысертский ОВО -филиал ФГКУ "УВО ВНГ России по Свердловской области" 09.04.2026 г. Нарушения: не выявлены. Выездная проверка Управления Роспотребнадзора по СО: от 01.04.2026 г. №66260041000119060354 с 06.05.2026 г. по 20.05.2026 г. проведена. Нарушения устранены во время проведения проверки. Отдел надзорной деятельсности и профилактической работы Сысертского ГО, Арамильского ГО УНД и ПР Главного управления МЧС России по Свердловской области профилактический визит 18.05.2026 г. № 66260061000221659693 Нарушения не выявлены. | R8: №ЛО-66-01-004736 от 19.06.2017 | S8: Отсутствует | T8: Объект частично доступен для детей с ОВЗ и детей-инвалидов по следующим нозологиям: слабослышащие, слабовидящие. Паспорт доступности от 19.08.2024. Срок действия до 01.12.2030 г. | U8: Утверждена Приказом директора МАУ ДОЛ "Буревестник" Васильевой Е.А. № 22/26 от 24.04.2026 г. Ссылка: https://clck.ru/3TSHyg
A9: 5 | B9: Муниципальное автономное нетиповое образовательное учреждение «Городской дворец творчества» филиал- детский оздоровительный лагерь «Чайка», МАНОУ «ГДТ» филиал - ДОЛ «Чайка» (Детский оздоровительный лагерь «Чайка») | C9: Муниципальное автономное учреждение | D9: Коваленко Юлия Яковлевна | E9: 6670364607 | F9: 624020, Свердловская обл., Сысертский р-н, территория оздоровительного лагеря "Чайка"; тел.: 8(905)808-04-26; email: mbudol.chayka@mail.ru | G9: https://dol-chayka.nasmene.ru/ | H9: Загородная организация отдыха детей и их оздоровления | I9: Сезонный | J9: 29.05.2026-04.06.2026, 07.06.2026-27.06.2026, 30.06.2026-13.07.2026, 16.07.2026-29.07.2026, 01.08.2026-14.08.2026, 17.08.2026-30.08.2026 | K9: 1904.76 | L9: 6,5 - 18 лет | M9: Количество смен в год: 6. Мощность: 140. Проживание: в кирпичных одноэтажных корпусах, имеющих автономное отопление, комнаты для просушивания одежды и обуви детей, кулеры с питьевой водой и одноразовой посудой (из расчёта 1 на отряд); корпуса имеют стеклопакеты с москитными сетками, входные группы. Имеются оборудованные площадки для волейбола, баскетбола,бадминтона, настольного тенниса, беговая дорожка, футбольное поле с искусственным покрытием, кинозал на 150 посадочных мест, библиотека, игровые комнаты, помещения для работы кружков. Питание: шестиразовое питание в соответствии с утверждённым меню и выполнением физиологических норм; столовая имеет 150 посадочных мест; питание организовано в одну смену. | N9: Отсутствует. | O9: Дата ввода: 1964 год (здание насосной (литер Ц), здание павильона "Чебурашка" (литер Ж)), 1969 год (здание уборной (литер Х), здание изолятора (литер А)), 1971 год (здание библиотеки (литер П), здание клуба (литер Р), здание сушилки (литер Я), здание радиоузла (литер Н), здание склада продуктового (литер К), здание дом сторожа (литер Д), здание административного корпуса (литер В), здание спального корпуса № 2 (литер Т), здание спального корпуса № 3 (литер С)), 1972 год (здание столовой (литер Л), здание склада вещевого (литер Ю), здание спального корпуса № 1 (литер Ф)), 1975 год (здание трансформаторной подстанции (литер И), здание душевой, прачечной (литер Е)), 1985 год (здание умывалки (литер У), здание павильона "Природа и фантазия" (литер Б)), 2006 год (здание уборной (литер Э)), 2008 год (здание медицинского блока (литер Ш)). | P9: №66.01.37.000.М.001495.05.26 от 28.05.2026 | Q9: В 2025 г.: Предписание Министерство РФ по делвм гражданской обороны,чрезвычайным ситуациям и ликвидациипоследствий стихийных бедствий от 28 мая 2025 продлено до апреля 2027 года | R9: Отсутствует | S9: Отсутствует | T9: Объект доступен для детей с ОВЗ и детей-инвалидов по следующим нозологиям: с нарушениями зрения - доступность всех зон и помещений с дополнительной помощью сотрудника (тьютора), за исключением детей с полной потерей зрения; с нарушениями слуха - доступность всех зон и помещений с дополнительной помощью сотрудника (тьютора); с нарушениями опорно-двигательного аппарата (доступно, организация помощи сотрудниками организации). Паспорт доступности от 24.03.2024 | U9: https://dol-chayka.nasmene.ru/lager/org-recreation/documents
A10: 6 | B10: Муниципальное бюджетное учреждение детский оздоровительный лагерь «Заря», МБУ ДОЛ «Заря» (Детский оздоровительный лагерь «Заря») | C10: Муниципальное бюджетное учреждение | D10: Соловьев Дмитрий Сергеевич | E10: 6652019950 | F10: 624021, Свердловская обл., Сысертский р-н, с. Кадниково; тел.: 8(922)026-47-55; email: dolzarya20@yandex.ru | G10: https://долзаря.екатеринбург.рф/ | H10: Загородная организация отдыха детей и их оздоровления | I10: Сезонный | J10: 25.05.2026-07.06.2026, 09.06.2026-22.06.2026, 24.06.2026-30.06.2026, 02.07.2026-08.07.2026, 10.07.2026-23.07.2026, 25.07.2026-07.08.2026, 09.08.2026-29.08.2026 | K10: 2214.28 | L10: 6,5 - 17 лет | M10: Количество смен в год: 7. Мощность: 224. Проживание: 6 корпусов, по 4-9 человек в комнате, удобства в отдельных зданиях, 1 корпус по 4-5 человек в комнате, удобства на этаже. Медпункт. Клуб. Питание: пятиразовое. | N10: Отсутствует. | O10: Дата ввода: 1959 год (амбулатория, детский спальный корпус № 1, детский спальный корпус № 2, детский спальный корпус № 3, детский спальный корпус № 4, детский спальный корпус № 7, детский спальный корпус № 8, клуб, здание летней кухни, овощехранилища, склад сухих продуктов, спальный корпус сотрудников № 1, трансформаторная подстанция), 1961 год (здание умывальника), 1962 год (котельная), 1970 год (туалет, туалет), 1979 год (здание ногомойки, здание ногомойки), 1980 год (павильон "Уралочка" № 1, павильон "Уралочка" № 4), 2006 год (клуб-столовая), 2014 год (медицинский блок), 2022 год (спальный корпус), год не установлен (здание над пожарным водоемом, насосная, санитарно-бытовой корпус с прачечной). | P10: №66.01.37.000.М.001560.05.26 от 29.05.2026 | Q10: В 2025 г.: проверка Роспотребнадзора, контрольно надзорное мероприятие № 66250041000118245722 от 06.06.2025. Замечания устранены в ходе проверки. В 2025 г. проверка ГУ МЧС России, контрольно надзорное мероприятие № 66250061000217995601 от 15.05.2025: 15 замечаний, срок исполнения 15.04.2026. Замечания находятся на исполнении. | R10: №ЛО-66-01-005911 от 19.04.2019 | S10: Отсутствует | T10: Объект доступен для детей с ОВЗ и детей-инвалидов по следующим нозологиям: глухие и слабослышашие, дети с соматическими заболеваниями, дети с тяжелыми нарушениями речи, дети с ментальными нарушениями. Паспорт доступности от 18.03.2026 | U10: Программа утверждена Приказом №30 от 25.05.2025. Ссылка на программу: https://clck.ru/3SmD3z
A11: 7 | B11: Муниципальное автономное учреждение детский оздоровительный лагерь «Космос», МАУ ДОЛ «Космос» (Детский оздоровительный лагерь «Космос») | C11: Муниципальное автономное учреждение | D11: Кульнева Юлия Николаевна | E11: 6685047664 | F11: 624013, Свердловская обл., Сысертский г.о., территория детского оздоровительного лагеря "Космос", зд. 1; тел.: 8(932)699-62-00; email: kosmos-dol@ekadm.ru | G11: https://kosmos-dol.ru/ | H11: Загородная организация отдыха детей и их оздоровления | I11: Сезонный | J11: 27.05.2026-09.06.2026, 12.06.2026-25.06.2026, 28.06.2026-07.07.2026, 10.07.2026-23.07.2026, 26.07.2026-15.08.2026, 18.08.2026-31.08.2026, 24.10.2026-30.10.2026 | K11: 2146.15 | L11: 6,5 - 17 лет | M11: Количество смен в год: 7. Мощность: 224. Проживание: одноэтажные благоустроенные кирпичные корпуса. Питание: пятиразовое | N11: Отсутствует. | O11: Дата ввода: 25.06.2017 (после капитального ремонта). | P11: №66.01.37.000.М.001325.05.26 от 26.05.2026 | Q11: В 2025 г.: Акт проверки от 27.05.2025 г. Отдела надзорной деятельности и профилактической работы Сысертского городского округа, Арамильского городского округа УНДиПР Главного управления МЧС России по Свердловской области. Нарушения не выявлены. Акт проверки от 04.06.2025 г. Территориального органа Управления Роспотребнадзора по Свердловской области в Орджоникидзевском, Железнодорожном районах города Екатеринбурга, в городе Берёзовский и в городе Верхняя Пышма. Нарушения устранены до окончания проверки. Акт проверки от 23.06.2025 г. Территориального органа Управления Роспотребнадзора по Свердловской области в Орджоникидзевском, Железнодорожном районах города Екатеринбурга, в городе Берёзовский и в городе Верхняя Пышма. Срок устранения 25.05.2026 г. | R11: №ЛО-66-01-005188 от 18.01.2018 | S11: Отсутствует | T11: Объект доступен для детей с ОВЗ и детей-инвалидов по следующим нозологиям: глухие и слабослышащие, слепые и слабовидящие, дети с нарушениями опорно-двигательной системы, дети с тяжелыми нарушениями речи, дети с ментальными нарушениями, дети с соматическими заболеваниями. Паспорт доступности от 23.06.2025 | U11: Программа воспитательной работы утверждена приказом № 02-ОД от 11.02.2026 г. Ссылка на программу: https://kosmos-dol.ru/o-lagere/deyatelnost/
A12: 8 | B12: Муниципальное автономное учреждение детский оздоровительный лагерь «Юность», МАУ ДОЛ «Юность»(Детский оздоровительный лагерь «Юность») | C12: Муниципальное автономное учреждение | D12: Федосеев Алексей Александрович | E12: 6684038441 | F12: 623285, Свердловская обл., м.о. Ревда, г. Ревда, пер. Осенний, зд. 4; тел.: 8(912)047-43-11; email: dolynost@yandex.ru | G12: https://lagerunost.ru/ | H12: Загородная организация отдыха детей и их оздоровления | I12: Круглогодичный | J12: 09.02.2026-13.02.2026, 29.03.2026-04.04.2026, 30.05.2026-12.06.2026, 14.06.2026-27.06.2026, 29.06.2026-19.07.2026, 21.07.2026-03.08.2026, 05.08.2026-18.08.2026, 20.08.2026-29.08.2026, 13.09.2026-22.09.2026, 24.09.2026-03.10.2026, 05.10.2026-14.10.2026, 24.10.2026-30.10.2026, 31.10.2026-06.11.2026, 09.11.2026-18.11.2026 | K12: 2260.76 | L12: 6,5 - 18 лет | M12: Количество смен в год: 14. Мощность: 222. Проживание: 3 корпуса, по 4 человека в комнате, удобства на этаже в 2-х этажном здании, удобства в комнатах в зданиях БВК. Медицинский пункт. Питание: шестиразовое, столовая 130 мест. | N12: Отсутствует. | O12: Дата ввода: 1989 год (спальный корпус), 2005 год (столовая), 2008 год (культурно-досуговый центр, медицинский пункт), 2015 год (стадион), 2023 год (БВК). | P12: №66.01.37.000.М.001231.05.26 от 22.05.2026 | Q12: В 2025 г.: предписание ОНД и ПР ГО Ревда, ГО Дегтярск, Полевского ГО УНД и ПР Главного управления МЧС России по Свердловской области от 27.05.2025 № 2505/024-66/31-В/ПВП: 6 замечаний. Устранено 6 замечаний. Предписание Управления Федеральной службы по надзору в сфере защиты прав потребителей и благополучия населения по Свердловской области в Ленинском, Верх-Исетском, Октябрьском и Кировском районах г. Екатеринбурга от 08.08.2025 № 40/2025-225: 1 замечание. Устранено 1 замечание. | R12: №Л041-01021-66/01042576 от 01.02.2024 | S12: №Л035-01277-66/00763601 от 10.11.2023 | T12: Объект доступен для детей с ОВЗ и детей-инвалидов по следующим нозологиям: умственные нарушения, нарушения слуха. Паспорт доступности от 26.07.2024 | U12: Программа утверждена приказом № 40 от 01.04.2026. Ссылка на программу: https://disk.yandex.ru/i/5-OADaJZJeqsjw
A13: 9 | B13: Муниципальное автономное учреждение детский оздоровительный лагерь «Каменный Цветок», МАУ ДОЛ «Каменный Цветок» (Детский оздоровительный лагерь «Каменный Цветок») | C13: Муниципальное автономное учреждение | D13: Шеховцов Алексей Валентинович | E13: 6621008116 | F13: 624175, Свердловская обл., Невьянский г.о., территория ДОЛ Каменный Цветок; тел.: 8(912)245-30-07; email: kam_cv@mail.ru | G13: https://lagerkam.ru/ | H13: Загородная организация отдыха детей и их оздоровления | I13: Сезонный | J13: 27.05.2026-16.06.2026, 18.06.2026-01.07.2026, 03.07.2026-16.07.2026, 18.07.2026-31.07.2026, 02.08.2026-15.08.2026, 17.08.2026-30.08.2026 | K13: 1980,95( 21 дн); 2 178,57 (14 дн.) | L13: 6,5 - 18 лет | M13: Количество смен в год: 6. Мощность: 270. Проживание: дети проживают в одноэтажных и двухэтажных кирпичных корпусах, по 4 - 8 человек в комнате. Питание: шестиразовое | N13: Отсутствует. | O13: Дата ввода: 1966 год (корпус № 2, корпус № 3, корпус № 4, насосная станция, столовая), 1987 год (корпус № 7, корпус № 8, корпус № 9), 2019 год (медицинский блок). | P13: №66.01.37.000.М.001330.05.26 от 26.05.2026 | Q13: В 2024 г.: Предписание МЧС от 02.08.2024. №2407/016-66/133-П/ПВП. 1. Допущена эксплуатация средств обеспечения пожарной безопасности сверх срока службы, установленная изготовителем (поставщиком), без обеспечения ежегодного проведения испытаний средств обеспечения пожарной безопасности до их замены в установленном порядке (система автоматической пожарной сигнализации и система оповещения управления эвакуации) . (Указанное нарушение будет устранено после включения данного вида работ в титул капитальных ремонтов объектов инфраструктуры муниципальных детских загородных оздоровительных лагерей, после выделения финансирования). | R13: №ЛО-66-01-005615 от 05.10.2018 | S13: Отсутствует | T13: Объект частично доступен для детей с ОВЗ и детей-инвалидов по следующим нозологиям: дети с нарушением слуха; дети с нарушением речи; дети с соматическими заболеваниями. Паспорта доступности от 24.06.2024 | U13: Программа воспитания утверждена директором МАУ ДОЛ "Каменный цветок" 28.01.2026г . Ссылка на программу: https://disk.yandex.ru/i/H9B-hWH7sh3mbw
A14: 10 | B14: Муниципальное автономное учреждение детский оздоровительный лагерь «Приозерный», МАУ ДОЛ «Приозерный» (Детский оздоровительный лагерь «Приозерный») | C14: Муниципальное автономное учреждение | D14: Воронцова Оксана Михайловна | E14: 6621006831 | F14: 624186, Свердловская обл., Невьянский район, Дол Приозерный тер. | G14: https://приозерный.екатеринбург.рф/ | H14: Загородная организация отдыха детей и их оздоровления | I14: Сезонный | J14: 01.06.2026-14.06.2026, 16.06.2026-29.06.2026, 01.07.2026-14.07.2026, 16.07.2026-29.07.2026, 31.07.2026-20.08.2026, 22.08.2026-28.08.2026 | K14: 2154.76 | L14: 6,5 - 18 лет | M14: Количество смен в год: 6. Мощность: 175. Проживание: благоустроенный двухэтажный корпус по 8 человек в корпусе, удобства на этаже. Четыре одноэтажных спальных корпуса, удобства вне корпусов в отдельно расположенных благоустроенных помещениях (зданиях). Спортивный зал. Медблок. Питание: шестиразовое. Столовая на 240 мест. | N14: Отсутствует. | O14: Дата ввода: 1966 г. (здание душевой, одноэтажные спальные корпуса, общежитие для сотрудников), 1983 г. (двухэтажный жилой корпус, столовая), 2014 г. (медблок, кружковые павильоны). Дата капитального ремонта: 2014 - 2016 г. (столовая — замена окон), 2018 - 2019 г. (столовая — замена крыш), 2022 г. (здание душевой — замена крыш), 2024 -2025 г. (общежитие для сотрудников — замена крыш). | P14: №66.01.37.000.М.001448.05.26 от 28.05.2026 | Q14: В 2025 г.: Предписание отдела ОНД и ПР Невьянского городского округа от 30.08.2024: 6 замечаний, срок исполнения 01.05.2026г; Предписаний Роспотребнадзора нет | R14: №ЛО-66-01-005394 от 05.06.2018 | S14: Отсутствует | T14: Объект доступен для детей с ОВЗ и детей-инвалидов по следующим нозологиям: дети с нарушениями опорно-двигательной системы, дети с соматическими заболеваниями. Паспорт доступности от 05.06.2024 | U14: Программа утверждена приказом №9-од от 28.03.2025 Ссылка на программу https://clck.ru/3SuCpS
A15: 11 | B15: Муниципальное автономное учреждение детский оздоровительный лагерь «Изумруд», МАУ ДОЛ «Изумруд» (Детский оздоровительный лагерь «Изумруд») | C15: Муниципальное автономное учреждение | D15: Оберюхтин Игорь Владимирович | E15: 6626015540 | F15: 623376, Свердловская обл., Полевской р-н, с. Курганово; тел.: 8(343) 379-98-07, 317-93-84, 8(912)636-67-66; email: tmc009@mail.ru | G15: https://долизумруд.екатеринбург.рф/ | H15: Загородная организация отдыха детей и их оздоровления | I15: Круглогодичный | J15: 29.05.2026-07.06.2026, 09.06.2026-22.06.2026, 24.06.2026-07.07.2026, 09.07.2026-29.07.2026, 31.07.2026-13.08.2026, 15.08.2026-28.08.2026 | K15: 2000,00 (10 дн.); 2142,85 (14 дн.); 1952,38 (21 дн.). | L15: 6,5 - 18 лет | M15: Количество смен в год: 6. Мощность: 192. Проживание: спальные одноэтажные корпуса 1, 2, 3, 6, 7; количество мест в корпусе - 32; размещение по 4 человека в комнате. Питание: шестиразовое | N15: Отсутствует. | O15: Дата ввода: 1972 год (спальные одноэтажные корпуса 1, 2, 3, 6, 7, здание клуба, здание мед.блока, здание столовой, здание банно-прачечной с котельной). | P15: №6.01.37.000.М.001626.06.26 от 02.05.2026 | Q15: В 2024 г.: ГУ МЧС России по Свердловской области. Акт выездной проверки от 08.08.2024 №2407/024-66/104-П/АСП. Предписание об устранении нарушений обязательных требований пожарной безопасности от 08.08.2024г. №2407/024-66/104-П/ПВПв работе замечания устраняются. ФБУЗ "Центр гигиены и эпидемиологии в Свердловской области" контрольное (надзорное) мероприятие Акт плановой выездной проверки от 21.08.2024 г. № 1442/2024-121, Предписание №66240041000110807425 от 21.08.2024 г. в работе замечания устраняются. | R15: Отсутствует. Договор на оказание медицинского обслуживания в процессе заключения | S15: Отсутствует | T15: Объект недоступен для детей с ОВЗ и детей-инвалидов. Паспорт доступности № 01/04-13 от 10.06.2024 | U15: Программа 2025 года размещена - https://vk.com/zumrud.deti ; Программа и план воспитательной работы на 2026 год будут размещена https://vk.com/zumrud.deti после защиты и утверждения
A16: 12 | B16: Муниципальное автономное учреждение детский оздоровительный лагерь "Маяк", МАУ ДОЛ "Маяк" (Детский оздоровительный лагерь "Маяк") | C16: Муниципальное автономное учреждение | D16: Ворона Андрей Михайлович | E16: 6685084761 | F16: 624021, Свердловская обл., Сысертский р-н, территория детского оздоровительного лагеря "Маяк"; тел.: 8(922)128-21-96; email: dolmayk@yandex.ru | G16: https://lagermayak.ru/ | H16: Загородная организация отдыха детей и их оздоровления | I16: Сезонный | J16: 27.05.2026-16.06.2026, 18.06.2026-01.07.2026, 03.07.2026-16.07.2026, 18.07.2026-31.07.2026, 02.08.2026-15.08.2026, 17.08.2026-30.08.2026 | K16: 2079.76 | L16: 6,5 - 18 лет | M16: Количество смен в год: 6. Мощность: 180. Проживание: 2 корпуса, по 8-10 человек в комнате, удобства на этаже. Медпункт. Питание: шестиразовое, столовая 180 мест. | N16: Отсутствует. | O16: Дата ввода: 1972 год (здание душевой-прачечной, склад продовольственный, ледник-овощехранилище), 1990 год (спальный корпус № 3, клуб-столовая корпус № 1), 1991 год (спальный корпус № 2), 1995 год (здание медицинского изолятора), 2004 год (дом сторожа), 2007 год (общежитие), 2010 год (здание административно-хозяйственное, беседка закрытая). Дата капитального ремонта: 2024 год (спальный корпус № 2). | P16: №66.01.37.000.М.001160.05.26 от 21.05.2026 | Q16: В 2025 г.: Предписание ОНДиПР Сысертского ГО, Арамильского ГО управления надзорной деятельности и профилактической работы ГУ МЧС России по Свердловской области № 2505/027-66/35-В/ПВП от 27.05.2025 г.: 9 замечаний, срок исполнения 15.04.2026. Устранено 2 замечания. В 2024 г. Предписание Роспотребнадзора: №414/2024-121 от 13.08.2024 г.: 2 замечания, срок исполнения 19.05.2025 . Устранено 1 замечание. | R16: №ЛО-66-01-005701 от 30.11.2018 | S16: Отсутствует | T16: Объект доступен для детей с ОВЗ и детей-инвалидов по следующим нозологиям: с умственными нарушениями. Паспорт доступности от 26.06.2024 | U16: Программа утверждена Приказом № 14 от 30.01.2026г. Ссылка на программу: https://disk.yandex.ru/i/ytURHf25CiLk2Q
A17: 13 | B17: Муниципальное бюджетное учреждение Детский оздоровительный лагерь «Красная гвоздика», МБУ ДОЛ «Красная гвоздика» (Детский оздоровительный лагерь «Красная гвоздика») | C17: Муниципальное бюджетное учреждение | D17: Ермохина Елена Алексеевна | E17: 6658273431 | F17: 624001, Свердловская обл., г. Сысерть, Черновская дорога, 4 км, МБУ ДОЛ "Красная гвоздика"; тел.: 8(912)687-65-27; email: kgvozdika81@mail.ru | G17: https://краснаягвоздика.екатеринбург.рф/ | H17: Загородная организация отдыха детей и их оздоровления | I17: Сезонный | J17: 05.06.2026-18.06.2026, 20.06.2026-03.07.2026, 05.07.2026-25.07.2026, 27.07.2026-09.08.2026, 11.08.2026-24.08.2026, 25.08.2026-31.08.2026 | K17: 2142,85 (7 дн.); 1964,28 (14 дн.); 1785,71 (21 дн.) | L17: 6,5 - 18 лет | M17: Количество смен в год: 6. Мощность: 240. Проживание: 8 спальных корпусов, по 7 - 8 человек в комнате. Питание: шестиразовое | N17: Отсутствует. | O17: Дата ввода: 1970 (Спальные корпуса № 1 - № 8, столовая, медблок, клуб, библиотека и кружковые, слад, душевая, котельная). | P17: №66.01.37.000.М.001595.06.26 от 01.06.2026 | Q17: В 2022 г.: Плановые проверки Роспотребнадзора:1. 20.05 - 17.06.2022г. - замечания устранены, 2. 29.07 - 11.08.2022г.- замечания устранены. | R17: №ЛО-66-01-005095 от 04.12.2017 | S17: Отсутствует | T17: Объект недоступен для детей с ОВЗ и детей-инвалидов. Паспорт доступности б.н. от б.д. | U17: Утверждена приказом директора МБУ ДОЛ "Красная гвоздика" от 25.03.2025 Ссылка на программу: Сайт находится в разработке
A18: 14 | B18: Муниципальное автономное учреждение Детский оздоровительный лагерь «имени А.Гайдара», МАУ ДОЛ «имени А. Гайдара» | C18: Муниципальное автономное учреждение | D18: Худякова Ольга Викторовна | E18: 6659152976 | F18: 623141, Свердловская обл., г. Первоуральск, п. Хрустальный; email: gaidar_ekb@mail.ru | G18: Нет | H18: Загородная организация отдыха детей и их оздоровления | I18: Сезонный | J18: В 2026 году не осуществляет деятельность | K18: 0 | L18: 6,5 - 18 лет | M18: Количество смен в год: 0. Мощность: 246. Проживание: Закрыт на капитальный ремонт. Питание: нет данных. | N18: Отсутствует. | O18: Дата ввода: 1970 год (детский жилой корпус № 19), 1974 год (детский жилой корпус № 10), 2020 год (столовая) | P18: №66.01.37.000.М.001783.06.23 от 22.06.2023 | Q18: В 2022 г.: ГУ МЧС России по Свердловской области, отдел НД и ПР ГО Первоуральск, Шалинского ГО, ГО Староуткинск УНД и ПР: предписание №66-19-2022/0044рс/1 об устранении нарушений требований пожарной безопасности, о проведении мероприятий по обеспечению пожарной безопасности на объектах защиты и по предотвращению угрозы возникновения пожара - срок до 20.05.2023г. Управление Федеральной службы по надзору в сфере защиты прав потребителей и благополучия человека по Свердловской области Территориальный отдел в Орджоникидзевском, Железнодорожном районах города Екатеринбурга, в городе Березовский, в городе Верхняя Пышма: предостережение№66-10-12/14-35451-2022 от 30.06.2022 г.; рекомендации №66-10-12/14-36931-2022 от 26.07.2022. Все предписания устраняются при проведении капитального ремонта. | R18: Отсутствует. Договор на медицинское обслуживание | S18: Отсутствует | T18: Объект будет доступен для детей с нарушением опорно-двигательного аппарата. | U18: Отсутствует
A19: 15 | B19: Муниципальное автономное учреждение детский оздоровительный лагерь «Бригантина», МАУ ДОЛ «Бригантина» (Детский оздоровительный лагерь «Бригантина») | C19: Муниципальное автономное учреждение | D19: Панина Юлия Валерьевна | E19: 6652033610 | F19: 624021, Свердловская обл., р-н Сысертский, территория детского оздоровительного лагеря "Бригантина", зд. 1, корпус 3; тел.: 8(922)164-29-52; email: briga23@mail.ru | G19: https://бригантина.екатеринбург.рф | H19: Загородная организация отдыха детей и их оздоровления | I19: Сезонный | J19: 31.05.2026-13.06.2026, 15.06.2026-24.06.2026, 26.06.2026-09.07.2026, 11.07.2026-31.07.2026, 02.08.2026-15.08.2026, 17.08.2026-30.08.2026 | K19: 2214.29 | L19: 6,5 - 18 лет | M19: Количество смен в год: 6. Мощность:160. Проживание: 2 корпуса, по 6-8 человек в комнате, удобства на этаже. Медпункт.Клуб. Питание: шестиразовое, столовая 200 мест. | N19: Отсутствует. | O19: Дата ввода: 1977 год (спальный корпус № 1), 2014 год (клуб-столовая, медблок). Дата капитального ремонта: 2014 год (спальный корпус № 1, спальный корпус № 2). | P19: №66.01.37.000.М.001599.06.26 от 02.06.2026 | Q19: В 2025 г.: предписание ГУ МЧС России Свердловской области от 27.05.2025: 6 замечаний, срок исполнения 12.04.2027. Предписание Роспотребнадзора от 18.07.2025: 1 замечание, срок исполнения 25.05.2026, выполнено | R19: №ЛО 66-01-005588 от 12.09.2018 | S19: Отсутствует | T19: Объект доступен для детей с ОВЗ и детей-инвалидов по следующим нозологиям: дети с нарушениями опорно-двигательной системы, дети с соматическими заболеваниями. Паспорт доступности от 31.03.2026 | U19: Программа утверждена приказом № 16-ОД от 06.04.2026. Ссылка на программу: https://бригантина.екатеринбург.рф/file/33a891bea615d85ad4a630c6a007d53b
A20: 16 | B20: Филиал Федерального государственного бюджетного учреждения «Комфортная среда»-«Екатеринбург», ФГБУ «Комфортная среда»-«Екатеринбург» (Детский оздоровительный лагерь «Звёздная Академия») | C20: Федеральное государственное бюджетное учреждение | D20: Соловьева Ольга Алексеевна | E20: 7736331124 | F20: 623274, Свердловская обл., г. Ревда, с. Кунгурка, ул. Алмазная, д. 45; тел.: 8(922)169-17-76; email: soloveva_oa.uralakadem@mail.ru | G20: https://comfort-sr.ru/camp/ | H20: Загородная организация отдыха детей и их оздоровления | I20: Круглогодичный | J20: 30.05.2026-12.06.2026, 13.06.2026-26.06.2026, 27.06.2026-10.07.2026, 11.07.2026-24.07.2026, 25.07.2026-07.08.2026, 08.08.2026-21.08.2026, 22.08.2026-31.08.2026 | K20: 2500 | L20: 6,5 - 18 лет | M20: Количество смен в год: 7. Мощность: 220. Проживание: кирпичные двухэтажные здания. Питание: пятиразовое. | N20: Отсутствует. | O20: Дата ввода: 1974 год (административное здание клуба-столовой, изолятор, медпункт, котельная, склад сыпучих продуктов, прачечная с душевыми, надворные туалеты № 1 и № 2, спальные корпуса № 1, 3, 4). Дата капитального ремонта/реконструкции: 2005 год (изолятор, медпункт), 2005–2009 годы (спальные корпуса № 1, 3, 4), 2014 год (административное здание клуба-столовой), 2015 год (котельная - реконструкция), 2017 год (склад сыпучих продуктов), 2018 год (надворные туалеты № 1 и № 2), 2019 год (прачечная с душевыми). | P20: №66.01.37.000.М.001402.05.26 от 27.05.2026 | Q20: В 2025 г.: Предписание от 13.08.2025 №656/2025-121 выдано по результатам плановой проверки территориальным отделом Управления Федеральной службы по надзору в сфере защиты прав потребителей и благополучия человека по Свердловской области. | R20: Отсутствует. Договор № 216 от 22.05.2025 | S20: Отсутствует | T20: Объект доступен для детей с ОВЗ и детей-инвалидов по следующим нозологиям: глухие и слабослышащие, дети с соматическими заболеваниями. Паспорт доступности от 25.03.2025 | U20: Ссылка на программу: https://comfort-sr.ru/camp/
A21: 17 | B21: Муниципальное автономное учреждение детский оздоровительный лагерь «Уральские самоцветы», МАУ ДОЛ «Уральские самоцветы» (Детский оздоровительный лагерь «Уральские самоцветы») | C21: Муниципальное автономное учреждение | D21: Козырев Кирилл Анатольевич | E21: 6652005080 | F21: 624021, Свердловская обл., Сысертский р-н, п. Верхняя Сысерть; тел.: 8(908)909-12-39; email: drozd54@list.ru | G21: https://uralsamosvet.ru | H21: Загородная организация отдыха детей и их оздоровления | I21: Сезонный | J21: 13.03.2026-22.03.2026, 28.03.2026-03.04.2026, 27.05.2026-09.06.2026, 11.06.2026-24.06.2026, 26.06.2026-16.07.2026, 18.07.2026-31.07.2026, 03.08.2026-16.08.2026, 18.08.2026-31.08.2026, 11.09.2026-20.09.2026, 22.09.2026-01.10.2026, 24.10.2026-30.10.2026, 24.12.2026-30.12.2026 | K21: 2100 | L21: 6,5 - 18 лет | M21: Количество смен в год: 12. Мощность: 378. Проживание: три двухэтажных капитальных корпуса; размещение по 9 человек в палате. Питание: шестиразовое, столовая на 300 посадочных мест. | N21: Отсутствует. | O21: Дата ввода: 1968 год (дизельная электростанция (Литер Я), насосная станция, пожарный водоем (Литер Т), спальный корпус № 3 (Литер Л, л, л1), спальный корпус № 4 (Литер П, п, п1, п2), площадка для волейбола, площадка для баскетбола, площадка для бадминтона, площадка для прыжков в высоту, площадка для прыжков в длину, беговая дорожка, футбольное поле, столовая), 1977 год (лечебный корпус № 2 (Литер Д, д, д1, д2)), 1983 год (склад-тарник (литер М, м)), 1988 год (продвещевой склад (литер У)), 1995 год (дом сторожа (Литер Ц)), 1996 год (здание охраны (литер Ш)), 1998 год (спальный корпус № 1 (Литер Ф, ф, ф1, ф2, ф3, ф)), 1999 год (спорткомплекс), 2007 год (насосная с артскважиной (Литер Ж, Ж1)), 2014 год (открытая эстрадная площадка, котельная). | P21: №66.01.37.000.М.001377.05.26 от 27.05.2026 | R21: №Л041-01021-66/00314094 от 19.06.2017 | S21: №Л035-01277-66/01019044 от 12.01.2024 | T21: Объект доступен частично для детей с ОВЗ и детей-инвалидов по следующим нозологиям: дети с нарушениями зрения, с умственными нарушениями, с нарушениями опорно-двигательной системы и передвигающихся на креслах-колясках. Паспорт доступности № 1 от 10.06.2024 | U21: Утверждена приказом директора МАУ ДОЛ "Уральские самоцветы" от 26.05.2025 № 01 Ссылка на программу: https://clck.ru/3NYB32
A22: 18 | B22: Муниципальное автономное учреждение детский оздоровительный лагерь «им.Титова», МАУ ДОЛ «им.Титова» (Детский оздоровительный лагерь «им.Титова») | C22: Муниципальное автономное учреждение | D22: Екенин Алексей Сергеевич | E22: 6652019686 | F22: 624021, Свердловская обл., Сысертский р-н, 1,1 км западней п. Верхняя Сысерть; тел.: 8(34374) 2-55-38; email: 89521433333@yandex.ru | G22: https://lager-titova.ru/ | H22: Загородная организация отдыха детей и их оздоровления | I22: Круглогодичный | J22: 25.05.2026-31.05.2026, 02.06.2026-15.06.2026, 17.06.2026-30.06.2026, 02.07.2026-22.07.2026, 30.07.2026-12.08.2026, 12.08.2026-25.08.2026 | K22: 2142,85 (7 дн.); 2142,85 (14 дн.); 1952,80 (21 дн.). | L22: 6,5 - 18 лет | M22: Количество смен в год: 6. Мощность: 92. Проживание: одноэтажные корпуса 1,3, количество мест: 32, спальных помещений 4., двухэтажный корпус на 60 мест, спальные помещения 4х4 чел., 4х5 чел., 4х6 чел. Питание: шестиразовое | N22: Отсутствует. | O22: Дата ввода: 1962 год (здание банно-прачечной с котельной), 2013 год (спальный двухэтажный корпус), 2014 год (здание медицинского блока), 2019 год (здание столовой), 2023 год (спальный двухэтажный корпус). | P22: №66.01.37.000.М.001324.05.26 от 26.05.2026 | Q22: В 2024 г.: Проверка Отдела надзорной деятельности и профилактической работы (пожнадзор)от 26.04.2024г (замечания устраняются),.. ФБУЗ "Центр гигиены и эпидемиологии в Свердловской 09.09.2024г. (замечания устраняются) | R22: №Л041-01021-66/01243354 от 11.06.2024 | S22: Отсутствует | T22: Объект условно доступен для детей с ОВЗ и детей-инвалидов по следующим нозологиям: дети с умственными нарушениями; с нарушениями зрения, с нарушениями слуха, с нарушениями опорно-двигательного аппарата и передвигающихся на креслах-колясках Паспорт доступности № 5-02/07 от 02.07.2024 | U22: Ссылка на программу: https://lager-titova.ru/wp-content/uploads/2026/06/mau-dol-im.titova_programma-vr_2026.pdf
A23: 19 | B23: Муниципальное бюджетное учреждение Детский оздоровительный лагерь «Спутник», МБУ ДОЛ «Спутник» (Детский оздоровительный лагерь «Спутник») | C23: Муниципальное бюджетное учреждение | D23: Патрушев Андрей Сергеевич | E23: 6652016808 | F23: 624000, Свердловская обл., Сысертский р-н, г. Арамиль, ул. Красногорская, д. 2; тел.: 8(922)125-10-90; email: 89221251090@yandex.ru | G23: https://долспутник.екатеринбург.рф | H23: Загородная организация отдыха детей и их оздоровления | I23: Сезонный | J23: 27.05.2026-09.06.2026, 11.06.2026-24.06.2026, 26.06.2026-09.07.2026, 11.07.2026-24.07.2026, 26.07.2026-01.08.2026, 02.08.2026-08.08.2026, 11.08.2026-31.08.2026 | K23: 2126.99 | L23: 6,5 - 18 лет | M23: Количество смен в год: 7. Мощность: 175. Проживание: в неблагоустроенных спальных одноэтажных корпусах от 5 до 8 человек в комнате, а также один коттедж (благоустроенный кирпичный двухэтажный спальный корпус) с номерами от 3 до 6 человек. Питание: пятиразовое | N23: Отсутствует. | O23: Дата ввода: 1962 год (спальные корпуса № 1–8, кружковые), 1970 год (уборные), 1977 год (клуб-столовая), 1979 год (душевые), 1982 год (умывальные, здание младших классов), 1987 год (коттедж), 2007 год (медицинский блок). Дата капитального ремонта: 2016 год (душевые, спальный корпус № 8), 2017 год (спальные корпуса № 1–4), 2018 год (спальные корпуса № 5–7), 2019 год (здание младших классов, кружковые). | P23: №66.01.37.000.М.002011.08.26 от 11.08.2026, №66.01.37.000.М.001539.05.26 от 29.05.2026 | Q23: В 2025 г.: Предписание Отдела надзорной деятельности и профилактической работы Сысертского городского округа, Арамильского городского округа УНД и ПР Главного управления МЧС России Свердловской области №2005/027-66/33-В/ПВП от 28.05.2025 года. Срок выполнения - 15.04.2026. Предписание Федеральной Службы по надзору в сфере защиты прав потребителей и благополучия человека" № 66-15-17/04-11296-2025 от 08.08.2025г, срок выполнения - 18.08.2025 | R23: №ЛО-66-01-005094 от 04.12.2017 | S23: Отсутствует | T23: Объект доступен для детей с ОВЗ и детей-инвалидов по следующим нозологиям: дети с тяжелыми нарушениями речи, дети с ментальными нарушениями; дети с соматическими заболеваниями, глухие и слабослышащие. Паспорт доступности от _______. | U23: Программа воспитания утверждена МБУ ДОЛ "Спутник". Приказ №18 от 20.05.2025 года Ссылка на программу: https://долспутник.екатеринбург.рф/dokumenty
A24: 20 | B24: Муниципальное автономное учреждение детский оздоровительный лагерь «Рассветный», МАУ ДОЛ «Рассветный» (Детский оздоровительный лагерь «Рассветный») | C24: Муниципальное автономное учреждение | D24: и.о. директора Юрьева Ксения Александровна | E24: 6652021036 | F24: 624013, Свердловская обл., Сысертский р-н, с. Кадниково; тел.: 8(922)122-72-47; email: rassvet-dol@mail.ru | G24: https://rassvet-dol.ru/ | H24: Загородная организация отдыха детей и их оздоровления | I24: Сезонный | J24: 27.05.2026-09.06.2026, 12.06.2026-25.06.2026, 28.06.2026-07.07.2026, 10.07.2026-23.07.2026, 26.07.2026-15.08.2026, 18.08.2026-31.08.2026 | K24: 2202.3 | L24: 6,6 - 17 лет | M24: Количество смен в год: 6. Мощность: 320. Проживание: 5 кирпичных двухэтажных корпусов, по 4 человека в комнате. Медицинский блок. Библиотека. Летняя площадка для проведения мероприятий. Питание: пятиразовое, столовая 400 мест. | N24: Отсутствует. | O24: Дата ввода: 1956 год. Дата капитального ремонта: 2020 год (6 спальный корпус), 2023 год (3 спальный корпус). | P24: №66.01.37.000.М.001408.05.26 от 27.05.2026 | Q24: В 2025 г.: Выдано предписание ОНД и профилактикой работы Сысертского ГО, Арамильского ГО ГУ МЧС России по Свердловской области от 27.05.2025 № 2505/027-66/34-В/ПВП. Устранить недостатки до 15.04.2026. В 2026 г.: Выдано предписание ОНД и профилактикой работы Сысертского ГО, Арамильского ГО ГУ МЧС России по Свердловской области от 27.05.2025 № 2505/027-66/34-В/ПВП. Устранить недостатки до 12.04.2027. | R24: №ЛО-66-01-005153 от 26.12.2017 | S24: Отсутствует | T24: Объект доступен для детей с ОВЗ и детей-инвалидов по следующим нозологиям: слепые и слабовидящие, глухие и слабослышащие, дети с тяжелыми нарушениями речи, дети с ментальными нарушениями, дети с соматическими заболеваниями. Паспорт доступности от 04.02.2026 | U24: Программа воспитательной работы утверждена МАУ ДОЛ "Рассветный" Приказ № 16-ОД от 02.02.2026 Ссылка на программу: https://cloud.mail.ru/public/Mhrb/Un44Pmwj6
A25: 21 | B25: Муниципальное автономное учреждение «Загородный стационарный детский оздоровительный лагерь «Спутник», МАУ «ЗСДОЛ «Спутник» (Загородный стационарный детский оздоровительный лагерь «Спутник») | C25: Муниципальное автономное учреждение | D25: Тасенко Дамира Майрамбековна | E25: 6601013750 | F25: 624600 , Свердловская обл., г. Алапаевск, ул. Фрунзе, д. 43; тел.: 8(34346)2-11-84, 8(34346)71-2-90; email: mkuzsdol.sputnik@mail.ru | G25: https://alapsputnik.nasmene.ru/ | H25: Загородная организация отдыха детей и их оздоровления | I25: Сезонный | J25: 01.06.2026-07.06.2026, 09.06.2026-29.06.2026, 01.07.2026-16.07.2026, 18.07.2026-02.08.2026, 04.08.2026-19.08.2026, 21.08.2026-27.08.2026 | K25: 1331 | L25: 6,5 - 17 лет | M25: Количество смен в год: 6. Мощность: 200. Проживание: в отдельных корпусах по 32 чел. в каждом, в 4- комнатах по 8 человек. Разработана программа для проведения профильных смен с учетом направленности на спортивную, образовательную, патриотическую, творческую и культурно-досуговую деятельность. Питание: сбалансированное шестиразовое питание. | N25: Отсутствует. | O25: Дата ввода: 1956 г. | P25: №66.01.37.000. М.000983.05.26 от 14.05.2026 | Q25: В 2025 г.: Профилактические визиты органами, осуществляющими государственный контроль (надзор), нарушения устранены. Предписаний в 2025 году нет | R25: №ЛО41-01021-66/0497965 от 22.01.2026 | S25: Отсутствует | T25: Объект частично доступен для детей с ОВЗ и детей-инвалидов по следующим нозологиям: дети с соматическими заболеваниями; дети с задержкой психического развития; дети с нарушением речи; дети с эндокринными заболеваниями (сахарный диабет, пищевая аллергия). Паспорт доступности утвержден 27.05.2024 | U25: Программа воспитания МАУ ЗСДОЛ «Спутник» утверждена МАУ ЗСДОЛ «Спутник», Приказ № 20 от 09.06.2025г. Ссылка: https://clck.su/PVGkY
A26: 22 | B26: Муниципальное учреждение «Молодежный центр «Факел», МУ «МЦ «ФАКЕЛ» (Молодежный центр «Факел») | C26: Муниципальное автономное учреждение | D26: Коротких Ольга Владимировна | E26: 6601010621 | F26: 624641, Свердловская обл., Алапаевский р-н, с. Нижняя Синячиха, ул. Устье, д. 11; тел.: 8(34346)7-52-32; email: mymcfakel@mail.ru | G26: https://mcfakel.nasmene.ru/ | H26: Загородная организация отдыха детей и их оздоровления | I26: Сезонный | J26: 01.06.2026-14.06.2026, 16.06.2026-29.06.2026, 01.07.2026-14.07.2026, 16.07.2026-29.07.2026, 01.08.2026-14.08.2026, 17.08.2026-30.08.2026 | K26: 1794.04 | L26: 6,5 - 18 лет | M26: Количество смен в год: 6. Мощность: 98. Проживание: в спальных корпусах. Питание: шестиразовое | N26: Отсутствует. | O26: Дата ввода: 1960 год (спальный корпус № 1), 1965 год (спальный корпус № 3), 1994 год (штаб, административное здание, здание столовой, здание генераторной, котельная). Дата капитального ремонта: 2023 год (спальный корпус № 3), 2025 год (спальный корпус № 1). | P26: №66.01.37.000.М.000966.05.26 от 13.05.2026 | Q26: В 2025 г.: плановая проверка Территориального отдела Управления Федеральной службы по надзору в сфере защиты прав потребителей и благополучия человека по Свердловской области в городе Алапаевск, Алапаевском, Артемовском и Режевском районах. Предписание от 19.08.2025г. № 66-02-01/30-3228-2025, нарушения устранены | R26: Отсутствует. Договор на оказание медицинского обслуживания в процессе заключения | S26: Отсутствует | T26: Объект условно доступен для детей с ОВЗ и детей-инвалидов по следующим нозологиям: дети с задержкой психического развития; дети с отклонениямив эмоциональной и волевой области. | U26: Программа утверждена приказом от 14.04.2026г. № 26/1у. Ссылка на программу: https://clc.li/qwSRB
A27: 23 | B27: Муниципальное автономное учреждение Детский загородный оздоровительный лагерь «Родничок», МАУ ДЗОЛ «Родничок» (Детский загородный оздоровительный лагерь «Родничок») | C27: Муниципальное автономное учреждение | D27: Гапонова Екатерина Валерьевна | E27: 6676004777 | F27: 623950, Свердловская обл., г. Тавда, ул. Мельничная, д. 14; тел.: 8(34360)5-01-80, 5-01-81; email: tavda.rodnichok@mail.ru | G27: https://tavda-rodnichok.profiedu.ru/ | H27: Загородная организация отдыха детей и их оздоровления | I27: Круглогодичный | J27: 05.01.2026-11.01.2026, 29.03.2026-04.04.2026, 28.05.2026-10.06.2026, 13.06.2026-19.06.2026, 22.06.2026-12.07.2026, 15.07.2026-28.07.2026, 31.07.2026-13.08.2026, 16.08.2026-29.08.2026, 25.10.2026-31.10.2026 | K27: 1810,29 (7 дн.); 1959,43 (14 дн.); 1619,71 (21 дн.) | L27: 6,5 - 18 лет | M27: Количество смен в год: 9. Мощность: 80. Проживание: кирпичные одно - и двухэтажные корпуса, комнаты на 3, 5, 8 человек. Питание: пятиразовое | N27: Имеется. Закрытый бассейн | O27: Дата ввода: 1952 год (столовая), 1958 год (здание бани, прачечная), 1969 год (овощехранилище), 1979 год (корпус №1), 1991 год (здание гаража-котельной). 2006 год (корпус №2), 2007 год (корпус №3). Дата капитального ремонта: 2015 год (здание бани, прачечная), 2016 год (столовая), 2018 год (корпус №1, корпус №2, корпус №3), 2019 год (здание гаража-котельной). | P27: №66.01.37.000.М.000422.03.26 от 26.03.2026 | Q27: В 2025 г.: Отдел надзорной деятельности и профилактической работы Тавдинского муниципального округа, Таборинского муниципального района управления надзорной деятельности и профилактической работы Главного управления МЧС России по Свердловской области - Предписание от 21.05.2025 №2505/028-66/1-ВО/П: Нарушения устранены Отдел надзорной деятельности и профилактической работы Тавдинского муниципального округа, Таборинского муниципального района управления надзорной деятельности и профилактической работы Главного управления МЧС России по Свердловской области - Предписание от 09.09.2025 №2505/028-66/30-ВО/П: Нарушение устранено Управление Федеральной службы по надзору в сфере защиты прав потребителей и благополучия человека по Свердловской области - Предписание 23.06.2025г. №66-04-11/12-2641-2025: Нарушения устранены Управление Федеральной службы по надзору в сфере защиты прав потребителей и благополучия человека по Свердловской области - Предписание 23.06.2025г. №66-04-11/12-2452-2025: Запланировано к устранению во втором квартале 2026 г. | R27: Отсутствует. Договор № МО-1 ГАУЗ СО "Тавдинская ЦРБ" от 26.12.2024 | S27: №Л035-01277-66/00193508 от 02.03.2020. Бессрочно. | T27: Объект частично доступен для детей с ОВЗ и детей-инвалидов по следующим нозологиям: глухие и слабослышащие, слепые и слабовидящие, дети с нарушениями опорно-двигательной системы, дети с тяжелыми нарушениями речи, дети с ментальными нарушениями, дети с соматическими заболеваниями. Паспорт доступности от 09.02.2026 | U27: Программа воспитания утверждена МАУ ДЗОЛ "Родничок". Приказ от 20.03.2026 № 23-од https://tavda-rodnichok.profiedu.ru/sveden/document
A28: 24 | B28: Муниципальное автономное образовательное учреждение дополнительного образования - Загородный оздоровительный лагерь Городского округа «город Ирбит» Свердловской области «Оздоровительно-образовательный центр «Салют», МАОУ ДО ЗОЛ «ООЦ »САЛЮТ» (Оздоровительно-образовательный центр «Салют») | C28: Муниципальное автономное учреждение | D28: Бессонова Татьяна Геннадьевна | E28: 6676001945 | F28: 623811, Свердловская обл., Ирбитский р-н, урочище "Белая горка", 3км+195 м. (слева) автомобильной дороги "д. Речкалова - д. Симонова". 623811, Свердловская обл., Ирбитское МО, урочище "Белая горка" 3км+415 м. (слева) автомобильной дороги "д. Речкалова - д. Симонова"; тел.: 8(34355)6-45-32, 5-18-90; email: info@salytzol.ru | G28: http://irbitsalut.ru | H28: Загородная организация отдыха детей и их оздоровления | I28: Круглогодичный | J28: 03.01.2026-09.01.2026, 14.02.2026-20.02.2026, 28.03.2026-03.04.2026, 30.05.2026-12.06.2026, 15.06.2026-28.06.2026, 01.07.2026-14.07.2026, 17.07.2026-30.07.2026, 02.08.2026-15.08.2026, 18.08.2026-31.08.2026, 26.10.2026-01.11.2026 | K28: 1632.64 | L28: 6,5 - 18 лет | M28: Количество смен в год: 10. Мощность: 330. Проживание: капитальные здания - 2 этажа (спальные комнаты, игровые комнаты, помещения для кружков, туалетные комнаты). Питание: шестиразовое. | N28: Отсутствует. | O28: Дата ввода: 1949 год (столовая, здание литер Б), 1972 год (здание литер А, здание литер В), 1982 год (здание литер А3 — два объекта). Дата капитального ремонта: 2022–2023 г. (столовая, здание литер Б), 2023 год (здание литер А3 — два объекта), 2024 год (здание литер В), 2025 год (здание литер А). | P28: №66.01.37.000.М.001161.05.26 от 21.05.2026 | Q28: В 2024 г.: Территориальным отделом РПН по Свердловской области в Ирбите, Ирбитском, Слободо-Туринском, Тавдинском, Таборинском и Туринском районах: 1) Плановая выездная проверка: в период 03.06.2024г. - 17.06.2024г., акт от 17.06.2024 №66-04-12/11-2624-2024. Имеется предписание, одно замечание на стадии исполнения; 2) Плановая выездная проверка в период 05.08.2024г. - 16.08.2024г.; акт от 16.08.2024 №66-04-12/11-1355-2024. Замечания устранены. | R28: №Л041-01021-66/04284107 от 03.02.2026 | S28: Отсутствует | T28: Объект доступен для детей с ОВЗ и детей-инвалидов по следующим нозологиям: для передвигающихся на креслах-колясках, с нарушениями опорно-двигательного аппарата, с нарушениями слуха, с умственными нарушениями (доступен частично (с организацией дополнительной помощи сотрудника)); с нарушениями зрения (объект доступен условно (с организацией дополнительной помощи сотрудника). Паспорт доступности от 27.01.2025 | U28: Программа воспитания утверждена МАОУ ДО ЗОЛ "ООЦ "Салют" Приказ №33/1 от 16.05.2023 Ссылка: https://irbitsalut.ru/uploadedFiles/files/programma-vospitaniya/programma-vospitaniya.pdf
A29: 25 | B29: Муниципальное автономное оздоровительно-образовательное учреждение дополнительного образования «Детский центр «Гурино», МАООУ ДО «ДЦ «Гурино» ( Детский центр «Гурино») | C29: Муниципальное автономное учреждение | D29: Пестова Елена Владимировна | E29: 6633020189 | F29: 623650, Свердловская обл., Тугулымский р-н, д. Гурина; тел.: 8(34367)2-16-50; email: gurino1@mail.ru | G29: https://lager-gurino.profiedu.ru | H29: Загородная организация отдыха детей и их оздоровления | I29: Сезонный | J29: 01.06.2026-14.06.2026, 16.06.2026-29.06.2026, 01.07.2026-21.07.2026, 23.07.2026-05.08.2026, 07.08.2026-20.08.2026, 22.08.2026-28.08.2026 | K29: 1495 | L29: 6,5 - 17 лет | M29: Количество смен в год: 5. Мощность: 175. Проживание: 9 спальных корпусов, по 5-9 человек в комнате, удобства на улице. Питание: пятиразовое, столовая 120 мест. | N29: Отсутствует. | O29: Дата ввода: 1948 год (спальные корпуса № 1, 2, 3, 4, 6, 7, 8, 9). | P29: №66.01.37.000.М.001625.06.26 от 02.06.2026 | Q29: В 2025 г.: предписание ОНД и ПР Талицкого ГО, Тугулымского ГО УНД и ПР ГУ МЧС России по Свердловской области от 05.05.2025 № 66250061000217954260: 3 замечания, срок исполнения 01.09.2025. Устранено 3 замечания. В 2025 г. предписание Управления Роспотребнадзора по Свердловской области от 28.07.2025 № 66-14-12/11-3211-2025: 21 замечание, срок исполнение 20.04.2026. Устранено 16 замечаний. | R29: Отсутствует. Договор № 19-2026/МСП от 31.03.2026 | S29: Отсутствует | T29: Объект доступен для детей с ОВЗ и детей-инвалидов по следующим нозологиям: слабовидящие, слабослышащие. Паспорт доступности от 09.04.2025 | U29: Программа утверждена приказом от 17.02.2026 № 4. Ссылка на программу: https://clck.su/HylMe
A30: 26 | B30: Муниципальное автономное учреждение «Загородный оздоровительный лагерь для детей «Чайка», МАУ «ЗОЛ для детей «Чайка» (Загородный оздоровительный лагерь для детей «Чайка») | C30: Муниципальное автономное учреждение | D30: Глазырина Светлана Викторовна | E30: 6619012965 | F30: 623300, Свердловская обл., Красноуфимский р-н, д. Межевая, примерно в 300 метрах на восток от дома № 1 по ул. Набережная; тел.: 8 (343 94) 6-83-04, 8 (343 94) 6-81-81; email: glazirina---73@mail.ru | G30: https://chayka-kruf.nasmene.ru/ | H30: Загородная организация отдыха детей и их оздоровления | I30: Сезонный | J30: 27.05.2026-09.06.2026, 11.06.2026-01.07.2026, 03.07.2026-16.07.2026, 18.07.2026-31.07.2026, 02.08.2026-15.08.2026, 17.08.2026-30.08.2026 | K30: 21 800,0 (14 дн.); 32 700,0 (21 дн.) | L30: 6,5 - 17 лет | M30: Количество смен в год: 6. Мощность: 205. Проживание: 4 корпуса, по 4-12 человек в комнате, удобства на этаже. Стадион, клуб, медпункт. Питание: пятиразовое, столовая 200 мест. | N30: Отсутствует. | O30: Дата ввода: 1952–1980 годы (основные здания — период постройки), декабрь 2025 года (модульный быстровозводимый спальный корпус на 49 человек). Дата капитального ремонта: 2014 год (столовая), 2016 год (1-й корпус), 2017 год (клуб), 2018 год (3-й корпус), 2019 год (2-й корпус). | P30: №66.01.37.000.М.001239.05.26 от 22.05.2026 | Q30: В 2025 г.: Проведена проверка Роспотребнадзора с 02.06.2025 по 17.07.2025. Получены предписания об устранении выявленных нарушений и о проведении мероприятий по предотвращению причинения вреда № 6/2025-224/2 от 17.06.2025 г. Срок исполнения 01.06.2026 г. | R30: Отсутствует. Договор № 109 от 14.01.2025 | S30: №ЛО-35-01277-66/03079497 от 29.08.2025 | T30: Объект доступен для детей с ОВЗ и детей-инвалидов по следующим нозологиям: слабослышащие, с нарушением опорно-двигательного аппарата; с умственными нарушениями. Паспорт доступности объекта утвержден Приказ № 05-од от 01.04.2026 г. | U30: Программа утвердена приказом № 10-од от 20.05.2025 г. Ссылка на программу: https://chayka-kruf.nasmene.ru/lager/org-recreation/documents
