Workbook
Name _GoBack: Реестр!$AF$5

Sheet Реестр
W1: Приложение к приказу Депобразования и науки Югры
B3: Реестр организаций отдыха детей и их оздоровления Ханты-Мансийского автономного округа – Югры
B4: № п.п. | C4: Полное и сокращенное (если имеется) наименование организации отдыха и их оздоровления | D4: Организационно-правовая форма организации отдыха и их оздоровления | E4: Ф.И.О. руководителя организации отдыха и их оздоровления | F4: ИНН | G4: Адрес организации отдыха и их оздоровления | I4: Официальный сайт организации отдыха и их оздоровления в информационно-телекоммуникационной системе «Интернет» (при наличии) | J4: Тип организации отдыха детей и их оздоровления | K4: Предоставляемые организацией отдыха и их оздоровления услуги в сфере отдыха и оздоровления детей | Q4: Дата ввода используемых организацией отдыха и их оздоровления объектов (для организаций стационарного типа) и дата проведения капитального ремонта) | R4: Информация о наличии санитарно-эпидемиологического заключения, а также дата выдачи указанного заключения | S4: С какого числа получено заключение/ до какого числа действует | T4: Действующие | U4: Недействующие | W4: Информация о результатах проведенных проверок осуществляющими государственный контроль (надзор), плановых и внеплановых проверок по итогам предыдущего года | X4: Информация о наличии лицензии на осуществление медицинской деятельности | Y4: Информация о наличии лицензии на осуществление образовательной деятельности | Z4: Обеспечение в организации отдыха детей и их оздоровления доступности услуг для детей-инвалидов и детей с ограниченными возможностями здоровья | AD4: Сведения о наличии программы воспитательной работы и календарного плана воспитательной работы с описанием конкретных мероприятий по дням с учетом смен и возрастных групп детей
G6: Юридический адрес | H6: Фактический адрес (в том числе контактный телефон и адрес электронный почты) | K6: Режим работы организации отдыха детей и их оздоровления (сезонный/круглогодичный) | L6: Даты проведения смен | M6: Средняя стоимость 1 дня пребывания в организации отдыха детей и их оздоровления | N6: Возрастная категория детей, принимаемы в организациях детей и их оздоровления | O6: Информация о проживании и питании в организации отдыха детей и их оздоровления | P6: Наличие оборудованного места для купания | S6: дд.мм.гггг / дд.мм.гггг | V6: На какой стадии находится получение нового Заключения: Документы направлены/ заключение в стадии получения/
A7: =SUM(A8:A27) -> 18 | B7: Белоярский район
A8: 1 | B8: 1 | C8: Муниципальное автономное общеобразовательное учреждение Белоярского района «Средняя общеобразовательная школа № 1 г.Белоярский» (СОШ №1 г. Белоярский), лагерь с дневным пребыванием детей «ПроДвижение» | D8: Некоммерческкая организация, автономное муниципальное учреждение | E8: Пакулев Евгений Анатольевич | F8: ИНН 8611005720 | G8: 628162, Тюменская область, ХМАО –Югра, г.Белоярский, ул.Школьная,д.6; тел.8-34670-21392; E-mail: belsh-1@yandex.ru | H8: 628162, Тюменская область, ХМАО –Югра, г.Белоярский, ул.Школьная,д.6; тел.8-34670-21392; E-mail: belsh-1@yandex.ru | I8: https://belsosh1.gosuslugi.ru | J8: Лагерь с дневным пребыванием детей в соответствии с приказом Министерства образования и науки Российской Федерации от 13.07.2017 № 656 «Об утверждении примерных положений об организациях отдыха и оздоровления детей». | K8: Сезонный | L8: Весенняя смена: с 28.03.2026 по 04.04.2026 1 летняя смена: с 01.06.2026 по 26.06.2026 2 летняя смена с 01.07.2026г. по 29.07.2026 Осенняя смена: с 24.10.2026 по 31.11.2026 | M8: 1850,0 руб. | N8: от 6 до 17 лет (включительно) | O8: Проживание детей в период проведения смен не предусмотрено. Обеспечивается: 2-х разовое питание | P8: Отсутствует | Q8: Здание общеобразовательного учреждения введено в эксплуатацию в 1974 г.(реконструкция в 2008 г.). | R8: Санитарно–эпидемиологическое заключение выдано Федеральной службой по надзору в сфере защиты прав потребителей и благополучия человека территориального отдела Управления по ХМАО – Югре в Белоярском и Берёзовском районе заключение на здание, строение, сооружение, помещения, оборудование и иное имущество, используемое для осуществления деятельности детских лагерей на время каникул №86.БЯ.01.000.М.000007.03.26 от 05.03.2026г.. | S8: В течение 2025 года проводилась проверка Управлением Роспотребнадзора по ХМАО-Югре в Белоярском районе и Березовском районе. От 17.06.2025 года. Нарушения не выявлены. | T8: Санитарно–эпидемиологическое заключение выдано Федеральной службой по надзору в сфере защиты прав потребителей и благополучия человека территориального отдела Управления по ХМАО – Югре в Белоярском и Берёзовском районе заключение на здание, строение, сооружение, помещения, оборудование и иное имущество, используемое для осуществления деятельности детских лагерей на время каникул №86.БЯ.01.000.М.000007.03.26 от 05.03.2026г.. | U8: В течение 2025 года проводилась проверка Управлением Роспотребнадзора по ХМАО-Югре в Белоярском районе и Березовском районе. От 17.06.2025 года. Нарушения не выявлены. | V8: Санитарно–эпидемиологическое заключение выдано Федеральной службой по надзору в сфере защиты прав потребителей и благополучия человека территориального отдела Управления по ХМАО – Югре в Белоярском и Берёзовском районе заключение на здание, строение, сооружение, помещения, оборудование и иное имущество, используемое для осуществления деятельности детских лагерей на время каникул №86.БЯ.01.000.М.000007.03.26 от 05.03.2026г.. | W8: В течение 2025 года проводилась проверка Управлением Роспотребнадзора по ХМАО-Югре в Белоярском районе и Березовском районе. От 17.06.2025 года. Нарушения не выявлены. | X8: Договор о взаимодействии муниципального автономного общеобразовательного учреждения Белоярского района «Средняя общеобразовательная школа № 1 г.Белоярский» с бюджетным учреждением ХМАО-Югры «Белоярская районная больница» от 01.01.2020г. б/н. | Y8: Лицензия № 3065 от 27.03.2018г. на осуществление образовательной деятельности. Уровень образования: -начальное общее образование; -основное общее образование; -среднее общее образование; -дополнительное образование. Подвиды: дополнительное образование детей и взрослых. | Z8: Паспорт доступности объекта социальной инфраструктуры (ОСИ) №1 Муниципального автономного общеобразовательного учреждения Белоярского района «Средняя общеобразовательная школа № 1 г.Белоярский» (СОШ №1 г. Белоярский) от 28.04.2016г. | AB8: 1 | AD8: https://shkola1beloyarskij-r86.gosweb.gosuslugi.ru/glavnoe/organizatsiya-otdyha/lager-s-dnevnym-prebyvaniem-detey/ob-organizatsii-otdyha-detey-i-ih-ozdorovleniya/dokumenty/
A9: 1 | B9: 2 | C9: Муниципальное автономное общеобразовательное учреждение Белоярского района «Средняя общеобразовательная школа № 2 г. Белоярский» (СОШ № 2 г. Белоярский), лагерь с дневным пребыванием детей «Остров дружбы» | D9: Некоммерческая организация, автономное муниципальное учреждение | E9: Исаченко Наталья Валентиновна | F9: 8611005705 | G9: 628162, Россия, ХМАО – Югра, г. Белоярский, микрорайон 3, дом 34. bel2@bel2school.ru http://sosh2bel.ru/ 628162, Россия, ХМАО – Югра, г. Белоярский, микрорайон 3, дом 34. bel2@bel2school.ru http://sosh2bel.ru/ | H9: 628162, Россия, ХМАО – Югра, г. Белоярский, микрорайон 3, дом 34. bel2@bel2school.ru http://sosh2bel.ru/ | I9: sosh2bel.gosuslugi.ru | J9: Лагерь с дневным пребыванием детей в соответствии с приказом Министерства образования и науки Российской Федерации от 13.07.2017№ 656 «Об утверждении примерных положений об организациях отдыха и оздоровления детей» | K9: Сезонный | L9: Весенняя смена: с 28.03.2026 по 04.04.2026 1 летняя смена: с 01.06.2026 по 26.06.2026 Осенняя смена: с 24.10.2026 по 31.10.2026 | M9: 1850,0 руб. | N9: от 6 до 17 лет (включительно) | O9: Проживание детей в период проведения смен не предусмотрено. Обеспечивается: 2-х разовое питание в каждую смену. | P9: отсутствует | Q9: Здание СОШ № 2 г. Белоярский, 1981 год Спортивные сооружения: - волейбольная площадка, 2013 год - баскетбольная площадка, 2013 год - гимнастический городок, 2013 год - полоса препятствий, 2013 год | R9: Санитарно–эпидемиологическое заключение выдано Федеральной службой по надзору в сфере защиты прав потребителей и благополучия человека территориального отдела Управления по ХМАО – Югре в Белоярском и Берёзовском районе заключение на здание, строение, сооружение, помещения, оборудование и иное имущество, используемое для осуществления деятельности детских лагерей на время каникул №86.БЯ.01.000.М.000012.03.26 от 17.03.2026 г.. | S9: Акт обязательного профилактического визита от 21.07.2025 г. Замечаний нет | T9: Санитарно–эпидемиологическое заключение выдано Федеральной службой по надзору в сфере защиты прав потребителей и благополучия человека территориального отдела Управления по ХМАО – Югре в Белоярском и Берёзовском районе заключение на здание, строение, сооружение, помещения, оборудование и иное имущество, используемое для осуществления деятельности детских лагерей на время каникул №86.БЯ.01.000.М.000012.03.26 от 17.03.2026 г.. | U9: Акт обязательного профилактического визита от 21.07.2025 г. Замечаний нет | V9: Санитарно–эпидемиологическое заключение выдано Федеральной службой по надзору в сфере защиты прав потребителей и благополучия человека территориального отдела Управления по ХМАО – Югре в Белоярском и Берёзовском районе заключение на здание, строение, сооружение, помещения, оборудование и иное имущество, используемое для осуществления деятельности детских лагерей на время каникул №86.БЯ.01.000.М.000012.03.26 от 17.03.2026 г.. | W9: Акт обязательного профилактического визита от 21.07.2025 г. Замечаний нет | X9: Договор от 01.01.2017 г. б/н о взаимодействии с БУ ХМАО – Югры «Белоярская районная больница» | Y9: Лицензия от 27 марта 2018 года № 3066 на осуществление образовательной деятельности по общему (начальному, основному, среднему) образованию, дополнительному образованию детей и взрослых | Z9: Паспорт доступности объекта соуиальной инфраструктуры (ОСИ) МАОУ СОШ № 2 г. Белоярский, утвержденный 28 апреля 2016 г. | AB9: 1 | AD9: https://shkola2beloyarskij-r86.gosweb.gosuslugi.ru/glavnoe/ob-organizatsii-otdyha-detey-i-ih-ozdorovlenii/lager-s-dnevnym-prebyvaniem-detey-ostrov-druzhby/ob-organizatsii-otdyha-detey-i-ih-ozdorovlenii/dokumenty/
A10: 1 | B10: 3 | C10: Муниципальное автономное общеобразовательное учреждение Белоярского района «Средняя общеобразовательная школа №3 г. Белоярский», лагерь с дневным пребыванием детей | D10: Некоммерческая организация, муниципальное автономное учреждение | E10: Меньщикова Ольга Владимировна | F10: 8611005656 | G10: 628162, Россия, ХМАО-Югра, г. Белоярский, 3 микрорайон, д. 36. (34670) 2-16-90 priem@86school3.ru http://86school3.ru/ | H10: 628162, Россия, ХМАО-Югра, г. Белоярский, 3 микрорайон, д. 36. (34670) 2-16-90 priem@86school3.ru http://86school3.ru/ | I10: https://86school3.gosuslugi.ru/ | J10: Лагерь с дневным пребыванием детей в соответствии с приказом Министерства образования и науки Российской Федерации от 13.07.2017 № 656 «Об утверждении примерных положений об организациях отдыха и оздоровления детей» | K10: Сезонный | L10: Весенняя смена: с 28.03.2026 по 04.04.2026 1 летняя смена: с 01.06.2026 по 26.06.2026 Осенняя смена: с 24.10.2026 по 31.19.2026 | M10: 1850,0 руб. | N10: от 6 до 17 лет (включительно) | O10: Проживание детей в период проведения смен не предусмотрено. Обеспечивается 2-х разовое питание | P10: Отсутствует | Q10: Здание школы (корпус 1) – введено в эксплуатацию в 1987 году; здание школы (корпус 2) – введено в эксплуатацию в 1979 году. | R10: Санитарно–эпидемиологическое заключение выдано Федеральной службой по надзору в сфере защиты прав потребителей и благополучия человека территориального отдела Управления по ХМАО – Югре в Белоярском и Берёзовском районе заключение на здание, строение, сооружение, помещения, оборудование и иное имущество, используемое для осуществления деятельности детских лагерей на время каникул №86.БЯ.01.000.М.000013.03.26 от 17.03.2026 г.. | S10: В течение 2025 года проведена одна плановая проверка управлением Роспотребназора по ХМАО-Югре в Белоярском районе и Березовском районе. Выявленные нарушения устранены (Акт профилактическго визита от 21.07.2025 г.) | T10: Договор от 01 января 2026 года о взаимодействии муниципального автономного общеобразовательного учреждения Белоярского района «Средняя общеобразовательная школа №3 г. Белоярский» с бюджетным учреждением Ханты – Мансийского автономного округа – Югры «Белоярская районная больница» | U10: Лицензия от 27.03.2018 года № 3067 на осуществление образовательной деятельности по общеобразовательным программам начального, основного, среднего общего образования, дополнительного образования детей и взрослых | V10: Паспорт доступности объекта социальной инфраструктуры №1 от 01 марта 2016 года; паспорт доступности объекта социальной инфраструктуры №2 от 01 марта 2016 года | W10: В течение 2025 года проведена одна плановая проверка управлением Роспотребназора по ХМАО-Югре в Белоярском районе и Березовском районе. Выявленные нарушения устранены (Акт профилактическго визита от 21.07.2025 г.) | X10: Договор от 01 января 2026 года о взаимодействии муниципального автономного общеобразовательного учреждения Белоярского района «Средняя общеобразовательная школа №3 г. Белоярский» с бюджетным учреждением Ханты – Мансийского автономного округа – Югры «Белоярская районная больница» | Y10: Лицензия от 27.03.2018 года № 3067 на осуществление образовательной деятельности по общеобразовательным программам начального, основного, среднего общего образования, дополнительного образования детей и взрослых | Z10: Паспорт доступности объекта социальной инфраструктуры №1 от 01 марта 2016 года; паспорт доступности объекта социальной инфраструктуры №2 от 01 марта 2016 года | AB10: 1 | AD10: https://86school3.gosuslugi.ru/organizatsiya-otdyha-detey-i-ih-ozdorovleniya/ob-organizatsii-otdyha-detey-i-ih-ozdorovleniya/dokumenty/
A11: 1 | B11: 4 | C11: Лагерь с дневным пребыванием детей на базе муниципального автономного общеобразовательного учреждения Белоярского района «Средняя общеобразовательная школа п.Верхнеказымский» (СОШ п.Верхнеказымский), лагерь с дневным пребыванием детей | D11: Некоммерческая организация, автономное муниципальное учреждение | E11: Степура Нина Владимировна | F11: 8611005889 | G11: 628172; 3 мкр., д. 16, п.Верхнеказымский, Белоярский район, Тюменская область, ХМАО-Югра | H11: 628172; 3 мкр., д. 16, п.Верхнеказымский, Белоярский район, Тюменская область, ХМАО-Югра; тел.: 8(34670) 47-9-23; e-mail: ask@school-vk.ru | I11: https://soshverxnekazymskij.gosuslugi.ru/ | J11: Лагерь с дневным пребыванием детей | K11: Сезонный (в каникулярное время) | L11: Весенняя смена: с 28.03.2026 по 04.04.2026 1 летняя смена: с 01.06.2026 по 26.06.2026 2 летняя смена с 01.07.2026г. по 29.07.2026 Осенняя смена: с 24.10.2026 по 31.11.2026 | M11: 1850 руб. | N11: от 6 до 17 лет (включительно) | O11: Лагерь дневного пребывания, 2-х разовое питание | P11: Нет | Q11: Здание школы введенов эксплуатацию в 2002 году | R11: Санитарно–эпидемиологическое заключение выдано Федеральной службой по надзору в сфере защиты прав потребителей и благополучия человека территориального отдела Управления по ХМАО – Югре в Белоярском и Берёзовском районе заключение на здание, строение, сооружение, помещения, оборудование и иное имущество, используемое для осуществления деятельности детских лагерей на время каникул № 86.БЯ.01.000.М.000057.09.25 от 29.09.2025 г. Действует до 28.09.2026г. | S11: В течение 2025 года проведено две плановых проверки управлением Роспотребназора по ХМАО-Югре, а Белоярском районе и Березовском районе. 1 - ая проверка 22.09.205г. Нарушения не выявлены в ходе проверки (Акт профилактическго визита от 14.10.2025г.). 2-ая проверка - 19.06.2025г. В ходе проверки было выявлено нарушение требований п. 2.6.2. СП 2.4.3648-20 СанПин (несоответствие качества воды /питьевой фонтан/). Нарушение устранено. | T11: Санитарно–эпидемиологическое заключение выдано Федеральной службой по надзору в сфере защиты прав потребителей и благополучия человека территориального отдела Управления по ХМАО – Югре в Белоярском и Берёзовском районе заключение на здание, строение, сооружение, помещения, оборудование и иное имущество, используемое для осуществления деятельности детских лагерей на время каникул № 86.БЯ.01.000.М.000057.09.25 от 29.09.2025 г. Действует до 28.09.2026г. | U11: В течение 2025 года проведено две плановых проверки управлением Роспотребназора по ХМАО-Югре, а Белоярском районе и Березовском районе. 1 - ая проверка 22.09.205г. Нарушения не выявлены в ходе проверки (Акт профилактическго визита от 14.10.2025г.). 2-ая проверка - 19.06.2025г. В ходе проверки было выявлено нарушение требований п. 2.6.2. СП 2.4.3648-20 СанПин (несоответствие качества воды /питьевой фонтан/). Нарушение устранено. | V11: Санитарно–эпидемиологическое заключение выдано Федеральной службой по надзору в сфере защиты прав потребителей и благополучия человека территориального отдела Управления по ХМАО – Югре в Белоярском и Берёзовском районе заключение на здание, строение, сооружение, помещения, оборудование и иное имущество, используемое для осуществления деятельности детских лагерей на время каникул № 86.БЯ.01.000.М.000057.09.25 от 29.09.2025 г. Действует до 28.09.2026г. | W11: В течение 2025 года проведено две плановых проверки управлением Роспотребназора по ХМАО-Югре, а Белоярском районе и Березовском районе. 1 - ая проверка 22.09.205г. Нарушения не выявлены в ходе проверки (Акт профилактическго визита от 14.10.2025г.). 2-ая проверка - 19.06.2025г. В ходе проверки было выявлено нарушение требований п. 2.6.2. СП 2.4.3648-20 СанПин (несоответствие качества воды /питьевой фонтан/). Нарушение устранено. | X11: Имеется договор о взаимодействии муниципального автономного общеобразовательного учреждения Белоярского района «Средняя общеобразовательная школа п.Верхнеказымский» с бюджетным учреждением ХМАО-Югры «Белоярская районная больница» от 01.01.2017г. | Y11: Имеется, от 30.03.2015г. № 1997 на осуществление образовательной деятельности по дошкольному, начальному основному, среднему образованию, по дополнительному образованию | Z11: Имеется Паспорт доступности объекта социальной инфраструктуры (ОСИ) от 31.08.2016г | AB11: 1 | AD11: https://shkolaverxnekazymskij-r86.gosweb.gosuslugi.ru/glavnoe/svedeniya-ob-organizatsii-otdyha-detey-i-ih-ozdorovleniya/ob-organizatsii-otdyha-detey-i-ih-ozdorovleniya/dokumenty/
A12: 1 | B12: 5 | C12: Муниципальное автономное общеобразовательное учреждение Белоярского района «Средняя общеобразовательная школа п. Лыхма» (СОШ п. Лыхма), лагерь с дневным пребыванием детей «Радуга» | D12: Некоммерческая организация, автономное муниципальное учреждение | E12: Заплишная Наталия Владимировна | F12: 8611005800 от 02.04.2001 г. | G12: 628173 Тюменская область, Белоярский район, п. Лыхма, ул. ЛПУ, Дом 92/4 тел./факс (34670) 48-4-19 E-mail: school@lihma.ru, сайт: www.lihma.ru | H12: 628173 Тюменская область, Белоярский район, п. Лыхма, ул. ЛПУ, Дом 92/4 тел./факс (34670) 48-4-19 E-mail: school@lihma.ru, сайт: www.lihma.ru | I12: https://soshlihma.gosuslugi.ru/ | J12: Лагерь с дневным пребыванием детей в соответствии с приказом Министерства образования и науки Российской Федерации от 13.07.2017№ 656 «Об утверждении примерных положений об организациях отдыха и оздоровления детей» | K12: Сезонный, в каникулярное время | L12: Весенняя смена: с 28.03.2026 по 04.04.2026 1 летняя смена: с 01.06.2026 по 26.06.2026 Осенняя смена: с 24.10.2026 по 31.10.2026 | M12: 1850 руб | N12: от 6 до 17 лет (включительно) | O12: Проживание детей в период проведения смен не предусмотрено. Обеспечивается 2-х разовое питание. | P12: нет | Q12: Здание школы – введено в эксплуатацию в 2011 году | R12: Санитарно–эпидемиологическое заключение выдано Федеральной службой по надзору в сфере защиты прав потребителей и благополучия человека территориального отдела Управления по ХМАО – Югре в Белоярском и Берёзовском районе заключение на здание, строение, сооружение, помещения, оборудование и иное имущество, используемое для осуществления деятельности детских лагерей на время каникул №86.БЯ.01.000.М.000034.04.26 от 23.04.2026 г.. | S12: В течение 2023 года проведена одна плановая проверка управлением Роспотребназора по ХМАО-Югре, а Белоярском районе и Березовском районе. Нарушения не выявлены в ходе проверки. (Акт профилактическго визита от 31.07.2023 г.). | T12: Договор о взаимодействии МАОУ Белоярского района «Средняя общеобразовательная школа п. Лыхма» с БУ ХМАО – Югры «Белоярская районная больница» от 01 января 2020 года | U12: Лицензия №2980 от 05 октября 2017 года на осуществление образовательной деятельности. Виды: 1. Общее образование: дошкольное, начальное общее, основное общее, среднее общее. 2. Дополнительное образование. Подвиды: 1. Дополнительное образование детей и взрослых. | V12: Паспорт доступности объектов социальной инфраструктуры (ОСИ) утвержден 15.03.2016 года | W12: В течение 2025 года проверки не проводились | X12: Договор о взаимодействии МАОУ Белоярского района «Средняя общеобразовательная школа п. Лыхма» с БУ ХМАО – Югры «Белоярская районная больница» от 01 января 2026 года | Y12: Лицензия №2980 от 05 октября 2017 года на осуществление образовательной деятельности. Виды: 1. Общее образование: дошкольное, начальное общее, основное общее, среднее общее. 2. Дополнительное образование. Подвиды: 1. Дополнительное образование детей и взрослых. | Z12: Паспорт доступности объектов социальной инфраструктуры (ОСИ) утвержден 15.03.2016 года | AB12: 1 | AD12: https://soshlihma.gosuslugi.ru/svedeniya-ob-obrazovatelnoy-organizatsii/dokumenty/?type69=39
A13: 1 | B13: 6 | C13: Муниципальное автономное общеобразовательное учреждение Белоярского района «Средняя общеобразовательная школа п. Сорум» (СОШ п. Сорум), лагерь с дневным пребыванием детей «Маленькая страна» | D13: Некоммерческая организация. Автономное муниципальное учреждение | E13: Степанова Мария Афанасьевна | F13: 8611005737 | G13: 628169, ул. Газовиков д,2, п. Сорум, Белоярский район, Тюменская область, тел./факс (34670) 51860, E-mail: sorum_school@mail.ru сайт: http://www.sorumschool.ru/ | H13: 628169, ул. Газовиков д,2, п. Сорум, Белоярский район, Тюменская область, тел./факс (34670) 51860, E-mail: sorum_school@mail.ru сайт: http://www.sorumschool.ru/ | I13: https://sorumsosh.gosuslugi.ru/ | J13: Лагерь с дневным пребыванием детей в соответствии с приказом Министерства образования и науки Российской Федерации от 13.07.2017 № 656 «Об утверждении примерных положений об организациях отдыха и оздоровления детей» | K13: сезонный | L13: Весенняя смена: с 28.03.2026 по 04.04.2026 1 летняя смена: с 01.06.2026 по 26.06.2026 2 летняя смена: с 01.07.2026 по 29.07.2026 Осенняя смена: с 24.10.2026 по 31.10.2026 | M13: 1850 руб. | N13: от 6 до 17 лет (включительно) | O13: Проживание детей в период проведения смен не предусмотрено. Обеспечивается: 2-х разовое питание в смену | P13: отсутствует | Q13: Здание школы - введено в эксплуатацию в 2005 году | R13: Санитарно-эпидемиологическое заключение выдано территориальным отделом управления роспотребнадзора по Ханты-Мансийскому автономному округу –Югре в Белоярском районе и Березовской районе от 21.04.2026 г.. №86.БЯ.01.000.М.000028.04.26 | S13: Акт профилактического визита Роспотребнадзора по ХМАО –Югре в Белоярском районе от 27.07.2023 г. В ходе проверки выписано предписание №56 от 27.07.2023 г. (Замечания устранены) | T13: Договор от 09.01.2020г. «О взаимодействии муниципального автономного общеобразовательного учреждения Белоярского района «Средняя общеобразовательная школа п. Сорум» с бюджетным учреждением Ханты-Мансийского автономного округа – Югры «Белоярская районная больница» | U13: Лицензия от 12.03.2015г. № 1950 на осуществление образовательной деятельности, выданная Службой по контролю и надзору в сфере образования Ханты-Мансийского автономного округа – Югры. Общее образование. Уровень образования: дошкольное образование; начальное общее образование; основное общее образование; среднее общее образование. Дополнительное образование: дополнительное образование детей и взрослых. | V13: Паспорт доступности объекта социальной инфраструктуры (ОСИ) муниципального автономного общеобразовательного учреждения Белоярского района "Средняя общеобразовательная школа п. Сорум" №1/216, утвержден приказом СОШ п. Сорум от 01.03.2016 г. №216 | W13: Акт профилактического визита Роспотребнадзора по ХМАО –Югре в Белоярском районе от 26.06.2025 г. Замечаний нет | X13: Договор от 29.12.2025г. «О взаимодействии муниципального автономного общеобразовательного учреждения Белоярского района «Средняя общеобразовательная школа п. Сорум» с бюджетным учреждением Ханты-Мансийского автономного округа – Югры «Белоярская районная больница» | Y13: Лицензия от 12.03.2015г. № 1950 на осуществление образовательной деятельности, выданная Службой по контролю и надзору в сфере образования Ханты-Мансийского автономного округа – Югры. Общее образование. Уровень образования: дошкольное образование; начальное общее образование; основное общее образование; среднее общее образование. Дополнительное образование: дополнительное образование детей и взрослых. | Z13: Паспорт доступности объекта социальной инфраструктуры (ОСИ) муниципального автономного общеобразовательного учреждения Белоярского района "Средняя общеобразовательная школа п. Сорум" №1/216, утвержден приказом СОШ п. Сорум от 01.03.2016 г. №216 | AB13: 1 | AD13: https://sorumsosh.gosuslugi.ru/glavnoe/svedeniya-ob-organizatsii-otdyha-detey-i-ih-ozdorovleniya/lager-s-dnevnym-prebyvaniem-detey/ob-organizatsii-otdyha-detey-i-ih-ozdorovleniya/dokumenty/
A14: 1 | B14: 7 | C14: Бюджетное учреждение Ханты-Мансийского автономного округа – Югры «Белоярский комплексный центр социального обслуживания населения» (БУ «Белоярский комплексный центр социального обслуживания населения»). | D14: Бюджетное учреждение | E14: Гейдарова Валерия Сергеевна | F14: 8611005818 | G14: 628162, Россия, Ханты-Мансийский автономный округ – Югра, город Белоярский, микрорайон 4, дом 16 | H14: 628162, Россия, Ханты-Мансийский автономный округ – Югра, город Белоярский, ул. Центральная, дом 15 А, BELKCSON@admhmao.ru | I14: http://kcsonmiloserdie.ru/ | J14: Летние оздоровительные смены в режиме лагеря с дневным пребыванием детей в соответствии с приказом Министерства образования и науки Российской Федерации от 13.07.2017 № 656 «Об утверждении примерных положений об организациях отдыха и оздоровления детей» | K14: сезонный | L14: 1 летняя смена: с 01.06.2026 по 27.06.2026 2 летняя смена: с 01.07.2026 по 29.07.2026 3 летняя смена: с 03.08.2026 по 29.08.2026 | M14: бесплатно | N14: от 5 до 18 лет | O14: Проживание детей в период проведения смен не предусмотрено. Обеспечивается: 2-х разовое питание, 3-х разовое питание в 1,2,3 смены | P14: Отсутствует | Q14: Здание учреждения (корпус № 2) по адресу г. Белоярский, ул. Центральная, д. 15 А – введено в эксплуатацию в 1972 году | R14: Санитарно-эпидемиологическое заключение выдано территориальным отделом по г. Ханты-Мансийску и Ханты-Мансийскому району в Белоярском районе и в Березовском районе от 17.04.26 № 86.БЯ.01.000 М 000023.04.26 | S14: 11.08.2023 Управление федеральной службы по надзору в сфере защиты прав потребителей и благополучия человека по Ханты-Мансийского автономного округа - Югры, акт выездной проверки от 11.08.2023. Нарушения не выявлены. | T14: Лицензия Серия Б 007060 № ЛО-86-01-002967 от 28 марта 2018 года на осуществление Медицинской деятельности | V14: Паспорт доступности объекта социальной инфраструктуры (ОСИ) № 4 от 27.02.2020. | W14: 04.08.2025 Управление федеральной службы по надзору в сфере защиты прав потребителей и благополучия человека по Ханты-Мансийского автономного округа - Югры, акт профилактического визита от 04.08.2025. Нарушения не выявлены | X14: Лицензия Серия Б 007060 № ЛО-86-01-002967 от 28 марта 2018 года на осуществление Медицинской деятельности | Z14: Паспорт доступности объекта социальной инфраструктуры (ОСИ) № 4 от 27.02.2020. | AB14: 1 | AD14: https://kcsonmiloserdie.ru/index/ob_organizacii_otdykha_detej_i_ikh_ozdorovlenii/0-200
A15: 1 | B15: 8 | C15: Муниципальное автономное учреждение дополнительного образования Белоярского района "Дворец детского (юношеского) творчества г. Белоярский", лагерь с дневным пребыванием детей "Тропинки детства" | D15: некоммерческая организация, муниципальное автономное учреждение | E15: Постников Максим Андреевич | F15: 8611005670 | G15: 628163, Тюменская область, ХМАО-Югра, г. Белоярский, ул. Лысюка д. 4, Тел.: (34670) 2-17-29, 2-06-48, e-mail: info@ddutbel86.ru, https://www.ddutbel86.ru | H15: 628163, Тюменская область, ХМАО-Югра, г. Белоярский, ул. Лысюка д. 4, Тел.: (34670) 2-17-29, 2-06-48, e-mail: info@ddutbel86.ru, https://www.ddutbel86.ru | I15: http://ddutbel86.ru/ | J15: Лагерь с дневным пребыванием детей в соответствии с приказом Министерства образования и науки Российской Федерации от 13.07.2017 № 656 «Об утверждении примерных положений об организациях отдыха и оздоровления детей» | K15: Сезонный | L15: Весенняя смена: с 28.03.2026 по 24.04.2026 1 летняя смена: с 01.06.2026 по 26.06.2026 2 летняя смена: с 01.07.2026 по 29.07.2026 3 летняя смена: с 01.08.2026 по 28.08.2026 Осенняя смена: с 25.10.2026 по 31.10.2026 | M15: 1850 руб. | N15: от 6 до 17 лет (включительно) | O15: Проживание детей в период проведения смен не предусмотрено. Обеспечивается: 2-х разовое питание | P15: Отсутствует | Q15: Здание "Дворец детского (юношеского) творчества г. Белоярский", введено в эксплуатацию в 2002 году | R15: Санитарно-эпидемиологическое заключение выдано территориальным отделом Управления Роспотребнадзора по ХМАО-Югре в белоярском районе и Берёзовском районе от 24.09.2025 г.. № №86.БЯ.01.000.М.000051.09.25 | S15: В 2023 году была проведена плановая проверка ТО Управления Роспотребнадзора по ХМАО-Югре в Белоярском районе и Березовском районе, без замечаний. | T15: Договор на оказание услуг по обеспечению медицинского обслуживания детей, находящихся в лагере с дневным пребыванием от 16.10.2023г. №2023/240 с БУ ХМАО-Югры «Белоярская районная больница» | U15: Лицензия от 06.07.2017 №2927 на осуществление образовательной деятельности по дополнительным общеобразовательным программам | V15: Паспорт доступности объекта социальной инфраструктуры № 1 муниципального автономного учреждения дополнительного образования Белоярского района "Дворец детского (юношеского) творчества г. Белоярский", утверждён 25.07.2019 года | W15: В 2025 году была проведена плановая проверка ТО Управления Роспотребнадзора по ХМАО-Югре в Белоярском районе и Березовском районе, без замечаний.. | X15: Договор на оказание услуг по обеспечению медицинского обслуживания детей, находящихся в лагере с дневным пребыванием от 22.09.2025г. №2025/179 с БУ ХМАО-Югры «Белоярская районная больница» | Y15: Лицензия от 06.07.2017 №2927 на осуществление образовательной деятельности по дополнительным общеобразовательным программам | Z15: Паспорт доступности объекта социальной инфраструктуры № 1 муниципального автономного учреждения дополнительного образования Белоярского района "Дворец детского (юношеского) творчества г. Белоярский", утверждён 25.07.2019 года | AB15: 1 | AD15: https://ddutbel86.ru/page.php?level=3&id_level_1=9&id_level_2=269&id_level_3=221
A16: 1 | B16: 9 | C16: Муниципальное автономное общеобразовательное учреждение Белоярского района «Средняя общеобразовательная школа п.Сосновка», лагерь с дневным пребыванием детей » | D16: Некоммерческая организация, муниципальное автономное учреждение | E16: Иванов Михаил Викторович | F16: 8611005744 | G16: 628177, ул.Школьная, д.1, п.Сосновка, Белоярский район, Тюменская область, тел./факс (34670) 46-4-58, E-mail: info@sosnovka-ugra.ru, сайт: http://sosnovka-ugra.ru | H16: 628177, ул.Школьная, д.1, п.Сосновка, Белоярский район, Тюменская область, тел./факс (34670) 46-4-58, E-mail: info@sosnovka-ugra.ru, сайт: http://sosnovka-ugra.ru/ | I16: https://sosnovka.gosuslugi.ru/ | J16: лагерь с дневным пребыванием детей в соответствии с приказом Министерства образования и науки Российской Федерации от 13.07.2017 №656 «Об утверждении примерных положений об организациях отдыха и оздоровления детей» | K16: Сезонный | L16: Весенняя смена: с 28.03.2026 по 04.04.2026 1 летняя смена: с 01.06.2026 по 26.06.2026 Осенняя смена: с 24.10.2026 по 31.10.2026 | M16: 1850 руб. | N16: от 6 до 17 лет (включительно) | O16: Лагерь с дневным пребыванием детей, проживание детей в период проведения смен не предусмотрено, обеспечивается 2-х разовое питание | P16: отсутствует | Q16: Здание школы введено в эксплуатацию в 2006 году | R16: Санитарно-эпидемиологическое заключение выдано территориальным отделом управления роспотребнадзора по Ханты-Мансийскому автономному округу –Югре в Белоярском районе и Березовской районе от 24.09.2025 г.. №86.БЯ.01.000.М.000052.09.25 | S16: В течение 2023 года проведена одна плановая проверка управлением Роспотребназора по ХМАО-Югре, а Белоярском районе и Березовском районе. Нарушения не выявлены в ходе проверки. (Акт профилактическго визита от 27.07.2023 г.) | T16: договор от 01 января 2020 года о взаимодействии муниципального автономного общеобразовательного учреждения Белоярского района «Средняя общеобразовательная школа п. Сосновка» с бюджетным учреждением Ханты-Мансийского автономного округа - Югры «Белоярская районная больница» | U16: Лицензия от 02 июля 2014 года №1549 на осуществление образовательной деятельности: - общее образование (начальное общее образование, основное общее образование, среднее общее образование) - дополнительное образование - подвиды: дополнительное образование детей и взрослых | V16: Паспорт доступности объекта социальной инфраструктуры (ОСИ) от 21.06.2016 г. | W16: В течение 2025 года проведена одна плановая проверка управлением Роспотребназора по ХМАО-Югре, а Белоярском районе и Березовском районе. В ходе проверки замечения и нарушения устранены (Акт обязательного профилактическго визита от 26.06.2025г.). | X16: договор от 01 января 2020 года о взаимодействии муниципального автономного общеобразовательного учреждения Белоярского района «Средняя общеобразовательная школа п. Сосновка» с бюджетным учреждением Ханты-Мансийского автономного округа - Югры «Белоярская районная больница» | Y16: Лицензия от 02 июля 2014 года №1549 на осуществление образовательной деятельности: - общее образование (начальное общее образование, основное общее образование, среднее общее образование) - дополнительное образование - подвиды: дополнительное образование детей и взрослых | Z16: Паспорт доступности объекта социальной инфраструктуры (ОСИ) от 21.06.2016 г. | AB16: 1 | AD16: https://shkolasosnovka-r86.gosweb.gosuslugi.ru/glavnoe/svedeniya-ob-organizatsii-otdyha-detey-i-ih-ozdorovleniya/ob-organizatsii-otdyha-detey-i-ih-ozdorovleniya/dokumenty/
A17: 1 | B17: 10 | C17: Муниципальное автономное учреждение физической культуры и спорта Белоярского района "База спорта и отдыха "Северянка" (МАУ "База спорта и отдыха"Северянка"), лагерь с круглосуточным пребыванием детей | D17: Автономное муниципальное уреждение | E17: Якусевич Ольга Петровна | F17: 8611005624 | G17: 628162; Россия; ХМАО-Югра; г.Белоярский; ул.Центральная, дом 9 | H17: 628162; Россия; ХМАО-Югра; г.Белоярский; проезд база отдыха,строение 1\А | I17: https://sport-forg-severyanka-beloyarskij-r86.gosweb.gosuslugi.ru/ | J17: Загородный стационарный оздоровительный лагерь, в соответствии с приказом Министерства образования и науки Российской Федерации от 13.07.2017 № 656 «Об утверждении примерных положений об организациях отдыха и оздоровления детей» | K17: Сезонный | L17: Весенняя смена: с 28.03.2026 по 04.04.2026 1 летняя смена: с 27.05.2025 по 16.06.2025 2 летняя смена: с 19.06.2025 по 09.07.2025 3 летняя смена: с 12.07.2025 по 01.08.2025 4 летняя смена: с 03.08.2025 по 24.08.2025 Осенняя смена: с 25.10.2025 по 31.10.2025 Зимняя смена: с 03.01.2027 по 09.01.2027 | M17: 2726 рублей | N17: от 6 до 17 лет (включительно) | O17: Два благоустроенных спальных корпуса соответствует требованиям СанПиН 2.4.4.3155-13. Размещение детей в двухместных ,трёхместных , шестиместных жилых комнатах с удобствами в комнатах. В комнатах имеются: холодильник, телевизор, зеркало, прикроватные тумбочки, шкаф для одежды, стол, стулья.Питание организовано в столовой в учреждении вместимостью 56 мест. Сбалонсированное 5-ти разовое питание. | P17: Имеется плавательный бассейн 120 кв.м. В эксплуатацию сдан в 2014 году. | Q17: Спальный корпус "А"-1997 г., Спальный корпус"В"-2005г., Санаторно-оздоровительный корпус-2014г. Спортивный зал-1996г. Дата капитального ремонта: Спальный корпус "А"-2011 г., Спальный корпус"В"-2011г., Санаторно-оздоровительный корпус-2014г. Спортивный зал-2016г. | R17: Санитарно–эпидемиологическое заключение выдано Федеральной службой по надзору в сфере защиты прав потребителей и благополучия человека территориального отдела Управления по ХМАО – Югре в Белоярском и Берёзовском районе заключение на здание, строение, сооружение, помещения, оборудование и иное имущество, используемое для осуществления деятельности детских лагерей на время каникул №86.БЯ.01.000.М.000062.10.25 от 21.10.2025 г.. | S17: В течение 2023 года проведены пять проверок: выездная проверка на основании решения о проведении контрольного (надзорного мероприятия) от «13» апреля 2023 г. № 2304/171-86/13-В/РВП, по результатом проверки нарушения не выявлены; выездная проверка на основании решения 16 мая 2023 г № 70., по результатам проверки выдано предписание от 29.06.2023 № 53. Указанные нарушения устранены; Выездная проверка 24 мая 2023г. № 2305/171-86/14-П/рвп, по результатам проверки выписано предписаниеоб устранении выявленных нарушений №44 от 15.06.2023г.выявленные нарушения устранены ; 07.04.2023 в адрес МАУ «База спорта и отдыха «Северянка» поступило Представление заместителя прокурора г.Белоярский «Об устранении нарушений федерального законодательства» № 03-02-2023/Прдп91-23-20711005 от 07.04.2023.; 07.08.2023 в адрес МАУ «База спорта и отдыха «Северянка» поступило Представление заместителя прокурора г.Белоярский «Об устранении нарушений федерального законодательства»2023/Прдп91-23-20711005 от 07.04.2023г. Указанные в представлениях недостатки устранены. | T17: Медицинская лицензия на осуществление медицинской деятельности № ЛО-86-01-002315 от 30.11.2015 г. | U17: Нет | V17: Паспорт доступности объекта социальной инфаструктуры (ОСИ) муниципального автономного учреждения физической культуры и спорта Белоярского района "База спорта и отдыха "Северянка" от 01декабря 2015 года | W17: В течении 2025 были три проверки надзорными органами: 30.04.2025 поступило Представление прокурора г. Белоярский «Об устранении нарушений законодательства» № 03-02-2025/Прдп134-25-20711005 от 28.04.2025. Проведенными прокуратурой города надзорными мероприятиями были выявлены нарушения требований законодательства об отдыхе и оздоровлении детей в части оформления сайта. Недостатки устранены. 29.05.2025 поступило представление прокуратуры г. Белоярский от 28.05.2023 №03-02-2025/ПРДП166-25-20711005 об устранении нарушений федерального законодательства в сфере защиты персональных данных. Недостатки устранены. 23.07.2025 поступило Представление ТО Управления Роспотребнадзора по ХМАО-Югре в Белоярском районе и Березовском районе об устранении выявленных нарушений №95. Выявленные недостатки устранены. | X17: Медицинская лицензия на осуществление медицинской деятельности № ЛО-86-01-002315 от 30.11.2015 г. | Y17: Нет | Z17: Паспорт доступности объекта социальной инфаструктуры (ОСИ) муниципального автономного учреждения физической культуры и спорта Белоярского района "База спорта и отдыха "Северянка" от 01декабря 2015 года | AD17: https://sport-forg-severyanka-beloyarskij-r86.gosweb.gosuslugi.ru/o-nas/ob-organizatsii-otdyha-detey-i-ih-ozdorovleniya/dokumenty/
A18: 1 | B18: 11 | C18: Муниципальное автономное общеобразовательное учреждение Белоярского района «Средняя общеобразовательная школа с. Казым» (СОШ с. Казым), лагерь с дневным пребыванием детей | D18: Некоммерческая организация, муниципальное автономное учреждение | E18: Канева Татьяна Людвиговна | F18: 8611005790 | G18: 628174, Россия, ХМАО-Югра, Белоярский район, с. Казым, ул. Школьная, д.7а, тел./факс (34670) 31-3-08, E-mail: kazim-sosh@kazimschool.ru сайт: http:// kazimschool.ru | H18: 628174, Россия, ХМАО-Югра, Белоярский район, с. Казым, ул. Школьная, д.7а, тел./факс (34670) 31-3-08, E-mail: kazim-sosh@kazimschool.ru сайт: http:// kazimschool.ru | I18: https://shkolakazym.gosuslugi.ru/ | J18: Лагерь с дневным пребыванием детей в соответствии с приказом Министерства образования и науки Российской Федерации от 13.07.2017 № 656 «Об утверждении примерных положений об организациях отдыха и оздоровления детей» | K18: Сезонный | L18: Весенняя смена: с 28.03.2026 по 04.04.2026 1 летняя смена: с 01.06.2026 по 26.06.2026 2 летняя смена: с 02.07.2026 по 29.07.2026 Осенняя смена: с 24.10.2026 по 31.10.2026 | M18: Весенняя, осенняя смены - 1850,00 (При 6 часовом рабочем дне) Летние смены (1,2) - 1950,00 (При 9 часовом рабочем дне) | N18: от 6 до 17 лет (включительно) | O18: Проживание детей в период проведения смен не предусмотрено. Обеспечивается: 2-х разовое питание в (Весенняя, осенняя смены); 3-х разовое питание (Летние смены,1-2). | P18: Отсутствует | Q18: Здание школы – введено в эксплуатацию в 2008 году, спортивная площадка - введено в эксплуатацию в 2009 году. | R18: Санитарно-эпидемиологическое заключение выдано территориальным отделом управления роспотребнадзора по Ханты-Мансийскому автономному округу –Югре в Белоярском районе и Березовской районе от 23.04.2026 г.. №86.БЯ.01.000.М.000036.04.26 | S18: В течение 2023 года проверки не проводились. | T18: Договор от 01 января 2020 года о взаимодействии муниципального автономного общеобразовательного учреждения Белоярского района «Средняя общеобразовательная школа с. Казым» с бюджетным учреждением Ханты – Мансийского автономного округа – Югры «Белоярская районная больница» | U18: Лицензия от 10 июня 2014 года №1535 на осуществление образовательной деятельности по общеобразовательным программам начального, основного, среднего общего образования, дополнительного образования детей и взрослых | V18: Паспорт доступности объекта социальной инфраструктуры (ОСИ) № 01 от 17.05.2016. | W18: В течение 2025 года проводилась одна проверка Управлением Роспотребнадзора по ХМАО-Югре в Белоярском районе и Березовском районе. Уведомление «О проведении профилактического визита» от 30.06.2025 № 270. Замечаний не выявлено. (Протокол осмотра при проведении профилактического визита от 09.07.2025г.). По результатам обязательного профилактического визита нарушений не установлено. (Акт обязательного профилактического визита от 22.07.2025г.) | X18: Договор от 01 января 2026 года о взаимодействии муниципального автономного общеобразовательного учреждения Белоярского района «Средняя общеобразовательная школа с. Казым» с бюджетным учреждением Ханты – Мансийского автономного округа – Югры «Белоярская районная больница». Срок действия по 31.12.2030г. | Y18: Лицензия от 10 июня 2014 года №1535 на осуществление образовательной деятельности по общеобразовательным программам начального, основного, среднего общего образования, дополнительного образования детей и взрослых | Z18: Паспорт доступности объекта социальной инфраструктуры (ОСИ) № 01 от 17.05.2016. | AB18: 1 | AD18: https://shkolakazym.gosuslugi.ru/glavnoe/svedeniya-ob-organizatsii-otdyha-detey-i-ih-ozdorovleniya/ob-organizatsii-otdyha-detey-i-ih-ozdorovleniya/dokumenty/
A19: 1 | B19: 12 | C19: Муниципальное автономное общеобразовательное учреждение Белоярского района «Средняя общеобразовательная школа им. И.Ф. Пермякова с. Полноват», лагерь с дневным пребыванием «Северянка» на базе Муниципального автономного общеобразовательного учреждения Белоярского района «Средняя общеобразовательная школа им. И.Ф. Пермякова с. Полноват» | D19: Некоммерческая организация, автономное муниципальное учреждение | E19: Лузянин Алексей Григорьевич | F19: ИНН: 8611005783 | G19: 628179 Тюменская область ХМАО - Югра, Белоярский район с. Полноват, ул. Собянина, д. 1В | H19: 628179 Тюменская область ХМАО - Югра, Белоярский район с. Полноват, ул. Собянина, д. 1В (34670) 33-4-63 Е-mail: soshspolnovat@mail.ru | I19: soshpolnovat.gosuslugi.ru | J19: Лагерь с дневным пребыванием детей в соответствии с приказом Министерства образования и науки Российской Федерации от 13.07.2017 № 656 «Об утверждении примерных положений об организациях отдыха и оздоровления детей» | K19: Сезонный | L19: Весенняя смена: с 28.03 - 04.04.2026. Летняя смена 1- с 01.06 - 26.06.2026, 2 смена с 01.07 - 29.07.2026. Осень с 24.10 - 31.10.2026. 1 летняя смена: с 02.06 - 27.06.2026 2 летняя смена: с 01.07 - 29.07.2026 Осенняя смена: с 25.10 - 01.11.2026 | M19: Весенняя, осенняя смены - 1850,00 (При 6 часовом рабочем дне) Летние смены (1,2) - 2050,00 (При 9 часовом рабочем дне | N19: от 6 до 17 лет (включительно) | O19: Проживание детей в период проведения смен не предусмотрено. Обеспечивается: 2-х разовое питание в весеннюю и осенюю смены;(1и 4) 3-х разовое питание в летние смены(2 и 3) | P19: Отсутствует | Q19: Дата ввода используемых организацией отдыха и их оздоровления объектов (для организаций стационарного типа) и дата проведения капитального ремонта)- 2019 | R19: Санитарно–эпидемиологическое заключение выдано Федеральной службой по надзору в сфере защиты прав потребителей и благополучия человека территориального отдела Управления по ХМАО – Югре в Белоярском и Берёзовском районе заключение на здание, строение, сооружение, помещения, оборудование и иное имущество, используемое для осуществления деятельности детских лагерей на время каникул №86.БЯ.01.000.М.000022.04.26 от 17.04.2026 г.. | S19: В течение 2023 года проверки не проводились | T19: Договор от 01.01.2020 «О взаимодействии муниципального автономного общеобразовательного учреждения Белоярского района «Средняя общеобразовательная школа им. И.Ф. Пермякова с. Полноват» с бюджетным учреждением Ханты-Мансийского автономного округа – Югры «Белоярская районная больница» | U19: Лицензия от 30.03.2015 № 1996 на осуществление образовательной деятельности по реализации образовательных программ по видам образования, по уровням образования, по профессиям, специальностям, направлениям подготовки (для профессионального образования), по подвидам дополнительного образования. Общее образование: Дошкольное образование, Начальное общее образование, Основное общее образование, Среднее общее образовани. Дополнительное образование: Дополнительное образование детей и взрослых. | V19: Паспорт доступности объекта социальной инфрастуктуры (ОСИ) № 01-2016 | W19: В течение 2025 года проверки не проводились | X19: Договор от 01.01.2020 «О взаимодействии муниципального автономного общеобразовательного учреждения Белоярского района «Средняя общеобразовательная школа им. И.Ф. Пермякова с. Полноват» с бюджетным учреждением Ханты-Мансийского автономного округа – Югры «Белоярская районная больница» | Y19: Лицензия от 30.03.2015 № 1996 на осуществление образовательной деятельности по реализации образовательных программ по видам образования, по уровням образования, по профессиям, специальностям, направлениям подготовки (для профессионального образования), по подвидам дополнительного образования. Общее образование: Дошкольное образование, Начальное общее образование, Основное общее образование, Среднее общее образовани. Дополнительное образование: Дополнительное образование детей и взрослых. | Z19: Паспорт доступности объекта социальной инфрастуктуры (ОСИ) № 01-2016 | AB19: 1 | AD19: https://soshpolnovat.gosuslugi.ru/glavnoe/svedeniya-ob-organizatsii-otdyha-detey-i-ih-ozdorovleniya/ob-organizatsii-otdyha-detey-i-ih-ozdorovleniya/dokumenty/
A20: 1 | B20: 13 | C20: Муниципальное автономное общеобразовательное учреждение Белоярского района "Средняя общеобразовательная школа № 4 г. Белоярский"(СОШ№4г.Белоярский) лагерь с дневным пребыванием детей «Четвёртый элемент» | D20: Некоммерческая организация, муниципальное автономное учреждение | E20: Киселева Татьяна Борисовна | F20: 8611012156 | G20: 628162, Тюменская область,Ханты-Мансийский автономный округ - Югра, город Белоярский, микрорайон 4, дом 15 | H20: 628162, Тюменская область,Ханты-Мансийский автономный округ - Югра, город Белоярский, микрорайон 4, дом 15, Е-mail: bel-4school@mail.ru | I20: https://shkola4beloyarskij.gosuslugi.ru/ | J20: Лагерь с дневным пребыванием детей в соответствии с приказом Министерства образования и науки Российской Федерации от 13.07.2017 № 656 «Об утверждении примерных положений об организациях отдыха и оздоровления детей». | K20: Сезонный | L20: Весенняя смена: с 28.03.2026 по 04.04.2026 1 летняя смена: с 01.06.2026 по 26.06.2026 2 летняя смена с 01.07.2026г. по 29.07.2026 Осенняя смена: с 24.10.2026 по 31.11.2026 | M20: Стоимость 1 дня: 1850 | N20: от 6 до 17 лет (включительно) | O20: Проживание детей в период проведения смен не предусмотрено. Обеспечивается: 2-х разовое питание | P20: Отсутствует | Q20: Здание общеобразовательного учреждения введено в эксплуатацию в 2020 году | R20: Санитарно–эпидемиологическое заключение выдано Федеральной службой по надзору в сфере защиты прав потребителей и благополучия человека территориального отдела Управления по ХМАО – Югре в Белоярском и Берёзовском районе заключение на здание, строение, сооружение, помещения, оборудование и иное имущество, используемое для осуществления деятельности детских лагерей на время каникул 04.03.2026 № 86.БЯ.01.000.М.000003.03.26 | S20: В течение 2025 года проверки не проводились. | T20: Санитарно–эпидемиологическое заключение выдано Федеральной службой по надзору в сфере защиты прав потребителей и благополучия человека территориального отдела Управления по ХМАО – Югре в Белоярском и Берёзовском районе заключение на здание, строение, сооружение, помещения, оборудование и иное имущество, используемое для осуществления деятельности детских лагерей на время каникул 04.03.2026 № 86.БЯ.01.000.М.000003.03.26 | U20: В течение 2025 года проверки не проводились. | V20: Санитарно–эпидемиологическое заключение выдано Федеральной службой по надзору в сфере защиты прав потребителей и благополучия человека территориального отдела Управления по ХМАО – Югре в Белоярском и Берёзовском районе заключение на здание, строение, сооружение, помещения, оборудование и иное имущество, используемое для осуществления деятельности детских лагерей на время каникул 04.03.2026 № 86.БЯ.01.000.М.000003.03.26 | W20: В течение 2025 года проверки не проводились. | X20: Договор о взаимодействии муниципального автономного общеобразовательного учреждения Белоярского района «Средняя общеобразовательная школа № 4 г. Белоярский» с бюджетным учреждением Ханты-Мансийского автономного округа - Югры «Белоярская районная больница» б/н от 31.08.2020 | Y20: Лицензия 31.08.2020 № 3437 на осуществление образовательной деятельности. Уровень образования: -начальное общее образование; -основное общее образование; -среднее общее образование; -дополнительное образование. Подвиды: дополнительное образование детей и взрослых. | Z20: Паспорт доступности объекта социальной инфраструктуры (ОСИ) №1 Муниципального автономного общеобразовательного учреждения Белоярского района «Средняя общеобразовательная школа № 4 г.Белоярский» (СОШ №4 г. Белоярский) от 10.03.2021г | AB20: 1 | AD20: https://shkola4beloyarskij-r86.gosweb.gosuslugi.ru/glavnoe/svedeniya-ob-organizatsii-otdyha-detey-i-ih-ozdorovleniya/ob-organizatsii-otdyha-detey-i-ih-ozdorovleniya/dokumenty/
A21: 1 | B21: 14 | C21: Муниципальное автономное учреждение дополнительного образования в области культуры Белоярского района «Детская школа искусств г.Белоярский», художественно-эстетический лагерь с дневным пребыванием детей | D21: Некоммерческая организация, муниципальное автономное учреждение | E21: Минакова Елена Владимировна | F21: 8611005938 | G21: 628162, Ханты-Мансийский автономный округ-Югра, Тюменская область, г. Белоярский, ул. Набережная д.17 | H21: 628162, Ханты-Мансийский автономный округ-Югра, Тюменская область, г. Белоярский, ул. Набережная д.17 | I21: https://beloyarskogo-r86.gosweb.gosuslugi.ru/ofitsialno/omsu/administratsiya/slave-organisation/dshi/ | J21: Лагерь с дневным пребыванием детей в соответствии с приказом Министерства образования и науки Российской Федерации от 13.07.2017 № 656 «Об утверждении примерных положений об организациях отдыха и оздоровления детей» | K21: Сезонный | L21: с 01.06.2026 по 26.06.2025\6 | M21: Стоимость 1 дня: 1240,76 | N21: от 6 до 17 лет (включительно) | O21: Проживание детей в период проведения смен не предусмотрено. Обеспечивается 2-х разовое питание | P21: Отсутствует | Q21: Здание школы введено в эксплуатацию в 1991 году | R21: Санитарно-эпидемиологическое заключение выдано территориальным отделом Управления Роспотребнадзора по Ханты – Мансийскому автономному округу – Югре в Белоярском районе и Березовск5м районе от 23.04.2026 года № 86.БЯ.01.000.М.000032.04.26 | S21: Акт выездной проверки Роспотребнадзора по ХМАО-Югре в Белоярском районе № 69 от 14.06.2023 г. В ходе проверки было выявлено несоответствие качества воды (питьевой фонтан) санитарно-эпидемиологическим требованиям. Нарушение устранено, должностное лицо привлечено к ответственности. | T21: Договор от 15 апреля 2021 г. № 2021/45 на оказание услуг по обеспечению медицинского обслуживания детей, находящихся в лагере с дневным пребыванием с БУ Ханты-Мансийского автономного округа-Югры «Белоярская районная больница» | U21: Лицензия от 28.12.2015 года № 0001708 на осуществление образовательной деятельности по дополнительным образовательным программам | V21: Паспорт доступности МАУДО «Детская школа искусств г.Белоярский», дата утверждения 21 декабря 2020 год | W21: В июне 2025 года Управлением Роспотребнадзора по ХМАО-Югре в Белоярском районе и Березовском районе проводился профилактический визит. Нарушения обязательных требований не выявлены. | X21: Договор от 04 апреля 2025 г. № 2025/108 на оказание услуг по обеспечению медицинского обслуживания детей, находящихся в лагере с дневным пребыванием с БУ Ханты-Мансийского автономного округа-Югры «Белоярская районная больница» | Y21: Лицензия от 28.12.2015 года № 0001708 на осуществление образовательной деятельности по дополнительным образовательным программам | Z21: Паспорт доступности МАУДО «Детская школа искусств г.Белоярский», дата утверждения 21 декабря 2020 год | AB21: 1 | AD21: https://beldshi.hmansy.muzkult.ru/_documents
A22: 1 | B22: 15 | C22: Муниципальное казенное учреждение Белоярского района "Молодежный центр "Спутник"- (МКУ "МЦ "Спутник"), лагерь труда и отдыха с дневным пребыванием «Трудовая молодежь» | D22: Некоммерческая организация, муниципальное бюджетное учреждение | E22: Новоселова Елена Викторовна | F22: 8611006138 | G22: 628162,Тюменская область,ХМАО-Югра ул.Молодости д. 2а | H22: 628162, Тюменская область, ХМАО-Югра, ул. Центральная, дом 3, тел: (34670) 37787, 21764, e-mail: sputnik628162@mail.ru (на основании соглашения о взаимодействии с МАУ "Дворец спорта" б/н от 04.02.2025 г.) | I22: _ | J22: Лагерь труда и отдыха с дневным пребыванием детей в соответствии с приказом Министерства образования и науки Российской Федерации от 13.07.2017 № 656 «Об утверждении примерных положений об организациях отдыха и оздоровления детей» | K22: Сезонный | L22: с 01.07.2026 по 29.07.2026 | M22: Стоимость 1 дня: 729,18 рублей | N22: Дети от 14 до 17 лет (включительно) | O22: Проживание детей в период проведения смен не предусмотрено. Обеспечивается 2-х разовое питание | P22: Отсутствует | Q22: Здание МАУ «Дворец спорта» – введено в эксплуатацию в 2003 году | R22: Санитарно-эпидемиологическое заключение выдано территориальным отделом Управления Роспотребнадзора по Ханты – Мансийскому автономному округу – Югре в Белоярском районе и Березовском районе от 21.04.2026 года № 86.БЯ.01.000.М.000027.04.26 | S22: В течение 2025 года проверки не проводились | T22: Санитарно-эпидемиологическое заключение выдано территориальным отделом Управления Роспотребнадзора по Ханты – Мансийскому автономному округу – Югре в Белоярском районе и Березовском районе от 25.04.2025 года № 86.БЯ.01.000.М.000027.04.25 | U22: В течение 2025 года проверки не проводились | V22: Санитарно-эпидемиологическое заключение выдано территориальным отделом Управления Роспотребнадзора по Ханты – Мансийскому автономному округу – Югре в Белоярском районе и Березовском районе от 25.04.2025 года № 86.БЯ.01.000.М.000027.04.25 | W22: В течение 2025 года проверки не проводились | X22: Договор на оказание услуг по обеспечению медицинского обслуживания детей, находящихся в лагере с дневным пребыванием, будет заключен с БУ «Белоярская районная больница» (лицензия на медицинские услуги № ЛО-86-01-003553 от 26.03.2020 г.) | Y22: _ | Z22: Паспорт доступности объекта социальной инфраструктуры (ОСИ) №1 Муниципального автономного учреждения физической культуры и спорта Белоярского района «Дворец спорта» (на основании соглашения о взаимодействии с МАУ "Дворец спорта" б/н от 04.02.2025) | AA22: 1 | AD22: https://mmc-sputnik.hmansy.muzkult.ru/CLaR_Documents
