Workbook

Sheet Загородые оздоровительные лагер
K2: Реестр организаций отдыха и оздоровления детей Республики Бурятия 2026 г.
A3: № п/п | B3: Полное и сокращенное (если имеется) наименования организации отдыха детей и их оздоровления | C3: Организационно-правовая форма организации отдыха детей и их оздоровления | D3: ФИО руководителя организации отдыха детей и их оздоровления | E3: ИНН | F3: Адрес (место нахождения) организации отдыха детей и их оздоровления, контактный телефон, адрес электронной почты | G3: Фактический адрес организации отдыха детей и их оздоровления, контактный телефон | H3: Официальный сайт организации отдыха детей и их оздоровления в информационно-телекоммуникационной сети "Интернет" | I3: Тип организации отдыха детей и их оздоровления | J3: Предоставляемые организацией отдыха детей и их оздоровления услуги в сфере отдыха и оздоровления детей | P3: Дата ввода используемых организацией отдыха детей и их оздоровления объектов (для организаций стационарного типа) и дата проведения капитального ремонта | Q3: Информация о наличии санитарно-эпидемиологического заключения, включая дату выдачи заключения | R3: Информация о результатах проведения органами, осуществляющими государственный контроль (надзор), плановых и внеплановых проверок в текущем году (при наличии) и в предыдущем году | S3: Информация о наличии лицензии на осуществление медицинской деятельности | T3: Информация о наличии лицензии на осуществление образовательной деятельности | U3: Обеспечение в организации отдыха детей и их оздоровления доступности услуг для детей-инвалидов и детей с ограниченными возможностями здоровья | W3: Сведения о наличии программы воспитательной работы и календарного плана воспитательной работы с описанием конкретных мероприятий по дням с учетом смен и возрастных групп детей | X3: Проектная вместимость (мощность мест в смену) | Y3: Форма собственности | Z3: Район/муниципалитет
J4: Режим работы организации отдыха детей и их оздоровления (сезонный/круглогодичный) | K4: Даты проведения смен | L4: Средняя стоимость 1 дня пребывания в организации отдыха детей и их оздоровления | M4: Возрастная категория детей, принимаемых в организацию отдыха детей и их оздоровления | N4: Информация о проживании и питании детей в организации отдыха детей и их оздоровления | O4: Наличие оборудованного места для купания | U4: Категория детей-инвалидов 1. передвигающиеся на креслах-колясках 2. поражение нижних конечностей 3. поражение верхних конечностей 4. полное нарушение зрения – слепота 5. частичное нарушение зрения 6. полное нарушение слуха – глухота 7. частичное нарушение слуха 8. нарушения умственного развития 9. Все категории | V4: Дети с ограниченными возможностями здоровья: 1. дети с нарушением слуха (глухие, слабослышащие, позднооглохшие); 2. дети с нарушением зрения (слепые, слабовидящие); 3. дети с нарушением речи (логопаты); 4. дети с нарушением опорно-двигательного аппарата; 5. дети с умственной отсталостью; 6. дети с задержкой психического развития; 7. дети с нарушением поведения и общения; 8. дети с комплексными нарушениями психофизического развития, с так называемыми сложными дефектами (слепоглухонемые, глухие или слепые дети с умственной отсталостью) 9. Все категории
A5: 1 | B5: 2 | C5: 3 | D5: 4 | E5: 5 | F5: 6 | G5: 6.1 | H5: 7 | I5: 8 | J5: 9 | K5: 10 | L5: 11 | M5: 12 | N5: 13 | O5: 14 | P5: 15 | Q5: 16 | R5: 17 | S5: 18 | T5: 19 | U5: 20 | V5: 20.1 | W5: 21 | X5: 22 | Y5: 23 | Z5: 24
A6: 1 | B6: ГБПОУ "Бурятский республиканский педагогический колледж", детский центр "Дружба" | C6: Государственное бюджетное учреждение | D6: Нимбуева Соелма Цыдыповна | E6: 0323089013 | F6: 670000, Республика Бурятия г.Улан-Удэ, ул.Хоца Намсараева, д.5, тел. 8(3012)446341, brpk@govrb | G6: 670000, Республика Бурятия, Заиграевский район, расположен в 2-х км северо западнее от улуса Онохой-Шибирь, тел. 89085955771 | H6: https://druzhbacamp03.tilda.ws/ | I6: Организация отдыха детей и их оздоровления сезонного действия | J6: сезонный | K6: 1 смена: 18.06-08.07 2 смена 10.07-30.07 | L6: 1700 | M6: от 7-15 | N6: Проживание в 5 благоустроенных корпусах, в 2 х быстровозводимых корпусах, 5-разовое питание в столовой | O6: бассейн | P6: Ввод в эксплуатацию - 1958 год; Капитальный ремонт -нет | Q6: 03.БЦ.11.000.М.000480.05.26 от 29.05.2026 г. | R6: 22.07.2024 г. -Управление Роспотребнадзора, плановая проверка по соблюдению санитарно-эпидемиологических норм. Выявлены нарушения и выдано представление об устранении причин и условий, способствующих совершению административного правонарушения №26 от 14.08.2024г. 21.07.2025г. - Управление Роспотребнадзора, плановая проверка по соблюдению санитарно-эпидемиологических норм. Выявлены нарушения и выдано представление об устранении причин и условий, способствующих совершению административного правонарушения №21 от 31.07.2025. 28.07.2025 г. - Управление Роспотребнадзора по Республике Бурятия, выездная, внеплановое проверка, выдано постановление №32 по делу об административном правонарушений 15.08.2025 года. 14.08.2025 года получено представление об устранении нарушений федерального законодательства от Прокуратуры Заиграевского района №03-01-2025. 12.05.2025г. - Федеральный государственный пожарный надзор, выездная, внеплановая проверка. 10.02.2026 г. - Федеральный государственный пожарный надзор, Профилактический визит | S6: Л0 03-01-001772 от 20.04.2015 | T6: нет | U6: 1. Дети, передвигающиеся на креслах-колясках 7. частичное нарушение слуха 8. нарушения умственного развития | V6: дети с ограниченными возможностями здоровья: 1. дети с нарушением слуха (глухие, слабослышащие, позднооглохшие); 4. дети с нарушением опорно-двигательного аппарата; 5. дети с умственной отсталостью; | W6: https://druzhbacamp03.tilda.ws/documents | X6: 250 | Y6: государственная | Z6: Заиграевский
A7: 2 | B7: Детский оздоровительный стационарный лагерь "Юность" | C7: Государственное бюджетное учреждение | D7: Цыдыпов Цыден Ринчинимаевич | E7: 0326005364 | F7: 670000, Республика Бурятия г.Улан-Удэ, ул.Пржевальского 3, тел. 410614, rcdutic@mail.ru | G7: 670000, Республика Бурятия, Баргузинский район, с. Максимиха, ул. Школьная 7 | H7: https://turizm03.ru/?cat=30 | I7: Организация отдыха детей и их оздоровления сезонного действия | J7: сезонный | K7: 1 смена: 24.06.2026- 14.07.2026; 2 смена: 17.07.2026- 06.08.2026; 3 смена: 09.08.2026-22.08 2026. | L7: 2190 | M7: от 7 до 17 лет | N7: Проживание в 1 полублагоустроенном корпусе, и в 2 неблаг корпусах 5-разовое питание в столовой | O7: нет | P7: Ввод в эксплуатацию - 1961 год; Капитальный ремонт -2022 г. | Q7: 03.БЦ.11.000.М.000513.06.26 от 18.06.2026 г. | R7: 22.07.2022г. - Управление Роспотребнадзора, внеплановая проверка по соблюдению санитарно-эпидемиологических норм. Выявлены нарушения и протокол по делу об административном провонарушении №21 от 16.07.2024. | S7: Л0-03-01-00-2440 от 19.06.2017 | T7: №2552 от 25.03.2016г. (серия 03ЛО01 №0001097) | U7: нет | V7: 1 | W7: https://turizm03.ru/?page_id=10180 | X7: 100 | Y7: государственная | Z7: Баргузинский
A8: 3 | B8: Муниципальное автономное учреждение "Детский спортивно-оздоровительный стационарный лагерь "Барилдаан"" | C8: Муниципальное автономное учреждение | D8: Будаев Радна Сергеевич | E8: 0323111111 | F8: 671624, Республика Бурятия, Баргузинский район, село Максимиха, Школьная ул., д.8 "а", Barildaan@yandex.ru | G8: 671624, Республика Бурятия, Баргузинский район, село Максимиха, Школьная ул., д.8 "а" тел. 89140551985 | H8: нет | I8: Организация отдыха детей и их оздоровления сезонного действия | J8: сезонный | K8: 1 смена: 29.06.2026- 19.07.2026; 2 смена: 22.07.2026- 11.08.2026 | L8: 2142.86 | M8: 7-17/7-15 | N8: Проживание в 1 неблагоустроенном корпусе и 5 неблагоустроенный кемпингах, 5- разовое питание в столовой | O8: нет | P8: ввод в эксплуатацию - 1974 год; Капитальный ремонт -2023 г. | Q8: 03.БЦ.11.000.М.000545.07.26 от 03.07.2026 г. | R8: нет | S8: Л0-03-01-002692 от 21.06.2018 г. | T8: нет | U8: нет | W8: https://example.com/path/to/file.pdf | X8: 39 | Y8: муниципальная | Z8: Баргузинский
A9: 4 | B9: муниципальное бюджетное учреждение "Баунтовский оздоровительный лагерь "Восход" МБУ "Баунтовский оздоровительный лагерь "Восход" | C9: муниципальное бюджетное учреждение | D9: Солдатова Оксана Александровна | E9: 0302001258 | F9: 671510 Республика Бурятия Баунтовский Эвенкийский район с.Багдарин ул Ленина д.24 | G9: 671510 Республика Бурятия, Баунтовский Эвенкийский район,сельское поселение Северное, п.Малый Амалат,тер.оздоровительный лагерь Восход долина реки Малый Амалат 83015341053 | H9: https://bauntovskij-r81.gosweb.gosuslugi.ru/glavnoe/pu/bauntruo/oiod/ | I9: Организация отдыха детей и их оздоровления сезонного действия | J9: сезонный | K9: 1 смена: 01.07.2026-21.07.2026 | L9: 1816.43 | M9: от 7 до 15 лет | N9: Проживание в 5 полублагоустроенных корпусах, 6-разовое питание в столовой | O9: отсутствует | P9: Ввод в эксплуатацию 1974 год; | Q9: 03.БЦ.11.000.М.000547.07.26 от 03.07.2026 г. | R9: 16.07.2025 профилактический визит | S9: Л0-03-01-002441 от 22.06.2017г | T9: нет | U9: все категории | V9: дети с нарушением слуха (глухие, слабослышащие, позднооглохшие) | W9: https://do-ts.buryatshool.ru/?section_id=101 | X9: 56 | Y9: муниципальная | Z9: Баунтовский
A10: 5 | B10: Муниципальное автономное учреждение дополнительного образования "Центр дополнительного образования детей" Джидинского района, МАУ ДО ЦДОД, структурное подразделение Детский оздоровительный лагерь "Черемушки" | C10: Муниципальное автономное образовательное учреждение | D10: Цыренжапова Надежда Борисовна | E10: 0304010770 | F10: 671920, Республика Бурятия, Джидинский район, село Петропавловка, улица Ленина, д. 46 | G10: 671920, Республика Бурятия, Джидинский район, местность "Черемушки" | I10: Организация отдыха детей и их оздоровления сезонного действия | J10: сезонный | K10: 1 смена: 10.06.2026-30.06.2026 г.; 2 смена: 3.07.2026 - 23.07.2026 г. | L10: 1547.62 | M10: 8-17 лет | N10: Проживание в 5 неблагоустроенных корпусах, 5-разовое питание в столовой | O10: нет | P10: Ввод в эксплуатацию 1968; 2005 гг. | Q10: 03.БЦ.11.000.М.000502.06.26 от 11.06.2026 г. | R10: 08.07.2025г. - Управление Роспотребнадзора, плановая проверка по соблюдению санитарно-эпидемиологических норм. Выявлены нарушения протокол №17 по делу об административном правонарушении. | S10: ЛО-03-01-0002426 от 22.05.2017 | T10: № 2943 от 19.12.2017 г. | U10: нет | V10: нет | X10: 79 | Y10: муниципальная | Z10: Джидинский
A11: 6 | B11: Муниципальное бюджетное учреждение Детский оздоровительный лагерь"Яндола", МБУ ДОЛ "Яндола" | C11: Муниципальное бюджетное учреждение | D11: Баторова Сарюна Санжиевна | E11: 0305004419 | F11: 671430, Республика Бурятия, Еравнинский район, село Сосново-Озёрское, улица Первомайская, д 127. | G11: 671430, Республика Бурятия, Еравнинский район, село Сосново-Озёрское, местность Яндола | H11: https://rooeravna.uoedu.ru/site/section?id=266 | I11: Организация отдыха детей и их оздоровления сезонного действия | J11: сезонный | K11: 1 смена: 22.06 - 12.07.2026 2 смена: 16.07- 06.08.2026 | L11: 1184.19 | M11: 7-15 лет | N11: Проживание в 2 неблагоустроенных копусах, 5-ти разовое питание в столовой | O11: нет | P11: Ввод в эксплуатацию - 1989 год, Капитальный ремонт не проводился | Q11: 03.БЦ.11.000.М.000515.06.26 от 19.06.2026 г. | R11: плановая проверка ТО Управления Роспотребнадзора по Республике Бурятия в Хоринском районе, 22.07.2025 г. | S11: Л041-01171-03/00306492 от 03.06.2016 | T11: нет | U11: нарушение умственного развития | V11: дети с умственной отсталостью, дети с задержкой психического развития, дети с нарушением поведения и общения | W11: нет | X11: 70 | Y11: Муниципальная | Z11: Еравнинский
A12: 7 | B12: Муниципальное бюджетное учреждение дополнительного образования "Заиграевский Центр детского и юношеского творчества", стационарный оздоровительный лагерь "Березка" | C12: муниципальное бюджетное учреждение | D12: Попова Марина Петровна | E12: 306011810 | F12: Республика Бурятия, Заиграевский район, пгт. Заиграево, ул. Ленина, д. 24 | G12: Республика Бурятия, Заиграевский район, с. Челутай - 24 км., местность Хара-Гужатка | H12: https://zcdut.ucoz.ru/index/letnig_otdykh/0-276 | I12: Организация отдыха детей и их оздоровления сезонного действия | J12: сезонный | K12: 1 смена: с 16.06.2026г. по 06.07.2026г.; 2 смена: с 10.07.2026г. по 30.07.2026г. | L12: 1266.12 | M12: 7-16 | N12: круглосуточное проживание, 5-ти разовое питание в столовой | O12: нет | P12: ввод в эксплуатацию - 1998г. | Q12: 03.БЦ.11.000.М.000522.06.26 от 22.06.2026 г. | R12: 22.04.2025г., 14.08.2025г. - Прокуратура Заиграевского района; 14.05.2025г. - Главное Управление МЧС России по РБ, отделение надзорной деятельности и профилактической работы Заиграевского района УНДиПР; 09.07.2025г., 15.07.2025г., 31.07.2025г. - ТО Управление Федеральной службы по надзору в сфере защиты прав потребителей и благополучия человека по РБ в Заиграевском районе | S12: Лицензия Л041-01171-03/04275010 от 02.02.2026 г. | T12: Лицензия № 2727от 30.12.2016 г. | U12: - | V12: - | W12: https://zcdut.ucoz.ru/index/degatelnost/0-303 | X12: 64 | Y12: муниципальная | Z12: Заиграевский
A13: 8 | B13: Муниципальное бюджетное учреждение детский оздоровительный лагерь "Гэсэр", МБУ ДОЛ "Гэсэр" | C13: Муниципальное бюджетное учреждение | D13: Гонжитова Ольга Санжиевна | E13: 0307032732 | F13: Республика Бурятия, Закаменский район, у.Улекчин, у.Барун-Оёр. | G13: Республика Бурятия, Закаменский район, у.Улекчин, у.Барун-Оёр. | H13: https://geser.profiedu.ru/ | I13: Организация отдыха детей и их оздоровления сезонного действия | J13: сезонный | K13: 1 смена: 05.06.2026- 25.06.2026; 2 смена: 28.06..2026- 18.07.2026; 3 смена: 22.07.2026-11.08 2026. | L13: 1223.81 | M13: 7-17 | N13: Проживание в 2 благоустроенных и 1 неблагоустроенном корпусах, 5-х разовое питание в столовой | O13: каркасный бассейн | P13: 2023 - 2 быстровозводимых корпуса;1957 - спальный корпус №1, 1955 - спальный корус №2, 1955 - столовая/пищеблок, 1952 - медицинский блок | Q13: 03.БЦ.03.000.М.000488.06.26 от 04.06.2026 | R13: 08.07.2025 г. - Управление Роспотребнадзора, плановая, выездная проверка по соблюдению санитарно-эпидемиологических норм. Выписано представление от 108.07.2025 №22, замечания устранены | S13: Серия ЛО-03, № 0001049, №Л041-01171-03/00301320 | U13: паспорт доступности есть | V13: паспорт доступности есть | W13: Имеется паспорт доступности, программа воспитательной работы и календарного плана воспитательной работы с описанием конкретных мероприятий по дням с учетом смен и возрастных групп детей | X13: 188 | Y13: муниципальная | Z13: Закаменский
A14: 9 | B14: Автономное учреждение "Оздоровительный центр "Черемушки" | C14: муниципальное автономное учерждение | D14: Будаев Чингис Борисович | E14: 0308161385 | F14: 671050, Республика Бурятия Иволгинский район с. Хурамша ул. Местность «Карасиное озеро» | G14: 671050, Республика Бурятия Иволгинский район с. Хурамша ул. Местность «Карасиное озеро» 89021608259 | H14: нет | I14: Организация отдыха детей и их оздоровления сезонного действия | J14: сезонный | K14: Периоды проведения будут установлены в зависимости от даты получения санитарно-эпидемиологического заключения | L14: 1435.72 | M14: 7-17 лет | N14: Проживание в 3-х полублагоустроенных корпусах, 5-разовое питание | O14: нет | P14: 1960 | Q14: 03.БЦ.11.000.М.000523.06.26 от 22.06.2026 | R14: Управление Роспотребнадзора, внеплановая проверка по соблюдению санитарно-эпидемиологических норм № 76 от 27.07.2025 | S14: ЛО-03-01-0002426 от 22.05.2017 | U14: Паспорт доступности не имеется | V14: Паспорт доступности не имеется | W14: нет | X14: 80 | Y14: Муниципальная | Z14: Иволгинский
A15: 10 | B15: Детский оздоровительный лагерь «Орлёнок» муниципального автономного учреждения дополнительного образования «Кабанский дом детского творчества» муниципального образования «Кабанский район» / ДОЛ «Орлёнок» МАУДО «Кабанский ДДТ» | C15: Муниципальное автономное учреждение | D15: Вторушина Татьяна Алексеевна | E15: 0309006600 | F15: 671200, Республика Бурятия, Кабанский район, с.Кабанск, ул.Ленина, д.5., 8 (30138) 41-4-57, 8902 5337391; 89149825498 | G15: 671204. Республика Бурятия, Кабанский район, п/ст.Посольская, 8 (30138) 41-4-57, 8902 5337391; 89149825498 | H15: https://kbnkdddt.buryatschool.ru/ | I15: Организация отдыха детей и их оздоровления сезонного действия | J15: сезонный | K15: 1 смена: 15.06.2026-05.07.2026; 2 смена: 08.07.2026-28.07.2026; 3 смена: 31.07.2025-14.08.2026. | L15: 2080.96 | M15: 7-17/7-15 | N15: Проживание в 4-х благоустроенных корпусах, 6-ти разовое питание в столовой | O15: Нет | P15: Ввод в эксплуатацию - 2003 год; Капитальный ремонт душевых - 2023 год., Капитальный ремонт столовой и медпункта 2025г ( май) | Q15: 03.БЦ.11.000.М.000500.06.26 от 11.06.2026 г. | R15: - Управление Роспотребнадзора, внеплановые проверки 23.06.2025; 16.07.2025; 01.08.2025 по соблюдению санитарно-эпидемиологических норм. Выявленые нарушения устранены. - Орган Государственного пож внеплановая проверка состояния пожарной безопасности 18.05.2025; 22.08.2025г - выявленые нарушения устранены ПРоывизит минобразования 08.08.2025. | S15: № ЛО-03-01-001804 от 27.05.2015г. (серия ЛО-03 № 0000959) с приложением №1. (серия ЛО-03 № 0009237) | T15: № 2803 от 23.03.2017г.(серия 03Л01 № 0001394) с приложением №1 (серия 03П01 № 0002117) | U15: 7.8 | V15: дети с умственной отсталостью; дети с задержкой психического развития; | W15: https://kbnkdddt.buryatschool.ru/?section_id=34 | X15: 95 | Y15: муниципальная | Z15: Кабанский
A16: 11 | B16: Муниципальное автономное учреждение "Стационарный оздоровительный лагерь "Хэжэнгэ", МАУ "СОЛ "Хэжэнгэ" | C16: Муниципальное автономное учреждение | D16: Цыренова Дарима Геннадьевна | E16: 0310010351 | F16: 671450 Республика Бурятия Кижингинский район с.Кижинга , ул. Коммунистическая, д.12 | G16: 671450 Республика Бурятия Кижингинский район с.Кижинга , местность "Кодунский мост", 1 | I16: Организация отдыха детей и их оздоровления сезонного действия | J16: сезонный | K16: 1 смена: 01.07.2026- 21.07.2026; 2 смена: 25.07.2026- 14.08.2026; | L16: 1380.96 | M16: 07-17 | N16: имеются спальные корпуса в форме юрты на 60 мест коек, столовая на 100 посадочных мест, пищеблок, медпункт, помещение для культурно-массового назначения (конференц-зал), дом для персонала, а также физкультурно-спортивная площадка | O16: - | P16: 2017 | Q16: №03.БЦ.03.11.000.М.000535.06.26 от 29.06.2026 г. | R16: 27.05 - 24,06.2025 г. документарная плановая проверка Упр.Роспотребнадзора по Респ.Бурятия 07.07.-18.07.2025 г плановая КНМ (выездная) проверка Упр.Роспотребнадзора по Респ.Бурятия 28.07.-08.08.2025 г. - внеплановая (выездная) проверка Упр.Роспотребнадзора по Респ.Бурятия 21.05.-30.05.2025 г - внеплановая проверка Фед. гос. пожарный надзор. | S16: Л041-01171-03/00348383 от 03.04.2020. | X16: 60 | Y16: Муниципальная | Z16: Кижингинский
A17: 12 | B17: Муниципальное автономное образовательное учреждение " Спортивно-оздоровительный лагерь "Каскад" | C17: Муниципальное бюджетное учреждение | D17: Вамбуева Пурбацу Раднаевна | E17: 0326021077 | F17: 671822 Республика Бурятия Кяхтинский район, улус Большой -Луг, ул.Гармаева д1 | G17: 671822 Республика Кяхтинский район улус Большой-Луг, расположен в 7- километрах юго- восточнее от населенного пункта | H17: https://sol-kaskad.profiedu.ru/ | I17: Организация отдыха детей и их оздоровления сезонного действия | J17: сезонный | K17: 1 смена с 20.06.26-10.07.26, 2 смена с 14.07.2026-03.08.2026 | L17: 1832.61 | M17: 7-17 лет | N17: Проживание в 4 неблагоустроенных корпусах, 5-разовое питание в столовой | O17: нет | P17: 29.06.2012 г | Q17: №03.БЦ.03.11.000.М.000514.06.26 от 19.06.2026 г. | R17: 29.07.2025 года Управление Роспотребнадзора, плановая проверка по соблюдению санитарно-эпидемологических норм. Выявлены нарушения и составлен протокол по делу об адмиристративном правонарушении. Протокол №17 от 29.07.2025 года. Решение: часть 1 статья 6.7 КоАП РФ в виде предупреждения. | S17: №ЛО-03-01-0021-52 от 20.04.2016 | U17: нет | V17: нет | W17: https://sol-kaskad.profiedu.ru/ | X17: 70 | Y17: муниципальная | Z17: Кяхтинский
A18: 13 | B18: Загородный оздоровительный лагерь "Уголек", ЗОЛ "Уголек" | C18: общество с ограниченной ответственностью | D18: Похлебаев Вячеслав Юрьевич | E18: 0318016845 | F18: Селенгинский район, озеро Щучье | G18: Селенгинский район, озеро Щучье | H18: ma@kumutkan.ru, camp03.ru | I18: Организация отдыха детей и их оздоровления сезонного действия | J18: сезонный | K18: 1 смена 02.06 по 22.06.2026, 2 смена 24.06 по 14.07.2026, 3 смена 16.07 по 05.08.2026, 4 смена 07.08-27.08.2026 | L18: 2380.95 | M18: 7-15 лет | N18: проживание в пяти неблагоустроенных корпусах. 5ти разовое питание в столовой | O18: нет | P18: 1969 | Q18: 03.БЦ.11.000.М.000481.06.26 от 01.06.2026 г. | R18: плановая проверка Роспотребнадзор, акт №37С/С-п от 22.07.2022г. - нарушения отсутствуют. | S18: №ЛО-03-01-0025-50 от 28.12.2017 | U18: нет | V18: нет | X18: 218 | Y18: частная | Z18: Селенгинский
A19: 14 | B19: Муниципальное бюджетное образовательное учреждение Образовательный центр"Радуга" МБОУ ОЦ "Радуга" | C19: Муниципальное бюджетное учреждение | D19: Авдюшкина Валентина Валерьевна | E19: 0317004124 | F19: 671717, Республика Бурятия, Северобайкальск, Байкальское шоссе 4 км, 89140587908, mboudool.raduga@mail.ru | G19: 671717, Республика Бурятия, Северобайкальск, Байкальское шоссе 4 км, 8(30130)2-23-32 8(914)058-7908 | H19: https://raduga.nasmene.ru/ | I19: Организация отдыха детей и их оздоровления сезонного действия | J19: сезонный | K19: 1 сезон: 26.06.2026-16.07.2026, 2 сезон: 20.07.2026-09.08.2026 | L19: 2282.15 | M19: 7-17 лет | N19: проживание в 3-х благоустроеннгых корпусах, 5-ти разовое питание | O19: нет | P19: Ввод в эксплуатацию - 1983 год. | Q19: 03.БЦ.11.000.М.000529.06.26 от 26.06.2026 | R19: 07.07.2025г. - Управление Роспотребнадзора, плановая проверка по соблюдению санитарно-эпидемиологических норм. Орган Государственного пожарного надзора плановая проверка состояния пожарной безопасности | S19: Л041-01171-03/00299806 от 10.07.2015 | T19: № 3070 от 24.04.2018г | U19: нет | V19: 3. дети с задержкой психического развития; | W19: https://raduga.nasmene.ru/ | X19: 90 | Y19: муниципальная | Z19: г. Северобайкальск
A20: 15 | B20: Автономное учреждение дополнительного образования Республики Бурятия "Республиканская спортивная школа олимпийского резерва" Спортивно-оздоровительный лагерь "Энхалук" | C20: Автономное учреждение | D20: Цоктоев Будажап Буда-Цыренович | E20: 0323050190 | F20: 670000, Республика Бурятия, г.Улан-Удэ, ул.Кирова, д. 1, 8(3012)21-17-03, baikal-olimp@govrb.ru | G20: 671243, Республика Бурятия, Кабанский район, поселок Новый Энхалук, ул.Лесная, д. 6, 8 (991)427-15-71 | H20: https://baikal-olimp.ru/ | I20: Организация отдыха детей и их оздоровления сезонного действия | J20: сезонный | K20: 1 смена 06.06.2026 - 26.06.2026, 2 смена 10.07.2026-30.07.2026 | L20: 2142.86 | M20: 7-15 лет | N20: Проживание в 14 благоустроенных корпусах, в 3 неблагоустроенных корпусах, 5-ти разовое питание в столовой | O20: нет | P20: Ввод в эксплуатацию - 1972 год; Капитальный ремонт столовой - 2023 год. | Q20: 03.БЦ.11.000.М.000485.06.26 от 03.06.2026 г. | R20: 1.Документарная проверка территориального отдела Управления Федеральной службы по надзору в сфере защиты прав потребителей и благополучия человека по Республике Бурятия в Кабанском районе. Акт документарной проверки от 30.06.2022г. №26. Нарушения, в ходе проведения проверки не выявлены. 2.Выездная проверка территориального отдела Управления Федеральной службы по надзору в сфере защиты прав потребителей и благополучия человека по Республике Бурятия в Кабанском районе. Акт выездной проверки от 19.07.2022г. №29-К/К-н. Представление от 19.07.2022г. №47. Нарушения, выявленные в ходе проведения проверки, устранены в установленные сроки. 3.Проверка Прокурора Кабанского района старшего советника юстиции Будаева Б.Р. Представление Прокуратуры Кабанского района об устранении нарушений законодательства об обеспечении безопасности детей при организации летнего отдыха от 01.08.2022г. №08-02-2022. Нарушения, выявленные в ходе проведения проверки, устранены в установленные сроки. | S20: Л0-03-01-003085 от 13.12.2019 | T20: Л035-01223-03/00668476 от 04.08.2023 | U20: нет | V20: нет | W20: https://baikal-olimp.ru/документы-0 | X20: 106 | Y20: Государственная | Z20: Кабанский
A21: 16 | B21: Детский оздоровительный лагерь «Сибиряк» Дирекции социальной сферы Восточно-Сибирской железной дороги-филиала открытого акционерного общества «Российские железные дороги» | C21: Открытое акционерное общество | D21: Сенатаева Ирина Анатольевна | E21: 7708503727 | F21: 107174, г. Москва, вн.тер.г. муниципальный округ Басманный, ул. Новая Басманная, д. 2/1, стр.1 | G21: Республика Бурятия, муниципальный район Селенгинский, сельское поселение Жаргаланта, территория Детский оздоровительный лагерь Сибиряк | H21: company.rzd.ru | I21: Организация отдыха детей и их оздоровления сезонного действия | J21: сезонный | K21: 1 смена: 16.06.2026- 06.07.2026; 2 смена: 09.07.2026- 29.07.2026; 3 смена: 02.07.2026-22.08 2026. | L21: 3762 | M21: 7-16 лет | N21: 5-разовое питание, проживание в корпусах, отвечающим государственным санитарно-эпидемическим правилам и нормативам, требованиям пожарной безопасности и профилактики травматизма | O21: пляж | P21: Ввод в эксплуатацию - 2009, 2013, 2014, 2018 год | Q21: 38.ЖЦ.02.000.М.000017.06.26 от 05.06.2026 | R21: Управление Роспотребнадзора по железнодорожному транспорту: плановая проверка - Акт выездной проверки №21 от 27.05.2025, № 38 от 19.08.2025 | S21: Л041-01151-22/00368518 от 17.03.2017г. | T21: нет | U21: паспорт доступности отсутствует | V21: паспорт доступности отсутствует | W21: программа и календарный план 2025 года | X21: 350 | Y21: частная | Z21: Селенгинский
A22: 17 | B22: Детский оздоровительный лагерь "Березка" - обособленное подразделение БРО профсоюза работников здравоохранения РФ | C22: общественная организация | D22: Тарасова Марина Сергеевна | E22: 0323051570 | F22: 671281, Республика Бурятия, Прибайкальский район, село Ильинка, улица Павлова, дом 10 | G22: 671281, Республика Бурятия, Прибайкальский район, село Ильинка, улица Павлова, дом 10, 8(3012)211469; 8(3012) 37-80-20; 8983420-20-71 | H22: bromed44@yandex.ru | I22: Организация отдыха детей и их оздоровления сезонного действия | J22: сезонный | K22: 1 смена: 17.06.2026 - 07.07.2026; 2 смена: 10.07.2026 - 30.07.2026; 3 смена: 02.08.2026 - 22.08.2026. | L22: 2144.48 | M22: 7-17 лет | N22: 7 спальных корпусов, 5-ти разовое питание | O22: бассейн | P22: Ввод в эксплуатацию - 1967 год; Капитальный ремонт - 2010-2021 гг. | Q22: 03.БЦ.03.000.М.000510.06.26 от 16.06.2026 г. | R22: Плановая выездная проверка РПН от 28.06.2022г., нарушения устранены в полном объеме | S22: Л041-01171-03/00332949 от 16.07.2019 | U22: 5,7,8 | V22: 1,2,3,5,6,7 | W22: нет | X22: 223 | Y22: некоммерческая организация | Z22: Прибайкальский
A23: 18 | B23: МАУ ДО ДООЦ "Байкальские волны" г. Улан-Удэ | C23: Муниципальное автономное учреждение | D23: Башкуев Н.А. | E23: 326000486 | F23: 670000, Республика Бурятия г.Улан-Удэ, ул.Ленина, д.23, тел. 8(3012)455029, baikalvolna@yandtx.ru | G23: 671243, Республика Бурятия, Кабанский район, с.Сухая,местность "Загза", тел. 89025641785 | H23: https://example.org/childrens-rest-and-health | I23: Организация отдыха детей и их оздоровления сезонного действия | J23: сезонный | K23: 1 смена: 01.06.2026- 21.06.2026; 2 смена: 23.06.2026 - 13.07.2026; 3 смена: 15.07.2026 - 04.08.2026; 4 смена: 06.08.2026 - 26.08.2026 | L23: 2163.81 | M23: 7-17/7-15 | N23: Проживание в 5 благоустроенных корпусах, 5-разовое питание в столовой | O23: пляж | P23: Ввод в эксплуатацию - 1999 год; Капитальный ремонт -2024 г. | Q23: 03.БЦ.11.000.М.000471.05.25 от 27.05.2026 г. | R23: 17.07.2025г. - Управление Роспотребнадзора, внеплановая проверка по соблюдению санитарно-эпидемиологических норм. Выявлены нарушения и протокол по делу об административном провонарушении №25 от 22.07.2025. Орган Государственного пожарного надзора профвизит проверка состояния пожарной безопасности -от 28.05.2025 г. | S23: Л0-03-01-0022154 от 18.05.2016 | T23: №3032 от 30.03.2018г. (серия 03Л01 №0001648) | U23: все категории | V23: дети с нарушением слуха (глухие, слабослышащие, позднооглохшие) | W23: https://baikalvolna.profiedu.ru | X23: 210 | Y23: муниципальная | Z23: Кабанский
A24: 19 | B24: МАУ ДО ДООЦ "Огонек" г. Улан-Удэ" | C24: Муниципальное автономное учреждение дополнительного образования "Детский оздоровительно образовательный центр "Огонек" г. Улан-Удэ" | D24: Чернова Ольга Юрьевна | E24: 326030441 | F24: 670045,РБ, г. Улан-Удэ, мкр Верхняя Березовка, зд.6а, тел. 83012443669, e-mail: ogonyek70@mail.ru | G24: 670045,РБ, г. Улан-Удэ, мкр Верхняя Березовка, зд.6а, тел. 83012443669, e-mail: ogonyek70@mail.ru | H24: http://mau-do-doots.buryatschool.ru | I24: Организация отдыха детей и их оздоровления сезонного действия | J24: сезонный | K24: 1 смена: 08.06.2026- 21.06.2026; 2 смена: 22.06.2026- 07.07.2026; 3 смена: 10.07.2026-30.07 2026. 4 смена: 03.08.2026-23.08 | L24: 2097.38 | M24: 14-18 | N24: проживание в благоустроенных корпусах, 5-разовое питание в столовой | O24: бассейн | P24: ввод в эксплуатацию - 1932 год; Капитальный ремонт -2025 г. | Q24: 03.БЦ.11.000.М.000487.06.26 от 04.06.2026 г. | R24: Управление Роспотребнадзора, внеплановая проверка по соблюдению санитарно-эпидемиологических норм. Выявлены нарушения и протокол по делу об административном провонарушении №46 Орган Государственного пожарного надзора внеплановая проверка состояния пожарной безопасности - выявлены нарушения и решение суда Железнодорожного района | S24: ЛО-03-01-002710 от 23.07.2018 | T24: №3033 от 30 марта 2018 | U24: нет в связи с условиями программы по военно-спортивной подготовке детей | V24: нет в связи с условиями программы по военно-спортивной подготовке детей | W24: https://mau-do-doots.buryatschool.ru/sveden/document | X24: 274 | Y24: муниципальная | Z24: г. Улан-Удэ
A25: 20 | B25: Муниципальное автономное образовательное учреждение дополнительного образования «Центр дополнительного образования «Эдельвейс» г. Улан-Удэ / МАОУ ДО ЦДО «Эдельвейс» г. Улан-Удэ | C25: Муниципальное автономное образовательное учреждение | D25: Цынгунова Евгения Тумэновна | E25: 323100965 | F25: 670000, Республика Бурятия г.Улан-Удэ, ул.Нестерова, д.6, тел. 8(3012)55-89-46, maou_edelweiss@govrb.ru | G25: 670000, Республика Бурятия, Заиграевский район, с Нарын-Ацагаг, расположен в 9-ти км к северу., тел. 8(3012)55-89-46 | H25: https://maou-do-t.buryatschool.ru/ | I25: Организация отдыха детей и их оздоровления сезонного действия | J25: сезонный | K25: 1 смена: 03.06.2026- 23.06.2026; 2 смена: 26.06.2026- 16.07.2026; 3 смена: 21.07.2026-10.08 2026. | L25: 2077.43 | M25: 7-17 | N25: Проживание в 5 неблагоустроенных корпусах, 5-разовое питание в столовой | O25: - | P25: Ввод в эксплуатацию - 1994 год; Капитальный ремонт -2025 г. | Q25: 03.БЦ.11.000.М.000473.06.26 от 28.05.2026 г. | R25: 02.07.2025 г. - Управление Роспотребнадзора, плановая проверка по соблюдению санитарно-эпидемиологических норм. Выявлены нарушения и протокол по делу об административном провонарушении №27 от 22.07.2025. 06.08.2025г. - Управление Роспотребнадзора, внеплановая проверка по соблюдению санитарно-эпидемиологических норм. Выявлены нарушения и протокол по делу об административном провонарушении №33 от 15.08.2025. | S25: ЛО-03-01-002083 от 18.03.2016 | T25: №3034 от 30.03.2018г. (серия 03Л01 №001650) | U25: нет | V25: нет | W25: https://disk.yandex.ru/d/5XHmDoljI7BZ3A | X25: 80 | Y25: Муниципальная | Z25: Заиграевский
A26: 21 | B26: Муниципальное автономное учреждение дополнительного образования "Детский оздоровительно-образовательный центр "Рассвет" г. Улан-Удэ, МАУ ДО "ДООЦ "Рассвет" г. Улан-Удэ" | C26: Муниципальное автономное учреждение | D26: Будацыренова Сарюна Александровна | E26: 0323119250 | F26: 670045, Республика Бурятия, город Улан-Удэ, микрорайон Верхняя Березовка, дом 40 тел.: 89969359903, e-mail: rassvet-zg@mail.ru | G26: 671310, Республика Бурятия, Заиграевский район, местность Красное Урочище, тел.: 89969359903 | H26: https://mau-do-do.buryatschool.ru/ | I26: Организация отдыха детей и их оздоровления сезонного действия | J26: сезонный | K26: 1 смена 10.06.2026 - 30.06.2026 2 смена 03.07.2026- 23.07.2026 3 смена 26.07.2026 - 15.08.2026 | L26: 1886.53 | M26: 7-17 лет | N26: Проживание в 8 неблагоустроенных копусах, 5-ти разовое питание в столовой | O26: нет | P26: Ввод в эксплуатацию 1962 год, капитальный ремонт 2025 год; Медицинский пункт, изолятор - год ввода в эксплуатацию 1962 год, капитальный ремонт 2019 год; Банно-прачечный блок - год ввода в эксплуатацию 1962 год, капитальный ремонт 2025 год; Пищеблок - год ввода в эксплуатацию 1962 год, капитальный ремонт 2005 год. | Q26: 03.БЦ.11.000.М.000491.06.26 от 09.06.2026 г. | R26: ТО Управления Роспотребнадзора по РБ в Заиграевском районе: документарная плановая проверка от 20.05.2025 г. – нарушений не выявлено; профилактический визит от 18.06.2025 г.-нарушений не выявлено; плановая проверка от 15.07.2025 г. –предписаний нет, все выявленные нарушения устранены в ходе проверки; Отделение надзорной деятельности и профилактических работ Заиграевского района – внеплановая проверка от 16.05.2025 г. – предписаний нет, все выявленные нарушения устранены в ходе проверки; | S26: Л041-01171-03/00304793 от 18.03.2016 | T26: Лицензия Министерства образования и науки РБ №3037 от 30.03.2018 г. Бессрочно | U26: доступности нет | V26: доступности нет | W26: https://mau-do-do.buryatschool.ru/upload/buryascmau_do_do_new/files/a4/0c/a40ca149661caa7acd02537bd5923281.pdf | X26: 240 | Y26: Муниципальная | Z26: Заиграевский
A27: 22 | B27: Муниципальное автономное учреждение дополнительного образования "Детский оздоровительно-образовательный центр «Родник» г. Улан-Удэ (МАУ ДО ДООЦ «Родник» г. Улан-Удэ) | C27: Муниципальное автономное учреждение | D27: Цыбикова Марина Кимовна | E27: 0326520100 | F27: 670045, Республика Бурятия, г. Улан-Удэ, ул. Кумысская, д. 1 А тел.8 (3012) 44-38-19 (лагерь); 8 (3012) 55-14-94; 8 (914) 982-18-80, mau_doo@govrb.ru | G27: 670045, Республика Бурятия, г. Улан-Удэ, ул. Кумысская, д. 1 А тел.8 (3012) 44-38-19 (лагерь); 8 (3012) 55-14-94; 8 (914) 982-18-80, mau_doo@govrb.ru | H27: https://mau-do-doo.buryatschool.ru/ | I27: Организация отдыха детей и их оздоровления сезонного действия | J27: сезонный | K27: 1 смена с «01» июня 2026 по «21» июня 2026; 2 смена с «24» июня 2026 по «14» июля 2026; 3 смена с «17» июля 2026 по «06» августа 2026; 4 смена с «09» августа 2026 по «29» августа 2026 | L27: 2107.86 | M27: 7-16 лет | N27: Проживание в 9 неблагоустроенных корпусах, 5-ти разовое питание в столовой; | O27: нет | P27: Основное здание введено в эксплуатацию в 1939 г., баня и служебное здание в 1968 г., летний спальный корпус в 2009 г. Капитальный ремонт АПС в 2020 г., капитальный ремонт кровли основного здания в 2022-2023 гг. Текущий ремонт производится – ежегодно | Q27: 03.БЦ.11.000. М.000459.05.26 от 27.05.2026 г | R27: Май 2025 г. - Управление Роспотребнадзора по Республике Бурятия, плановая, документальная проверка. Нарушений не выявлено. Июнь 2025 г. - Управление Роспотребнадзора по Республике Бурятия, плановая, выездная проверка. Представление № 85 от 01.07.25 г. об устранении нарушений: Предписание №201 от 19.06.25 г. и Предписание № 203 от 23.06.25 г. об отстранении от работы вожатой с недостоверными сведениями в личной медкнижке и приеме детей в лагерь в первые два дня. Предписание №199 от 19.06.25 г. об обеспечении качества и безопасности питьевой воды из-за несоответствия гигиеническим нормативам по радиационной безопасности. Требования по приему детей выполнены. Проведено исследование воды в лаборатории Санкт-Петербурга. Результат: вода имеет допустимый уровень превышения показателей по радиации. Июнь 2025 г. - Представление Прокуратуры Железнодорожного района г. Улан-Удэ от 25.06.2025г № 03-02-2025. Выявлены нарушения: 1. Лагерь не оснащен системами охранной сигнализации; 2. Система АПС выполнена без проектного решения в новых беседках; 3. Неисправная система оповещения о пожаре в корпусах 6,9,10; в новых беседках отсутствует светоуказатель выход; нет звукового оповещения в корпусах 11,12. Заключен договор с обслуживающей организацией о проведении ремонтных работ, для устранения нарушений. Работы проведены. Июль 2025 г. - Управление Роспотребнадзора по Республике Бурятия, внеплановая, выездная проверка. Предписание №245 от 24.07.25 г. об обеспечении качества и безопасности питьевой воды (превышен уровень содержания железа). Предписание №259 от 31.07.25 г. и Представление № 98 от 31.07.25 г.: не зафиксированы в журнале данные термометрии детей и сопровождающих лиц при заезде детей в лагерь; не представлена программа производственного контроля; Нарушена целостность напольной плитки (срок устранения 30.04.2026 г.) Проведена работа по промывке сети холодного водоснабжения и повторное исследование воды. Показатели в норме. Август 2025 г. - Управление Роспотребнадзора по Республике Бурятия, внеплановая, выездная проверка. Предписание № 272 от 19.08.2025 г.: обеспечить качество и безопасность питьевой воды по содержанию железа. Декабрь 2025 г. - Прокуратура Железнодорожного района, представление об устранении нарушений федерального законодательства по соблюдению правил и норм пожарной безопасности. | S27: Л041-01171-03/00312832 от 07.04.2017 | T27: № 3036 от 30 марта 2018 г. (Серия 03Л01 №0001652). | U27: - | V27: дети с нарушением слуха (глухие, слабослышащие, позднооглохшие) | W27: Программа воспитательной работы от 2025 г., согласована председателем комитета по образованию Администрации г. Улан-Удэ. | X27: 81 | Y27: Муниципальная | Z27: г. Улан-Удэ
A28: 23 | B28: МАУ ДО ДООЦ "Березка" г. Улан-Удэ" | C28: муниципальное автономное учреждение | D28: Махутова Ирина Васильевна | E28: 326003529 | F28: 670045, РБ, г. Улан-Удэ, п. Верхняя ерезовка,40 | G28: 670045, РБ, г. Улан-Удэ, п. Верхняя ерезовка,40, 44-11-77 | H28: https://mau-do-doot.buryatschool.ru | I28: Организация отдыха детей и их оздоровления сезонного действия | J28: сезонный | K28: 1 смена: 10.06.2026- 30.06.2026; 2 смена: 03.07.2026- 23.07.2026; 3 смена: 26.07.2026-15.08 2026. | L28: 1872.72 | M28: 7-17 | N28: проживание в 9 полублагоустроенных корпусах, 5-разовое питание в столовой | O28: нет | P28: 1959, капитальный ремонт -2025 г. | Q28: №03.БЦ.11.000.М.000492.06.26 от 09.06.2026 г. | S28: Л0-03-01-001918от 15.10.2015 | T28: №3035 от 30.03.2018 (серия 03Л01№0001651 | U28: все категории | V28: Дети с ограниченными возможностями здоровья: 1. дети с нарушением слуха (глухие, слабослышащие, позднооглохшие); 2. дети с нарушением зрения (слепые, слабовидящие); 3. дети с нарушением речи (логопаты); 4. дети с нарушением опорно-двигательного аппарата; | X28: 240 | Y28: муниципальная | Z28: г. Улан-Удэ
A29: 24 | B29: Муниципальное автономное учреждение дополнительного образования «Спортивно-оздоровительный комплекс «Зорька» г. Улан-Удэ», МАУ «СОК «Зорька» г. Улан-Удэ» | C29: Муниципальное автономное учреждение | D29: Дутова Алена Анатольевна | E29: 0326564404 | F29: 670045, Республика Бурятия,г.Улан-Удэ, мкр.Верхняя Березовка,7б, 8(3013)33-25-14, zorkauu@yandex.ru | G29: 670045,Республика Бурятия,г.Улан-Удэ, мкр.Верхняя Березовка,7б, 8(3013)33-25-14 | H29: зорька03.рф | I29: Организация отдыха детей и их оздоровления сезонного действия | J29: сезонный | K29: 1 смена: 02106.2026-11.07.2026; 2 смена: 14.07.2026- 03.08.2026; 3 смена 06.08.2026- 26.08.2026 | L29: 2176.43 | M29: 7-17/7-15 | N29: Проживание в 2 благоустроенных корпусах, 1 неблагоустроенный, 5-ти разовое питание в столовой | O29: нет | P29: Ввод в эксплуатацию - 1962год; Капитальный ремонт столовой -2024 год. | Q29: 03.БЦ.11.000.М.000506.06.26. от 11.06.2026 г. | R29: 23.06.2025г. - Управление Роспотребнадзора, внеплановая проверка по соблюдению санитарно-эпидемиологических норм. Выявлены нарушения и протокол по делу об административном провонарушении №170 от 23.06.2025. Орган Государственного пожарного надзора внеплановая проверка состояния пожарной безопасности - выявлены нарушения и протокол об административном правонарушении №2505-03-123-00064 от 26.05.2025 | S29: ЛО41- 01171-03/ 01249045 от 14.0262024г. | T29: Л035-01223-03/00958181 от 05.12.2023 | U29: нет | V29: нет | W29: https://зорька03.рф/ | X29: 113 | Y29: муниципальная | Z29: г. Улан-Удэ
A30: 25 | B30: Муниципальное автономное учреждение дополнительного образования «Спортивная школа №5" г.Улан-Удэ,Спортивно-оздоровительный лагерь"Старт" , (МАУ ДО «СШ№ 5" г.Улан-Удэ, СОЛ "Старт") | C30: Муниципальное автономное учреждение | D30: Ким Максим Зенхенович | E30: 0323085080 | F30: 670042,Республика Бурятия г.Улан-Удэ, ул.Жердева,9 "В",тел.8(3012)43-81-01, sportschool5@yandex.ru | G30: 671110, Республика Бурятия, Тарбагатайский район, сельское поселение Саянтуйское, село Верхний Саянтуй, территория СОЛ "Старт", здание 7 | H30: спортшкола5.рф | I30: Организация отдыха детей и их оздоровления сезонного действия | J30: сезонный | K30: 1 смена: 02.06.2026-22.06.2026; 2 смена: 24.06.2026- 14.07.2026; 3 смена 16.07.2026- 05.08.2026; 4 смена: 07.08.2026- 27.08.2026 | L30: 2189.53 | M30: 7-17/7-15 | N30: Проживание в 3 благоустроенных корпусах, 5-ти разовое питание в столовой | O30: бассейн | P30: Ввод в эксплуатацию - 2023 год; Капитальный ремонт столовой -2011 год. | Q30: 03.БЦ.11.000.М.000482.06.26. от 01.06.2026г. | R30: 27.06.2025г.- Управление Роспотребнадзора, плановая проверка по соблюдению санитарно-эпидемиологических норм.Выявлены нарушения предписание об устранении №73 от 27.06.2025 г. | S30: ЛО41- 01171-03/ 00341375 от 19.02.2020г. | T30: №3200 ОТ10.04.2019 г.( Серия 03ЛО1 №0001845) | U30: Поражение верхней конечности. | V30: дети с нарушением слуха (слабослышащие) | W30: https://спортшкола5.рф/wp-content/uploads/2025/04/программа-воспитательной-работы-СОЛ-Старт-07.07.2025.pdf | X30: 136 | Y30: муниципальная | Z30: Тарбагатайский
A31: 26 | B31: Муниципальное автономное учреждение дополнительного образования " Спортивная школа №6" г. Улан-Удэ, СОЛ "Юнтур" | C31: Муниципальное автономное учреждение | D31: Сороковиков Иван Михайлович | E31: 323111533 | F31: 670031, Республика Бурятия, г.Улан-Удэ, ул.Трубачеева, 24 | G31: 671222, Республика Бурятия, Тарбагатайский район, село Верхний Саянтуй, тел. 8(3012)455025 | H31: https://ssh6-uu.ru/ | I31: Организация отдыха детей и их оздоровления сезонного действия | J31: сезонный | K31: 1 смена:15.06.2026-05.07.2026; 2 смена: 08.07.2026-28.07.2026; 3 смена 31.07.2026-20.08.2026 | L31: 2180.43 | M31: 7-15 лет | N31: 2 спальных корпуса, 5-ти разовое питание | O31: бассейн | P31: Ввод в эсплуатацию - 1997год; Капитальный ремонт - 2021- 2022 год; Текущий ремонт - ежегодно. | Q31: 03.БЦ.11.000.М.000501.06.26 от 11.06.2026 | S31: Л041-01171-03/05297176 от 15.06.2026 г. | T31: №3214 от 31.07.2029 (серия 03 Л01 №0001859 ) | U31: нет | V31: нет | W31: разрабатываются | X31: 60 | Y31: Муниципальная | Z31: Тарбагатайский
D32: НЕ ФУНКЦИОНИРУЮТ В 2026 году
A33: 27 | B33: Государственное бюджетное общеобразовательное учреждение "Республиканский бурятский национальный лицей интернат №1", Лагерь труда и отдыха "ТУЯА" | C33: Государственное бюджетное учреждение | D33: Шойнжонов Булат Баирович | E33: 0326005090 | F33: 670034, Республика Бурятия, г. Улан-Удэ, ул. Чертенкова,д.30, rbnli_1@govrb.ru | G33: Республика Бурятия, Иволгинский район, село Хурумша, местность "Карасиное озеро", 8-3012-44-62-03, 89834399171 | H33: 8-3012-44-62-03, 89834399171 | I33: Организация отдыха детей и их оздоровления сезонного действия | J33: сезонный | K33: не будет функционировать | M33: 7-17 лет | N33: проживание в неблагоустроенных корпусах, 5-ти разовое питание в столовой | O33: нет | P33: Ввод в эксплуатацию корпусов 1959 год | S33: Л041-01171-03/00358335 от 30.11.2020 | T33: №2987 от 06.03.2018г. (серия 03ЛО1 №0001601 | Y33: государственная | Z33: Иволгинский
A34: 28 | B34: Спортивно-оздоровительный лагерь "Надежда" структурное подразделение муниципального автономного учреждения дополнительного образования "Спортивная школа олимпийского резерва № 1" г. Улан-Удэ | C34: Муниципальное автономное учреждение | D34: Чернега Евгений Александрович | E34: 0323054780 | F34: 670010, Республика Бурятия, г.Улан-Удэ, ул. Жуковского, д.23, sport.olimp1@yandex.ru | G34: 671182, Республика Бурятия, Селенгинский район, оз. Щучье, СОЛ "Надежда",8(3012)45-60-77, 8(983)433-55-36 | H34: 8(3012)45-60-77, 8(983)433-55-36 | I34: Организация отдыха детей и их оздоровления сезонного действия | J34: сезонный | K34: не будет функционировать | M34: 7-17 лет | N34: Проживание в 6 благоустроенных копусах, 6-ти разовое питание в столовой, спортивные площадки, уличный тренажерный копмлекс, баня, культурно-досуговый центр. | O34: нет | P34: Ввод в эсплуатацию - 1993год; Капитальный ремонт бани - 2022 год. | S34: Л041-01171-03/00306830 от 17.06.2016 | T34: №3154 от 01.10.2018г. (серия 03Л01 №0001788) | Y34: муниципальная | Z34: Иволгинский

Sheet Лагеря с дневным пребыванием
A1: № п/п | B1: Полное и сокращенное (если имеется) наименования организации отдыха детей и их оздоровления | C1: Организационно-правовая форма организации отдыха детей и их оздоровления | D1: ФИО руководителя организации отдыха детей и их оздоровления | E1: ИНН | F1: Адрес (место нахождения) организации отдыха детей и их оздоровления, контактный телефон, адрес электронной почты | G1: Фактический адрес организации отдыха детей и их оздоровления, контактный телефон | H1: Официальный сайт организации отдыха детей и их оздоровления в информационно-телекоммуникационной сети "Интернет" | I1: Тип организации отдыха детей и их оздоровления | J1: Предоставляемые организацией отдыха детей и их оздоровления услуги в сфере отдыха и оздоровления детей | P1: Дата ввода используемых организацией отдыха детей и их оздоровления объектов (для организаций стационарного типа) и дата проведения капитального ремонта | Q1: Информация о наличии санитарно-эпидемиологического заключения, включая дату выдачи заключения | R1: Информация о результатах проведения органами, осуществляющими государственный контроль (надзор), плановых и внеплановых проверок в текущем году (при наличии) и в предыдущем году | S1: Информация о наличии лицензии на осуществление медицинской деятельности | T1: Информация о наличии лицензии на осуществление образовательной деятельности | U1: Обеспечение в организации отдыха детей и их оздоровления доступности услуг для детей-инвалидов и детей с ограниченными возможностями здоровья | W1: Сведения о наличии программы воспитательной работы и календарного плана воспитательной работы с описанием конкретных мероприятий по дням с учетом смен и возрастных групп детей | X1: Проектная вместимость (мощность мест в смену) | Y1: Форма собственности | Z1: Район/муниципалитет
J2: Режим работы организации отдыха детей и их оздоровления (сезонный/круглогодичный) | K2: Даты проведения смен | L2: Средняя стоимость 1 дня пребывания в организации отдыха детей и их оздоровления | M2: Возрастная категория детей, принимаемых в организацию отдыха детей и их оздоровления | N2: Информация о проживании и питании детей в организации отдыха детей и их оздоровления | O2: Наличие оборудованного места для купания | U2: Категория детей-инвалидов 1. передвигающиеся на креслах-колясках 2. поражение нижних конечностей 3. поражение верхних конечностей 4. полное нарушение зрения – слепота 5. частичное нарушение зрения 6. полное нарушение слуха – глухота 7. частичное нарушение слуха 8. нарушения умственного развития 9. Все категории | V2: Дети с ограниченными возможностями здоровья: 1. дети с нарушением слуха (глухие, слабослышащие, позднооглохшие); 2. дети с нарушением зрения (слепые, слабовидящие); 3. дети с нарушением речи (логопаты); 4. дети с нарушением опорно-двигательного аппарата; 5. дети с умственной отсталостью; 6. дети с задержкой психического развития; 7. дети с нарушением поведения и общения; 8. дети с комплексными нарушениями психофизического развития, с так называемыми сложными дефектами (слепоглухонемые, глухие или слепые дети с умственной отсталостью) 9. Все категории
A3: 1 | B3: 2 | C3: 3 | D3: 4 | E3: 5 | F3: 6 | G3: 6.1 | H3: 7 | I3: 8 | J3: 9 | K3: 10 | L3: 11 | M3: 12 | N3: 13 | O3: 14 | P3: 15 | Q3: 16 | R3: 17 | S3: 18 | T3: 19 | U3: 20 | V3: 20.1 | W3: 21 | X3: 22 | Y3: 23 | Z3: 24
A4: 1 | B4: Лагерь с дневным пребыванием "Успешное поколение" МБОУ "Баргузинская СОШ" | C4: Муниципальное бюджетное учреждение | D4: Папич Светлана Базаржабовна | E4: 0301001375 | F4: 671610,Республика Бурятия, Баргузинский район.с.Баргузин, ул.Калинина, д 51 "А" | G4: 671610,Республика Бурятия, Баргузинский район.с.Баргузин, ул.Калинина, д 51 "А" | H4: https://barguzinschool.gosuslugi.ru/ | I4: Лагеря, организованные образовательными организациями, осуществляющими организацию отдыха и оздоровления | J4: сезонный | K4: 1 смена: 01.06.2025- 25.06.2025; | L4: 195 | M4: 7-17 | N4: Без проживания, 2-х разовое питание в столовой | O4: нет | P4: Ввод в эксплуатацию - 1972 год; частичный капитальный ремонт -2024 г. | Q4: № 03.БЦ.11.000.М.000398.05.26 от 20.05.2026 г. | R4: По итогам проверки Управления Роспотребнадзора 28.02.2024г. выездная проверка по соблюдению санитарно-эпидемиологических норм. Выявлены нарушения и выписано предписание об устранении. | S4: Л0-03-01-0003195 от 29.05.2020 | T4: №3016 от 29.03.2019г. | U4: все категории | V4: 4. дети с нарушением опорно-двигательного аппарата; 6. дети с задержкой психического развития; | W4: https://xn--d1abknlude.xn--p1ai/files/programma-profilnoy-smeny-smena-pervykh-pervootkryvateli-leta/ | X4: 120 | Y4: муниципальная | Z4: Баргузинский
A5: 2 | B5: Муниципальное бюджетное общеобразовательное учреждение "Баянгольская средняя общеобразовательная школа" | C5: Муниципальное бюджетное общеобразовательное учреждение "Баянгольская средняя общеобразовательная школа" | D5: Дондупова Екатерина Ракшаевна | E5: 0301001368 | F5: 671616, Республика Бурятия, Баргузинский район, у.Баянгол, ул.Ленина, 69 | G5: 671616, Республика Бурятия, Баргузинский район, у.Баянгол, ул.Ленина, 69 | H5: https://sh-bayangolskaya--barguzinskij-r81.gosweb.gosuslugi.ru/ | I5: Лагеря, организованные образовательными организациями, осуществляющими организацию отдыха и оздоровления | J5: сезонный | K5: 1 смена: 01.06.2026- 25.06.2026 | L5: 195 | M5: 7-17 | N5: Без проживания, 2-х разовое питание в столовой | O5: нет | P5: 2025г. | Q5: № 03.БЦ.11.000.М.000336.05.26 от 15.05.2026 г. | R5: 08.12.2025г. - ТО "Управление Роспотребнадзора по РБ в Баргузинском районе" Требования предписания об устранении выявленных нарушениях от 19.12.2025г. №49, изложенные в пункте 3, а именно несоответствие температуры и относительной влажности воздуха, нормативным величинам в спортзале +15 и актовом зале +10. Продлен срок исполнения до 01.09.2026г. | S5: ЛО-03-01-003195 от 29.05.2020 | T5: №3025 от 29 марта 2018г. Серия 03Л01 № 0001641 | U5: все категории | V5: все категории | W5: https://sh-bayangolskaya--barguzinskij-r81.gosweb.gosuslugi.ru/svedeniya-ob-obrazovatelnoy-organizatsii/dokumenty/dokumenty-all-52_298.html | X5: 176 | Y5: муниципальная | Z5: Баргузинский
A6: 3 | B6: Лагерь с дневным пребыванием "Радуга" МБОУ "Усть-Баргузинская средняя общеобразовательная школа им. Шелковникова К. М." | C6: Муниципальное бюджетное учреждение | D6: Баяндуев Эрдэм Сергеевич | E6: 0301001696 | F6: 671624, Республика Бурятия, р-н Баргузинский, пгт. Усть-Баргузин, ул. Оцимика, д. 24 8(30131)91-3-31 89246535173 school_ust-barguzin@govrb.ru | G6: 671624, Республика Бурятия, р-н Баргузинский, пгт. Усть-Баргузин, ул. Оцимика, д. 24 8(30131)91-3-31 89246535173 school_ust-barguzin@govrb.ru | H6: https://sh-ust-barguzinskaya-r81.gosweb.gosuslugi.ru/ | I6: Лагеря, организованные образовательными организациями, осуществляющими организацию отдыха и оздоровления | J6: сезонный | K6: 1 смена: 01.06.2026-25.06.2026 | L6: 195 | M6: 7-17 | N6: Без проживания, 2-х разовое питание | O6: нет | P6: Ввод в эксплуатацию - 1965 год; Капитальный ремонт -2022 г. | Q6: № 03.БЦ.11.000.М.000461.05.26 от 26.05.2026 | R6: Нарушений не выявлено | S6: ЛО-03-01-003195 от 29.05.2020 ГБУЗ "Баргузинская ЦРБ" | T6: №2993 от 13.03.2018 г. (серия 03Л01 №0001607) | U6: все категории | V6: дети с нарушением слуха (глухие, слабослышащие, позднооглохшие) | W6: https://sh-ust-barguzinskaya-r81.gosweb.gosuslugi.ru/svedeniya-ob-obrazovatelnoy-organizatsii/dokumenty/dokumenty-all-52_406.html | X6: 90 | Y6: муниципальная | Z6: Баргузинский
A7: 4 | B7: Муниципальное бюджетное общеобразовательное учреждение "Улюнская средняя общеобразовательная школа имени Сахара Хамнаева" | C7: Муниципальное бюджетное учреждение | D7: Гармаев Станислав Владимирович | E7: 301002322 | F7: 671601 Республика Бурятия, Баргузинский район, у.Улюн, ул.Пионерская, д.29. Тел. 8 (301 31) 94-129; e-mail: school_ulun@govrb.ru | G7: 671601 Республика Бурятия, Баргузинский район, у.Улюн, ул.Пионерская, д.29. Тел. 8 (301 31) 94-129; e-mail: school_ulun@govrb.ru | H7: https://sh-ulyunskaya-r81.gosweb.gosuslugi.ru | I7: Лагеря, организованные образовательными организациями, осуществляющими организацию отдыха и оздоровления | J7: сезонный | K7: 01/06/2026- 25/06/2026 | L7: 195 | M7: 7-17 | N7: Без проживания, 2-х разовое питание в столовой | O7: нет | P7: Ввод 1964г. Капитальный ремонт 2019г. | Q7: №03.БЦ.11.000.М.000402.05.26 от 20.05.2026 г. | R7: 29.05.2025г - Управление Роспотребнадзора, профилактический визит по соблюдению санитарно-эпидемиологических норм.Нарушений обязательных требований не выявлено . 16.06.2025. - Управление Роспотребнадзора, профилактический визит по соблюдению санитарно-эпидемиологических норм .Нарушений обязательных требований не выявлено | S7: № ЛО-03-01-003195 от 29.05.2020 ГБУЗ "Баргузинская ЦРБ" | T7: Серия 03ЛО1 № 0001637 | U7: все категории | V7: дети с задержкой психического развития | W7: https://sh-ulyunskaya-r81.gosweb.gosuslugi.ru/netcat_files/32/315/PROGRAMMA_VOSPITANIYa_ULYuNSKOY_ShKOLY_NA_2025_26_uch.pdf | X7: 25 | Y7: муниципальная | Z7: Баргузинский
A8: 5 | B8: Муниципальное бюджетное общеобразовательное учреждение "Юбилейная средняя общеобразовательная школа. | C8: Муниципальное бюджетное общеобразовательное учреждение | D8: Горячих Алена Валерьевна | E8: 0301003037 | F8: 671627, Республика Бурятия., Баргузинский район, п. Юбилейный, ул. Калинина 7а | G8: 671627, Республика Бурятия., Баргузинский район, п. Юбилейный, ул. Калинина 7а | H8: https://sh-yubilejnaya-r81.gosweb.gosuslugi.ru/ | I8: Лагеря, организованные образовательными организациями, осуществляющими организацию отдыха и оздоровления | J8: сезонный | K8: с 01.06 по 25 06.2026 года | L8: 195.00 | M8: 7-17 | N8: Без проживания, 2-х разовое питание в столовой | O8: нет | P8: 1967г., капитальный ремонт-2017 г | Q8: № 03.БЦ.11.000.М.000352.05.26 от 18.05.2026 г. | R8: не проводилось | S8: № ЛО-03-01-002165 от 20.05.2016 г. (Серия ЛО-03 № 0001272) | T8: № 1877 от 22.01.2013 (серия 03Л01 №0000347) | U8: нет | V8: нет | W8: https://sh-yubilejnaya-r81.gosweb.gosuslugi.ru/svedeniya-ob-obrazovatelnoy-organizatsii/dokumenty/ | X8: 25 | Y8: муниципальная | Z8: Баргузинский
A9: 6 | B9: Муниципальное автономное образовательное учреждение "Багдаринская СОШ" МАОУ "Багдаринская СОШ" | C9: Муниципальное автономное образовательное уреждение | D9: Дугарова Анжела Борисовна | E9: 0302101414 | F9: 671510, Республика Бурятия Баунтовский эвенкийский р-он, с.Багдарин, ул. Ленина д.103А | G9: 671510, Республика Бурятия Баунтовский эвенкийский р-он, с.Багдарин, ул.Баунтовская 40 А 8(30153) 5-13-878(30153) 4-14-01 | H9: sh-bagdarinskaya-r81.gosweb.gosuslugi.ru | I9: Лагеря, организованные образовательными организациями, осуществляющими организацию отдыха и оздоровления | J9: сезонный | K9: с 1 по 25 июня 2026 года | L9: 195.6 | M9: от 7 до 15 лет | N9: проживание не предусмотрено, питание 4-х разовое | O9: отсутствует | P9: 1974 год | Q9: № 03.БЦ.11.000.М.000314.05.26 от 14.05.2026 г. | R9: 17.06.2025 г. - Управление Роспотребнадзора, обязательный профилактический визит по соблюдению санитарно-эпидеимологических норм. Выявлены нарушения и предписание об устранении выявленных нарушений обязательных требований №9 от 17.06.2025 г. | S9: договор с ГБУЗ "Баунтовская ЦРБ" от № 5 от 09.01.2020г. (пролонгируется ежегодн | T9: №2888 от 20.07.2017 г. (Серия 03Л01 №0001495) | U9: все категории | V9: дети с нарушением слуха (глухие, слабослышащие, позднооглохшие) | W9: sh-bagdarinskaya-r81.gosweb.gosuslugi.ru | X9: 138 | Y9: муниципальная | Z9: Баунтовский
A10: 7 | B10: Муниципальное бюджетное образовательное учреждение "Витимская средняя общеобразовательная школа" МБОУ "Витимская СОШ" | C10: Муниципальное бюджетное образовательное учреждение | D10: Сомова Светлана Николаевна | E10: 0302101492 | F10: 671543 Республика Бурятия Баунтовский эвенкийский район с. Романовка ул. Почтовая д.24 | G10: 671543 Республика Бурятия Баунтовский эвенкийский район с. Романовка ул. Почтовая д.24 8(30153)54243 | H10: sh-vitimskaya-romanovka-r81.gosweb.gosuslugi.ru | I10: Лагеря, организованные образовательными организациями, осуществляющими организацию отдыха и оздоровления | J10: сезонный | K10: с 1 по 25 июня 2026 года | L10: 195.6 | M10: от 7 до 15 лет | N10: Без проживания, 2-х разовое питание в столовой | O10: отсутствует | P10: ввод в эксплуатацию 1964, капитальный ремонт 2024 год | Q10: № 03.БЦ.11.000.М.000470.05.26 от 27.05.2026 г. | R10: не проводились | S10: договор с ГБУЗ "Баунтовская ЦРБ" от № 1 от 09.01.2020г. (пролонгируется ежегодно) | T10: № 2441 от 03 декабря 2015г | U10: все категории | V10: дети с нарушением слуха (глухие, слабослышащие, позднооглохшие) | W10: sh-vitimskaya-romanovka-r81.gosweb.gosuslugi.ru | X10: 60 | Y10: муниципальная | Z10: Баунтовский
A11: 8 | B11: Муниципальное бюджетное образовательное учреждение "Уакитская СОШ" МБОУ "Уакитская СОШ" | C11: Муниципальное бюждетное образовательное учреждение | D11: Педонова Зоя Николаевна | E11: 0302101453 | F11: Республика Бурятия,Баунтовский эвенкийский район,п.Уакит, ул.Советская, 4 | G11: Республика Бурятия,Баунтовский эвенкийский район,п.Уакит, ул.Советская, 4 8301-53 42-3-89 | H11: sh-uakitskaya-r81.gosweb.gosuslugi.ru | I11: Лагеря, организованные образовательными организациями, осуществляющими организацию отдыха и оздоровления | J11: сезонный | K11: с 1 по 25 июня 2026года | L11: 195.6 | M11: от 7 до 15 лет | N11: Без проживания, 2-х разовое питание в столовой | O11: отсутствует | P11: ввод в эксплуатацию 1976, капитальный ремонт 2023 | Q11: № 03.БЦ.11.000.М.000282.05.26 от 14.05.2026 г. | R11: 04.02.2026 №1 проведение профилактического визита, внеплановой проверки | S11: договор с ГБУЗ "Баунтовская ЦРБ" от февраля 2025г. (пролонгируется ежегодно) | T11: 2960 от 19 января 2018 года 03ЛО1 №0001570 | U11: все категории | V11: дети с нарушением слуха | W11: sh-uakitskaya-r81.gosweb.gosuslugi.ru | X11: 16 | Y11: муниципальная | Z11: Баунтовский
