Workbook

Sheet Загородые оздоровительные лагер
K2: Реестр организаций отдыха и оздоровления детей Республики Бурятия 2026 г.
A3: № п/п | B3: Полное и сокращенное (если имеется) наименования организации отдыха детей и их оздоровления | C3: Организационно-правовая форма организации отдыха детей и их оздоровления | D3: ФИО руководителя организации отдыха детей и их оздоровления | E3: ИНН | F3: Адрес (место нахождения) организации отдыха детей и их оздоровления, контактный телефон, адрес электронной почты | G3: Фактический адрес организации отдыха детей и их оздоровления, контактный телефон | H3: Официальный сайт организации отдыха детей и их оздоровления в информационно-телекоммуникационной сети "Интернет" | I3: Тип организации отдыха детей и их оздоровления | J3: Предоставляемые организацией отдыха детей и их оздоровления услуги в сфере отдыха и оздоровления детей | P3: Дата ввода используемых организацией отдыха детей и их оздоровления объектов (для организаций стационарного типа) и дата проведения капитального ремонта | Q3: Информация о наличии санитарно-эпидемиологического заключения, включая дату выдачи заключения | R3: Информация о результатах проведения органами, осуществляющими государственный контроль (надзор), плановых и внеплановых проверок в текущем году (при наличии) и в предыдущем году | S3: Информация о наличии лицензии на осуществление медицинской деятельности | T3: Информация о наличии лицензии на осуществление образовательной деятельности | U3: Обеспечение в организации отдыха детей и их оздоровления доступности услуг для детей-инвалидов и детей с ограниченными возможностями здоровья | W3: Сведения о наличии программы воспитательной работы и календарного плана воспитательной работы с описанием конкретных мероприятий по дням с учетом смен и возрастных групп детей | X3: Проектная вместимость (мощность мест в смену) | Y3: Форма собственности | Z3: Район/муниципалитет
J4: Режим работы организации отдыха детей и их оздоровления (сезонный/круглогодичный) | K4: Даты проведения смен | L4: Средняя стоимость 1 дня пребывания в организации отдыха детей и их оздоровления | M4: Возрастная категория детей, принимаемых в организацию отдыха детей и их оздоровления | N4: Информация о проживании и питании детей в организации отдыха детей и их оздоровления | O4: Наличие оборудованного места для купания | U4: Категория детей-инвалидов 1. передвигающиеся на креслах-колясках 2. поражение нижних конечностей 3. поражение верхних конечностей 4. полное нарушение зрения – слепота 5. частичное нарушение зрения 6. полное нарушение слуха – глухота 7. частичное нарушение слуха 8. нарушения умственного развития 9. Все категории | V4: Дети с ограниченными возможностями здоровья: 1. дети с нарушением слуха (глухие, слабослышащие, позднооглохшие); 2. дети с нарушением зрения (слепые, слабовидящие); 3. дети с нарушением речи (логопаты); 4. дети с нарушением опорно-двигательного аппарата; 5. дети с умственной отсталостью; 6. дети с задержкой психического развития; 7. дети с нарушением поведения и общения; 8. дети с комплексными нарушениями психофизического развития, с так называемыми сложными дефектами (слепоглухонемые, глухие или слепые дети с умственной отсталостью) 9. Все категории
A5: 1 | B5: 2 | C5: 3 | D5: 4 | E5: 5 | F5: 6 | G5: 6.1 | H5: 7 | I5: 8 | J5: 9 | K5: 10 | L5: 11 | M5: 12 | N5: 13 | O5: 14 | P5: 15 | Q5: 16 | R5: 17 | S5: 18 | T5: 19 | U5: 20 | V5: 20.1 | W5: 21 | X5: 22 | Y5: 23 | Z5: 24
A6: 1 | B6: ГБПОУ "Бурятский республиканский педагогический колледж", детский центр "Дружба" | C6: Государственное бюджетное учреждение | D6: Нимбуева Соелма Цыдыповна | E6: 0323089013 | F6: 670000, Республика Бурятия г.Улан-Удэ, ул.Хоца Намсараева, д.5, тел. 8(3012)446341, brpk@govrb | G6: 670000, Республика Бурятия, Заиграевский район, расположен в 2-х км северо западнее от улуса Онохой-Шибирь, тел. 89085955771 | H6: https://druzhbacamp03.tilda.ws/ | I6: Организация отдыха детей и их оздоровления сезонного действия | J6: сезонный | K6: 1 смена: 18.06-08.07 2 смена 10.07-30.07 | L6: 1700 | M6: от 7-15 | N6: Проживание в 5 благоустроенных корпусах, в 2 х быстровозводимых корпусах, 5-разовое питание в столовой | O6: бассейн | P6: Ввод в эксплуатацию - 1958 год; Капитальный ремонт -нет | Q6: 03.БЦ.11.000.М.000480.05.26 от 29.05.2026 г. | R6: 22.07.2024 г. -Управление Роспотребнадзора, плановая проверка по соблюдению санитарно-эпидемиологических норм. Выявлены нарушения и выдано представление об устранении причин и условий, способствующих совершению административного правонарушения №26 от 14.08.2024г. 21.07.2025г. - Управление Роспотребнадзора, плановая проверка по соблюдению санитарно-эпидемиологических норм. Выявлены нарушения и выдано представление об устранении причин и условий, способствующих совершению административного правонарушения №21 от 31.07.2025. 28.07.2025 г. - Управление Роспотребнадзора по Республике Бурятия, выездная, внеплановое проверка, выдано постановление №32 по делу об административном правонарушений 15.08.2025 года. 14.08.2025 года получено представление об устранении нарушений федерального законодательства от Прокуратуры Заиграевского района №03-01-2025. 12.05.2025г. - Федеральный государственный пожарный надзор, выездная, внеплановая проверка. 10.02.2026 г. - Федеральный государственный пожарный надзор, Профилактический визит | S6: Л0 03-01-001772 от 20.04.2015 | T6: нет | U6: 1. Дети, передвигающиеся на креслах-колясках 7. частичное нарушение слуха 8. нарушения умственного развития | V6: дети с ограниченными возможностями здоровья: 1. дети с нарушением слуха (глухие, слабослышащие, позднооглохшие); 4. дети с нарушением опорно-двигательного аппарата; 5. дети с умственной отсталостью; | W6: https://druzhbacamp03.tilda.ws/documents | X6: 250 | Y6: государственная | Z6: Заиграевский
A7: 2 | B7: Детский оздоровительный стационарный лагерь "Юность" | C7: Государственное бюджетное учреждение | D7: Цыдыпов Цыден Ринчинимаевич | E7: 0326005364 | F7: 670000, Республика Бурятия г.Улан-Удэ, ул.Пржевальского 3, тел. 410614, rcdutic@mail.ru | G7: 670000, Республика Бурятия, Баргузинский район, с. Максимиха, ул. Школьная 7 | H7: https://turizm03.ru/?cat=30 | I7: Организация отдыха детей и их оздоровления сезонного действия | J7: сезонный | K7: 1 смена: 24.06.2026- 14.07.2026; 2 смена: 17.07.2026- 06.08.2026; 3 смена: 09.08.2026-22.08 2026. | L7: 2190 | M7: от 7 до 17 лет | N7: Проживание в 1 полублагоустроенном корпусе, и в 2 неблаг корпусах 5-разовое питание в столовой | O7: нет | P7: Ввод в эксплуатацию - 1961 год; Капитальный ремонт -2022 г. | Q7: 03.БЦ.11.000.М.000513.06.26 от 18.06.2026 г. | R7: 22.07.2022г. - Управление Роспотребнадзора, внеплановая проверка по соблюдению санитарно-эпидемиологических норм. Выявлены нарушения и протокол по делу об административном провонарушении №21 от 16.07.2024. | S7: Л0-03-01-00-2440 от 19.06.2017 | T7: №2552 от 25.03.2016г. (серия 03ЛО01 №0001097) | U7: нет | V7: 1 | W7: https://turizm03.ru/?page_id=10180 | X7: 100 | Y7: государственная | Z7: Баргузинский
A8: 3 | B8: Муниципальное автономное учреждение "Детский спортивно-оздоровительный стационарный лагерь "Барилдаан"" | C8: Муниципальное автономное учреждение | D8: Будаев Радна Сергеевич | E8: 0323111111 | F8: 671624, Республика Бурятия, Баргузинский район, село Максимиха, Школьная ул., д.8 "а", Barildaan@yandex.ru | G8: 671624, Республика Бурятия, Баргузинский район, село Максимиха, Школьная ул., д.8 "а" тел. 89140551985 | H8: нет | I8: Организация отдыха детей и их оздоровления сезонного действия | J8: сезонный | K8: 1 смена: 29.06.2026- 19.07.2026; 2 смена: 22.07.2026- 11.08.2026 | L8: 2142.86 | M8: 7-17/7-15 | N8: Проживание в 1 неблагоустроенном корпусе и 5 неблагоустроенный кемпингах, 5- разовое питание в столовой | O8: нет | P8: ввод в эксплуатацию - 1974 год; Капитальный ремонт -2023 г. | Q8: 03.БЦ.11.000.М.000545.07.26 от 03.07.2026 г. | R8: нет | S8: Л0-03-01-002692 от 21.06.2018 г. | T8: нет | U8: нет | W8: https://example.com/path/to/file.pdf | X8: 39 | Y8: муниципальная | Z8: Баргузинский
A9: 4 | B9: муниципальное бюджетное учреждение "Баунтовский оздоровительный лагерь "Восход" МБУ "Баунтовский оздоровительный лагерь "Восход" | C9: муниципальное бюджетное учреждение | D9: Солдатова Оксана Александровна | E9: 0302001258 | F9: 671510 Республика Бурятия Баунтовский Эвенкийский район с.Багдарин ул Ленина д.24 | G9: 671510 Республика Бурятия, Баунтовский Эвенкийский район,сельское поселение Северное, п.Малый Амалат,тер.оздоровительный лагерь Восход долина реки Малый Амалат 83015341053 | H9: https://bauntovskij-r81.gosweb.gosuslugi.ru/glavnoe/pu/bauntruo/oiod/ | I9: Организация отдыха детей и их оздоровления сезонного действия | J9: сезонный | K9: 1 смена: 01.07.2026-21.07.2026 | L9: 1816.43 | M9: от 7 до 15 лет | N9: Проживание в 5 полублагоустроенных корпусах, 6-разовое питание в столовой | O9: отсутствует | P9: Ввод в эксплуатацию 1974 год; | Q9: 03.БЦ.11.000.М.000547.07.26 от 03.07.2026 г. | R9: 16.07.2025 профилактический визит | S9: Л0-03-01-002441 от 22.06.2017г | T9: нет | U9: все категории | V9: дети с нарушением слуха (глухие, слабослышащие, позднооглохшие) | W9: https://do-ts.buryatshool.ru/?section_id=101 | X9: 56 | Y9: муниципальная | Z9: Баунтовский
A10: 5 | B10: Муниципальное автономное учреждение дополнительного образования "Центр дополнительного образования детей" Джидинского района, МАУ ДО ЦДОД, структурное подразделение Детский оздоровительный лагерь "Черемушки" | C10: Муниципальное автономное образовательное учреждение | D10: Цыренжапова Надежда Борисовна | E10: 0304010770 | F10: 671920, Республика Бурятия, Джидинский район, село Петропавловка, улица Ленина, д. 46 | G10: 671920, Республика Бурятия, Джидинский район, местность "Черемушки" | I10: Организация отдыха детей и их оздоровления сезонного действия | J10: сезонный | K10: 1 смена: 10.06.2026-30.06.2026 г.; 2 смена: 3.07.2026 - 23.07.2026 г. | L10: 1547.62 | M10: 8-17 лет | N10: Проживание в 5 неблагоустроенных корпусах, 5-разовое питание в столовой | O10: нет | P10: Ввод в эксплуатацию 1968; 2005 гг. | Q10: 03.БЦ.11.000.М.000502.06.26 от 11.06.2026 г. | R10: 08.07.2025г. - Управление Роспотребнадзора, плановая проверка по соблюдению санитарно-эпидемиологических норм. Выявлены нарушения протокол №17 по делу об административном правонарушении. | S10: ЛО-03-01-0002426 от 22.05.2017 | T10: № 2943 от 19.12.2017 г. | U10: нет | V10: нет | X10: 79 | Y10: муниципальная | Z10: Джидинский
A11: 6 | B11: Муниципальное бюджетное учреждение Детский оздоровительный лагерь"Яндола", МБУ ДОЛ "Яндола" | C11: Муниципальное бюджетное учреждение | D11: Баторова Сарюна Санжиевна | E11: 0305004419 | F11: 671430, Республика Бурятия, Еравнинский район, село Сосново-Озёрское, улица Первомайская, д 127. | G11: 671430, Республика Бурятия, Еравнинский район, село Сосново-Озёрское, местность Яндола | H11: https://rooeravna.uoedu.ru/site/section?id=266 | I11: Организация отдыха детей и их оздоровления сезонного действия | J11: сезонный | K11: 1 смена: 22.06 - 12.07.2026 2 смена: 16.07- 06.08.2026 | L11: 1184.19 | M11: 7-15 лет | N11: Проживание в 2 неблагоустроенных копусах, 5-ти разовое питание в столовой | O11: нет | P11: Ввод в эксплуатацию - 1989 год, Капитальный ремонт не проводился | Q11: 03.БЦ.11.000.М.000515.06.26 от 19.06.2026 г. | R11: плановая проверка ТО Управления Роспотребнадзора по Республике Бурятия в Хоринском районе, 22.07.2025 г. | S11: Л041-01171-03/00306492 от 03.06.2016 | T11: нет | U11: нарушение умственного развития | V11: дети с умственной отсталостью, дети с задержкой психического развития, дети с нарушением поведения и общения | W11: нет | X11: 70 | Y11: Муниципальная | Z11: Еравнинский
A12: 7 | B12: Муниципальное бюджетное учреждение дополнительного образования "Заиграевский Центр детского и юношеского творчества", стационарный оздоровительный лагерь "Березка" | C12: муниципальное бюджетное учреждение | D12: Попова Марина Петровна | E12: 306011810 | F12: Республика Бурятия, Заиграевский район, пгт. Заиграево, ул. Ленина, д. 24 | G12: Республика Бурятия, Заиграевский район, с. Челутай - 24 км., местность Хара-Гужатка | H12: https://zcdut.ucoz.ru/index/letnig_otdykh/0-276 | I12: Организация отдыха детей и их оздоровления сезонного действия | J12: сезонный | K12: 1 смена: с 16.06.2026г. по 06.07.2026г.; 2 смена: с 10.07.2026г. по 30.07.2026г. | L12: 1266.12 | M12: 7-16 | N12: круглосуточное проживание, 5-ти разовое питание в столовой | O12: нет | P12: ввод в эксплуатацию - 1998г. | Q12: 03.БЦ.11.000.М.000522.06.26 от 22.06.2026 г. | R12: 22.04.2025г., 14.08.2025г. - Прокуратура Заиграевского района; 14.05.2025г. - Главное Управление МЧС России по РБ, отделение надзорной деятельности и профилактической работы Заиграевского района УНДиПР; 09.07.2025г., 15.07.2025г., 31.07.2025г. - ТО Управление Федеральной службы по надзору в сфере защиты прав потребителей и благополучия человека по РБ в Заиграевском районе | S12: Лицензия Л041-01171-03/04275010 от 02.02.2026 г. | T12: Лицензия № 2727от 30.12.2016 г. | U12: - | V12: - | W12: https://zcdut.ucoz.ru/index/degatelnost/0-303 | X12: 64 | Y12: муниципальная | Z12: Заиграевский
A13: 8 | B13: Муниципальное бюджетное учреждение детский оздоровительный лагерь "Гэсэр", МБУ ДОЛ "Гэсэр" | C13: Муниципальное бюджетное учреждение | D13: Гонжитова Ольга Санжиевна | E13: 0307032732 | F13: Республика Бурятия, Закаменский район, у.Улекчин, у.Барун-Оёр. | G13: Республика Бурятия, Закаменский район, у.Улекчин, у.Барун-Оёр. | H13: https://geser.profiedu.ru/ | I13: Организация отдыха детей и их оздоровления сезонного действия | J13: сезонный | K13: 1 смена: 05.06.2026- 25.06.2026; 2 смена: 28.06..2026- 18.07.2026; 3 смена: 22.07.2026-11.08 2026. | L13: 1223.81 | M13: 7-17 | N13: Проживание в 2 благоустроенных и 1 неблагоустроенном корпусах, 5-х разовое питание в столовой | O13: каркасный бассейн | P13: 2023 - 2 быстровозводимых корпуса;1957 - спальный корпус №1, 1955 - спальный корус №2, 1955 - столовая/пищеблок, 1952 - медицинский блок | Q13: 03.БЦ.03.000.М.000488.06.26 от 04.06.2026 | R13: 08.07.2025 г. - Управление Роспотребнадзора, плановая, выездная проверка по соблюдению санитарно-эпидемиологических норм. Выписано представление от 108.07.2025 №22, замечания устранены | S13: Серия ЛО-03, № 0001049, №Л041-01171-03/00301320 | U13: паспорт доступности есть | V13: паспорт доступности есть | W13: Имеется паспорт доступности, программа воспитательной работы и календарного плана воспитательной работы с описанием конкретных мероприятий по дням с учетом смен и возрастных групп детей | X13: 188 | Y13: муниципальная | Z13: Закаменский
A14: 9 | B14: Автономное учреждение "Оздоровительный центр "Черемушки" | C14: муниципальное автономное учерждение | D14: Будаев Чингис Борисович | E14: 0308161385 | F14: 671050, Республика Бурятия Иволгинский район с. Хурамша ул. Местность «Карасиное озеро» | G14: 671050, Республика Бурятия Иволгинский район с. Хурамша ул. Местность «Карасиное озеро» 89021608259 | H14: нет | I14: Организация отдыха детей и их оздоровления сезонного действия | J14: сезонный | K14: Периоды проведения будут установлены в зависимости от даты получения санитарно-эпидемиологического заключения | L14: 1435.72 | M14: 7-17 лет | N14: Проживание в 3-х полублагоустроенных корпусах, 5-разовое питание | O14: нет | P14: 1960 | Q14: 03.БЦ.11.000.М.000523.06.26 от 22.06.2026 | R14: Управление Роспотребнадзора, внеплановая проверка по соблюдению санитарно-эпидемиологических норм № 76 от 27.07.2025 | S14: ЛО-03-01-0002426 от 22.05.2017 | U14: Паспорт доступности не имеется | V14: Паспорт доступности не имеется | W14: нет | X14: 80 | Y14: Муниципальная | Z14: Иволгинский
A15: 10 | B15: Детский оздоровительный лагерь «Орлёнок» муниципального автономного учреждения дополнительного образования «Кабанский дом детского творчества» муниципального образования «Кабанский район» / ДОЛ «Орлёнок» МАУДО «Кабанский ДДТ» | C15: Муниципальное автономное учреждение | D15: Вторушина Татьяна Алексеевна | E15: 0309006600 | F15: 671200, Республика Бурятия, Кабанский район, с.Кабанск, ул.Ленина, д.5., 8 (30138) 41-4-57, 8902 5337391; 89149825498 | G15: 671204. Республика Бурятия, Кабанский район, п/ст.Посольская, 8 (30138) 41-4-57, 8902 5337391; 89149825498 | H15: https://kbnkdddt.buryatschool.ru/ | I15: Организация отдыха детей и их оздоровления сезонного действия | J15: сезонный | K15: 1 смена: 15.06.2026-05.07.2026; 2 смена: 08.07.2026-28.07.2026; 3 смена: 31.07.2025-14.08.2026. | L15: 2080.96 | M15: 7-17/7-15 | N15: Проживание в 4-х благоустроенных корпусах, 6-ти разовое питание в столовой | O15: Нет | P15: Ввод в эксплуатацию - 2003 год; Капитальный ремонт душевых - 2023 год., Капитальный ремонт столовой и медпункта 2025г ( май) | Q15: 03.БЦ.11.000.М.000500.06.26 от 11.06.2026 г. | R15: - Управление Роспотребнадзора, внеплановые проверки 23.06.2025; 16.07.2025; 01.08.2025 по соблюдению санитарно-эпидемиологических норм. Выявленые нарушения устранены. - Орган Государственного пож внеплановая проверка состояния пожарной безопасности 18.05.2025; 22.08.2025г - выявленые нарушения устранены ПРоывизит минобразования 08.08.2025. | S15: № ЛО-03-01-001804 от 27.05.2015г. (серия ЛО-03 № 0000959) с приложением №1. (серия ЛО-03 № 0009237) | T15: № 2803 от 23.03.2017г.(серия 03Л01 № 0001394) с приложением №1 (серия 03П01 № 0002117) | U15: 7.8 | V15: дети с умственной отсталостью; дети с задержкой психического развития; | W15: https://kbnkdddt.buryatschool.ru/?section_id=34 | X15: 95 | Y15: муниципальная | Z15: Кабанский
A16: 11 | B16: Муниципальное автономное учреждение "Стационарный оздоровительный лагерь "Хэжэнгэ", МАУ "СОЛ "Хэжэнгэ" | C16: Муниципальное автономное учреждение | D16: Цыренова Дарима Геннадьевна | E16: 0310010351 | F16: 671450 Республика Бурятия Кижингинский район с.Кижинга , ул. Коммунистическая, д.12 | G16: 671450 Республика Бурятия Кижингинский район с.Кижинга , местность "Кодунский мост", 1 | I16: Организация отдыха детей и их оздоровления сезонного действия | J16: сезонный | K16: 1 смена: 01.07.2026- 21.07.2026; 2 смена: 25.07.2026- 14.08.2026; | L16: 1380.96 | M16: 07-17 | N16: имеются спальные корпуса в форме юрты на 60 мест коек, столовая на 100 посадочных мест, пищеблок, медпункт, помещение для культурно-массового назначения (конференц-зал), дом для персонала, а также физкультурно-спортивная площадка | O16: - | P16: 2017 | Q16: №03.БЦ.03.11.000.М.000535.06.26 от 29.06.2026 г. | R16: 27.05 - 24,06.2025 г. документарная плановая проверка Упр.Роспотребнадзора по Респ.Бурятия 07.07.-18.07.2025 г плановая КНМ (выездная) проверка Упр.Роспотребнадзора по Респ.Бурятия 28.07.-08.08.2025 г. - внеплановая (выездная) проверка Упр.Роспотребнадзора по Респ.Бурятия 21.05.-30.05.2025 г - внеплановая проверка Фед. гос. пожарный надзор. | S16: Л041-01171-03/00348383 от 03.04.2020. | X16: 60 | Y16: Муниципальная | Z16: Кижингинский
A17: 12 | B17: Муниципальное автономное образовательное учреждение " Спортивно-оздоровительный лагерь "Каскад" | C17: Муниципальное бюджетное учреждение | D17: Вамбуева Пурбацу Раднаевна | E17: 0326021077 | F17: 671822 Республика Бурятия Кяхтинский район, улус Большой -Луг, ул.Гармаева д1 | G17: 671822 Республика Кяхтинский район улус Большой-Луг, расположен в 7- километрах юго- восточнее от населенного пункта | H17: https://sol-kaskad.profiedu.ru/ | I17: Организация отдыха детей и их оздоровления сезонного действия | J17: сезонный | K17: 1 смена с 20.06.26-10.07.26, 2 смена с 14.07.2026-03.08.2026 | L17: 1832.61 | M17: 7-17 лет | N17: Проживание в 4 неблагоустроенных корпусах, 5-разовое питание в столовой | O17: нет | P17: 29.06.2012 г | Q17: №03.БЦ.03.11.000.М.000514.06.26 от 19.06.2026 г. | R17: 29.07.2025 года Управление Роспотребнадзора, плановая проверка по соблюдению санитарно-эпидемологических норм. Выявлены нарушения и составлен протокол по делу об адмиристративном правонарушении. Протокол №17 от 29.07.2025 года. Решение: часть 1 статья 6.7 КоАП РФ в виде предупреждения. | S17: №ЛО-03-01-0021-52 от 20.04.2016 | U17: нет | V17: нет | W17: https://sol-kaskad.profiedu.ru/ | X17: 70 | Y17: муниципальная | Z17: Кяхтинский
A18: 13 | B18: Загородный оздоровительный лагерь "Уголек", ЗОЛ "Уголек" | C18: общество с ограниченной ответственностью | D18: Похлебаев Вячеслав Юрьевич | E18: 0318016845 | F18: Селенгинский район, озеро Щучье | G18: Селенгинский район, озеро Щучье | H18: ma@kumutkan.ru, camp03.ru | I18: Организация отдыха детей и их оздоровления сезонного действия | J18: сезонный | K18: 1 смена 02.06 по 22.06.2026, 2 смена 24.06 по 14.07.2026, 3 смена 16.07 по 05.08.2026, 4 смена 07.08-27.08.2026 | L18: 2380.95 | M18: 7-15 лет | N18: проживание в пяти неблагоустроенных корпусах. 5ти разовое питание в столовой | O18: нет | P18: 1969 | Q18: 03.БЦ.11.000.М.000481.06.26 от 01.06.2026 г. | R18: плановая проверка Роспотребнадзор, акт №37С/С-п от 22.07.2022г. - нарушения отсутствуют. | S18: №ЛО-03-01-0025-50 от 28.12.2017 | U18: нет | V18: нет | X18: 218 | Y18: частная | Z18: Селенгинский
A19: 14 | B19: Муниципальное бюджетное образовательное учреждение Образовательный центр"Радуга" МБОУ ОЦ "Радуга" | C19: Муниципальное бюджетное учреждение | D19: Авдюшкина Валентина Валерьевна | E19: 0317004124 | F19: 671717, Республика Бурятия, Северобайкальск, Байкальское шоссе 4 км, 89140587908, mboudool.raduga@mail.ru | G19: 671717, Республика Бурятия, Северобайкальск, Байкальское шоссе 4 км, 8(30130)2-23-32 8(914)058-7908 | H19: https://raduga.nasmene.ru/ | I19: Организация отдыха детей и их оздоровления сезонного действия | J19: сезонный | K19: 1 сезон: 26.06.2026-16.07.2026, 2 сезон: 20.07.2026-09.08.2026 | L19: 2282.15 | M19: 7-17 лет | N19: проживание в 3-х благоустроеннгых корпусах, 5-ти разовое питание | O19: нет | P19: Ввод в эксплуатацию - 1983 год. | Q19: 03.БЦ.11.000.М.000529.06.26 от 26.06.2026 | R19: 07.07.2025г. - Управление Роспотребнадзора, плановая проверка по соблюдению санитарно-эпидемиологических норм. Орган Государственного пожарного надзора плановая проверка состояния пожарной безопасности | S19: Л041-01171-03/00299806 от 10.07.2015 | T19: № 3070 от 24.04.2018г | U19: нет | V19: 3. дети с задержкой психического развития; | W19: https://raduga.nasmene.ru/ | X19: 90 | Y19: муниципальная | Z19: г. Северобайкальск
A20: 15 | B20: Автономное учреждение дополнительного образования Республики Бурятия "Республиканская спортивная школа олимпийского резерва" Спортивно-оздоровительный лагерь "Энхалук" | C20: Автономное учреждение | D20: Цоктоев Будажап Буда-Цыренович | E20: 0323050190 | F20: 670000, Республика Бурятия, г.Улан-Удэ, ул.Кирова, д. 1, 8(3012)21-17-03, baikal-olimp@govrb.ru | G20: 671243, Республика Бурятия, Кабанский район, поселок Новый Энхалук, ул.Лесная, д. 6, 8 (991)427-15-71 | H20: https://baikal-olimp.ru/ | I20: Организация отдыха детей и их оздоровления сезонного действия | J20: сезонный | K20: 1 смена 06.06.2026 - 26.06.2026, 2 смена 10.07.2026-30.07.2026 | L20: 2142.86 | M20: 7-15 лет | N20: Проживание в 14 благоустроенных корпусах, в 3 неблагоустроенных корпусах, 5-ти разовое питание в столовой | O20: нет | P20: Ввод в эксплуатацию - 1972 год; Капитальный ремонт столовой - 2023 год. | Q20: 03.БЦ.11.000.М.000485.06.26 от 03.06.2026 г. | R20: 1.Документарная проверка территориального отдела Управления Федеральной службы по надзору в сфере защиты прав потребителей и благополучия человека по Республике Бурятия в Кабанском районе. Акт документарной проверки от 30.06.2022г. №26. Нарушения, в ходе проведения проверки не выявлены. 2.Выездная проверка территориального отдела Управления Федеральной службы по надзору в сфере защиты прав потребителей и благополучия человека по Республике Бурятия в Кабанском районе. Акт выездной проверки от 19.07.2022г. №29-К/К-н. Представление от 19.07.2022г. №47. Нарушения, выявленные в ходе проведения проверки, устранены в установленные сроки. 3.Проверка Прокурора Кабанского района старшего советника юстиции Будаева Б.Р. Представление Прокуратуры Кабанского района об устранении нарушений законодательства об обеспечении безопасности детей при организации летнего отдыха от 01.08.2022г. №08-02-2022. Нарушения, выявленные в ходе проведения проверки, устранены в установленные сроки. | S20: Л0-03-01-003085 от 13.12.2019 | T20: Л035-01223-03/00668476 от 04.08.2023 | U20: нет | V20: нет | W20: https://baikal-olimp.ru/документы-0 | X20: 106 | Y20: Государственная | Z20: Кабанский
A21: 16 | B21: Детский оздоровительный лагерь «Сибиряк» Дирекции социальной сферы Восточно-Сибирской железной дороги-филиала открытого акционерного общества «Российские железные дороги» | C21: Открытое акционерное общество | D21: Сенатаева Ирина Анатольевна | E21: 7708503727 | F21: 107174, г. Москва, вн.тер.г. муниципальный округ Басманный, ул. Новая Басманная, д. 2/1, стр.1 | G21: Республика Бурятия, муниципальный район Селенгинский, сельское поселение Жаргаланта, территория Детский оздоровительный лагерь Сибиряк | H21: company.rzd.ru | I21: Организация отдыха детей и их оздоровления сезонного действия | J21: сезонный | K21: 1 смена: 16.06.2026- 06.07.2026; 2 смена: 09.07.2026- 29.07.2026; 3 смена: 02.07.2026-22.08 2026. | L21: 3762 | M21: 7-16 лет | N21: 5-разовое питание, проживание в корпусах, отвечающим государственным санитарно-эпидемическим правилам и нормативам, требованиям пожарной безопасности и профилактики травматизма | O21: пляж | P21: Ввод в эксплуатацию - 2009, 2013, 2014, 2018 год | Q21: 38.ЖЦ.02.000.М.000017.06.26 от 05.06.2026 | R21: Управление Роспотребнадзора по железнодорожному транспорту: плановая проверка - Акт выездной проверки №21 от 27.05.2025, № 38 от 19.08.2025 | S21: Л041-01151-22/00368518 от 17.03.2017г. | T21: нет | U21: паспорт доступности отсутствует | V21: паспорт доступности отсутствует | W21: программа и календарный план 2025 года | X21: 350 | Y21: частная | Z21: Селенгинский
A22: 17 | B22: Детский оздоровительный лагерь "Березка" - обособленное подразделение БРО профсоюза работников здравоохранения РФ | C22: общественная организация | D22: Тарасова Марина Сергеевна | E22: 0323051570 | F22: 671281, Республика Бурятия, Прибайкальский район, село Ильинка, улица Павлова, дом 10 | G22: 671281, Республика Бурятия, Прибайкальский район, село Ильинка, улица Павлова, дом 10, 8(3012)211469; 8(3012) 37-80-20; 8983420-20-71 | H22: bromed44@yandex.ru | I22: Организация отдыха детей и их оздоровления сезонного действия | J22: сезонный | K22: 1 смена: 17.06.2026 - 07.07.2026; 2 смена: 10.07.2026 - 30.07.2026; 3 смена: 02.08.2026 - 22.08.2026. | L22: 2144.48 | M22: 7-17 лет | N22: 7 спальных корпусов, 5-ти разовое питание | O22: бассейн | P22: Ввод в эксплуатацию - 1967 год; Капитальный ремонт - 2010-2021 гг. | Q22: 03.БЦ.03.000.М.000510.06.26 от 16.06.2026 г. | R22: Плановая выездная проверка РПН от 28.06.2022г., нарушения устранены в полном объеме | S22: Л041-01171-03/00332949 от 16.07.2019 | U22: 5,7,8 | V22: 1,2,3,5,6,7 | W22: нет | X22: 223 | Y22: некоммерческая организация | Z22: Прибайкальский
A23: 18 | B23: МАУ ДО ДООЦ "Байкальские волны" г. Улан-Удэ | C23: Муниципальное автономное учреждение | D23: Башкуев Н.А. | E23: 326000486 | F23: 670000, Республика Бурятия г.Улан-Удэ, ул.Ленина, д.23, тел. 8(3012)455029, baikalvolna@yandtx.ru | G23: 671243, Республика Бурятия, Кабанский район, с.Сухая,местность "Загза", тел. 89025641785 | H23: https://example.org/childrens-rest-and-health | I23: Организация отдыха детей и их оздоровления сезонного действия | J23: сезонный | K23: 1 смена: 01.06.2026- 21.06.2026; 2 смена: 23.06.2026 - 13.07.2026; 3 смена: 15.07.2026 - 04.08.2026; 4 смена: 06.08.2026 - 26.08.2026 | L23: 2163.81 | M23: 7-17/7-15 | N23: Проживание в 5 благоустроенных корпусах, 5-разовое питание в столовой | O23: пляж | P23: Ввод в эксплуатацию - 1999 год; Капитальный ремонт -2024 г. | Q23: 03.БЦ.11.000.М.000471.05.25 от 27.05.2026 г. | R23: 17.07.2025г. - Управление Роспотребнадзора, внеплановая проверка по соблюдению санитарно-эпидемиологических норм. Выявлены нарушения и протокол по делу об административном провонарушении №25 от 22.07.2025. Орган Государственного пожарного надзора профвизит проверка состояния пожарной безопасности -от 28.05.2025 г. | S23: Л0-03-01-0022154 от 18.05.2016 | T23: №3032 от 30.03.2018г. (серия 03Л01 №0001648) | U23: все категории | V23: дети с нарушением слуха (глухие, слабослышащие, позднооглохшие) | W23: https://baikalvolna.profiedu.ru | X23: 210 | Y23: муниципальная | Z23: Кабанский
A24: 19 | B24: МАУ ДО ДООЦ "Огонек" г. Улан-Удэ" | C24: Муниципальное автономное учреждение дополнительного образования "Детский оздоровительно образовательный центр "Огонек" г. Улан-Удэ" | D24: Чернова Ольга Юрьевна | E24: 326030441 | F24: 670045,РБ, г. Улан-Удэ, мкр Верхняя Березовка, зд.6а, тел. 83012443669, e-mail: ogonyek70@mail.ru | G24: 670045,РБ, г. Улан-Удэ, мкр Верхняя Березовка, зд.6а, тел. 83012443669, e-mail: ogonyek70@mail.ru | H24: http://mau-do-doots.buryatschool.ru | I24: Организация отдыха детей и их оздоровления сезонного действия | J24: сезонный | K24: 1 смена: 08.06.2026- 21.06.2026; 2 смена: 22.06.2026- 07.07.2026; 3 смена: 10.07.2026-30.07 2026. 4 смена: 03.08.2026-23.08 | L24: 2097.38 | M24: 14-18 | N24: проживание в благоустроенных корпусах, 5-разовое питание в столовой | O24: бассейн | P24: ввод в эксплуатацию - 1932 год; Капитальный ремонт -2025 г. | Q24: 03.БЦ.11.000.М.000487.06.26 от 04.06.2026 г. | R24: Управление Роспотребнадзора, внеплановая проверка по соблюдению санитарно-эпидемиологических норм. Выявлены нарушения и протокол по делу об административном провонарушении №46 Орган Государственного пожарного надзора внеплановая проверка состояния пожарной безопасности - выявлены нарушения и решение суда Железнодорожного района | S24: ЛО-03-01-002710 от 23.07.2018 | T24: №3033 от 30 марта 2018 | U24: нет в связи с условиями программы по военно-спортивной подготовке детей | V24: нет в связи с условиями программы по военно-спортивной подготовке детей | W24: https://mau-do-doots.buryatschool.ru/sveden/document | X24: 274 | Y24: муниципальная | Z24: г. Улан-Удэ
A25: 20 | B25: Муниципальное автономное образовательное учреждение дополнительного образования «Центр дополнительного образования «Эдельвейс» г. Улан-Удэ / МАОУ ДО ЦДО «Эдельвейс» г. Улан-Удэ | C25: Муниципальное автономное образовательное учреждение | D25: Цынгунова Евгения Тумэновна | E25: 323100965 | F25: 670000, Республика Бурятия г.Улан-Удэ, ул.Нестерова, д.6, тел. 8(3012)55-89-46, maou_edelweiss@govrb.ru | G25: 670000, Республика Бурятия, Заиграевский район, с Нарын-Ацагаг, расположен в 9-ти км к северу., тел. 8(3012)55-89-46 | H25: https://maou-do-t.buryatschool.ru/ | I25: Организация отдыха детей и их оздоровления сезонного действия | J25: сезонный | K25: 1 смена: 03.06.2026- 23.06.2026; 2 смена: 26.06.2026- 16.07.2026; 3 смена: 21.07.2026-10.08 2026. | L25: 2077.43 | M25: 7-17 | N25: Проживание в 5 неблагоустроенных корпусах, 5-разовое питание в столовой | O25: - | P25: Ввод в эксплуатацию - 1994 год; Капитальный ремонт -2025 г. | Q25: 03.БЦ.11.000.М.000473.06.26 от 28.05.2026 г. | R25: 02.07.2025 г. - Управление Роспотребнадзора, плановая проверка по соблюдению санитарно-эпидемиологических норм. Выявлены нарушения и протокол по делу об административном провонарушении №27 от 22.07.2025. 06.08.2025г. - Управление Роспотребнадзора, внеплановая проверка по соблюдению санитарно-эпидемиологических норм. Выявлены нарушения и протокол по делу об административном провонарушении №33 от 15.08.2025. | S25: ЛО-03-01-002083 от 18.03.2016 | T25: №3034 от 30.03.2018г. (серия 03Л01 №001650) | U25: нет | V25: нет | W25: https://disk.yandex.ru/d/5XHmDoljI7BZ3A | X25: 80 | Y25: Муниципальная | Z25: Заиграевский
A26: 21 | B26: Муниципальное автономное учреждение дополнительного образования "Детский оздоровительно-образовательный центр "Рассвет" г. Улан-Удэ, МАУ ДО "ДООЦ "Рассвет" г. Улан-Удэ" | C26: Муниципальное автономное учреждение | D26: Будацыренова Сарюна Александровна | E26: 0323119250 | F26: 670045, Республика Бурятия, город Улан-Удэ, микрорайон Верхняя Березовка, дом 40 тел.: 89969359903, e-mail: rassvet-zg@mail.ru | G26: 671310, Республика Бурятия, Заиграевский район, местность Красное Урочище, тел.: 89969359903 | H26: https://mau-do-do.buryatschool.ru/ | I26: Организация отдыха детей и их оздоровления сезонного действия | J26: сезонный | K26: 1 смена 10.06.2026 - 30.06.2026 2 смена 03.07.2026- 23.07.2026 3 смена 26.07.2026 - 15.08.2026 | L26: 1886.53 | M26: 7-17 лет | N26: Проживание в 8 неблагоустроенных копусах, 5-ти разовое питание в столовой | O26: нет | P26: Ввод в эксплуатацию 1962 год, капитальный ремонт 2025 год; Медицинский пункт, изолятор - год ввода в эксплуатацию 1962 год, капитальный ремонт 2019 год; Банно-прачечный блок - год ввода в эксплуатацию 1962 год, капитальный ремонт 2025 год; Пищеблок - год ввода в эксплуатацию 1962 год, капитальный ремонт 2005 год. | Q26: 03.БЦ.11.000.М.000491.06.26 от 09.06.2026 г. | R26: ТО Управления Роспотребнадзора по РБ в Заиграевском районе: документарная плановая проверка от 20.05.2025 г. – нарушений не выявлено; профилактический визит от 18.06.2025 г.-нарушений не выявлено; плановая проверка от 15.07.2025 г. –предписаний нет, все выявленные нарушения устранены в ходе проверки; Отделение надзорной деятельности и профилактических работ Заиграевского района – внеплановая проверка от 16.05.2025 г. – предписаний нет, все выявленные нарушения устранены в ходе проверки; | S26: Л041-01171-03/00304793 от 18.03.2016 | T26: Лицензия Министерства образования и науки РБ №3037 от 30.03.2018 г. Бессрочно | U26: доступности нет | V26: доступности нет | W26: https://mau-do-do.buryatschool.ru/upload/buryascmau_do_do_new/files/a4/0c/a40ca149661caa7acd02537bd5923281.pdf | X26: 240 | Y26: Муниципальная | Z26: Заиграевский
A27: 22 | B27: Муниципальное автономное учреждение дополнительного образования "Детский оздоровительно-образовательный центр «Родник» г. Улан-Удэ (МАУ ДО ДООЦ «Родник» г. Улан-Удэ) | C27: Муниципальное автономное учреждение | D27: Цыбикова Марина Кимовна | E27: 0326520100 | F27: 670045, Республика Бурятия, г. Улан-Удэ, ул. Кумысская, д. 1 А тел.8 (3012) 44-38-19 (лагерь); 8 (3012) 55-14-94; 8 (914) 982-18-80, mau_doo@govrb.ru | G27: 670045, Республика Бурятия, г. Улан-Удэ, ул. Кумысская, д. 1 А тел.8 (3012) 44-38-19 (лагерь); 8 (3012) 55-14-94; 8 (914) 982-18-80, mau_doo@govrb.ru | H27: https://mau-do-doo.buryatschool.ru/ | I27: Организация отдыха детей и их оздоровления сезонного действия | J27: сезонный | K27: 1 смена с «01» июня 2026 по «21» июня 2026; 2 смена с «24» июня 2026 по «14» июля 2026; 3 смена с «17» июля 2026 по «06» августа 2026; 4 смена с «09» августа 2026 по «29» августа 2026 | L27: 2107.86 | M27: 7-16 лет | N27: Проживание в 9 неблагоустроенных корпусах, 5-ти разовое питание в столовой; | O27: нет | P27: Основное здание введено в эксплуатацию в 1939 г., баня и служебное здание в 1968 г., летний спальный корпус в 2009 г. Капитальный ремонт АПС в 2020 г., капитальный ремонт кровли основного здания в 2022-2023 гг. Текущий ремонт производится – ежегодно | Q27: 03.БЦ.11.000. М.000459.05.26 от 27.05.2026 г | R27: Май 2025 г. - Управление Роспотребнадзора по Республике Бурятия, плановая, документальная проверка. Нарушений не выявлено. Июнь 2025 г. - Управление Роспотребнадзора по Республике Бурятия, плановая, выездная проверка. Представление № 85 от 01.07.25 г. об устранении нарушений: Предписание №201 от 19.06.25 г. и Предписание № 203 от 23.06.25 г. об отстранении от работы вожатой с недостоверными сведениями в личной медкнижке и приеме детей в лагерь в первые два дня. Предписание №199 от 19.06.25 г. об обеспечении качества и безопасности питьевой воды из-за несоответствия гигиеническим нормативам по радиационной безопасности. Требования по приему детей выполнены. Проведено исследование воды в лаборатории Санкт-Петербурга. Результат: вода имеет допустимый уровень превышения показателей по радиации. Июнь 2025 г. - Представление Прокуратуры Железнодорожного района г. Улан-Удэ от 25.06.2025г № 03-02-2025. Выявлены нарушения: 1. Лагерь не оснащен системами охранной сигнализации; 2. Система АПС выполнена без проектного решения в новых беседках; 3. Неисправная система оповещения о пожаре в корпусах 6,9,10; в новых беседках отсутствует светоуказатель выход; нет звукового оповещения в корпусах 11,12. Заключен договор с обслуживающей организацией о проведении ремонтных работ, для устранения нарушений. Работы проведены. Июль 2025 г. - Управление Роспотребнадзора по Республике Бурятия, внеплановая, выездная проверка. Предписание №245 от 24.07.25 г. об обеспечении качества и безопасности питьевой воды (превышен уровень содержания железа). Предписание №259 от 31.07.25 г. и Представление № 98 от 31.07.25 г.: не зафиксированы в журнале данные термометрии детей и сопровождающих лиц при заезде детей в лагерь; не представлена программа производственного контроля; Нарушена целостность напольной плитки (срок устранения 30.04.2026 г.) Проведена работа по промывке сети холодного водоснабжения и повторное исследование воды. Показатели в норме. Август 2025 г. - Управление Роспотребнадзора по Республике Бурятия, внеплановая, выездная проверка. Предписание № 272 от 19.08.2025 г.: обеспечить качество и безопасность питьевой воды по содержанию железа. Декабрь 2025 г. - Прокуратура Железнодорожного района, представление об устранении нарушений федерального законодательства по соблюдению правил и норм пожарной безопасности. | S27: Л041-01171-03/00312832 от 07.04.2017 | T27: № 3036 от 30 марта 2018 г. (Серия 03Л01 №0001652). | U27: - | V27: дети с нарушением слуха (глухие, слабослышащие, позднооглохшие) | W27: Программа воспитательной работы от 2025 г., согласована председателем комитета по образованию Администрации г. Улан-Удэ. | X27: 81 | Y27: Муниципальная | Z27: г. Улан-Удэ
A28: 23 | B28: МАУ ДО ДООЦ "Березка" г. Улан-Удэ" | C28: муниципальное автономное учреждение | D28: Махутова Ирина Васильевна | E28: 326003529 | F28: 670045, РБ, г. Улан-Удэ, п. Верхняя ерезовка,40 | G28: 670045, РБ, г. Улан-Удэ, п. Верхняя ерезовка,40, 44-11-77 | H28: https://mau-do-doot.buryatschool.ru | I28: Организация отдыха детей и их оздоровления сезонного действия | J28: сезонный | K28: 1 смена: 10.06.2026- 30.06.2026; 2 смена: 03.07.2026- 23.07.2026; 3 смена: 26.07.2026-15.08 2026. | L28: 1872.72 | M28: 7-17 | N28: проживание в 9 полублагоустроенных корпусах, 5-разовое питание в столовой | O28: нет | P28: 1959, капитальный ремонт -2025 г. | Q28: №03.БЦ.11.000.М.000492.06.26 от 09.06.2026 г. | S28: Л0-03-01-001918от 15.10.2015 | T28: №3035 от 30.03.2018 (серия 03Л01№0001651 | U28: все категории | V28: Дети с ограниченными возможностями здоровья: 1. дети с нарушением слуха (глухие, слабослышащие, позднооглохшие); 2. дети с нарушением зрения (слепые, слабовидящие); 3. дети с нарушением речи (логопаты); 4. дети с нарушением опорно-двигательного аппарата; | X28: 240 | Y28: муниципальная | Z28: г. Улан-Удэ
A29: 24 | B29: Муниципальное автономное учреждение дополнительного образования «Спортивно-оздоровительный комплекс «Зорька» г. Улан-Удэ», МАУ «СОК «Зорька» г. Улан-Удэ» | C29: Муниципальное автономное учреждение | D29: Дутова Алена Анатольевна | E29: 0326564404 | F29: 670045, Республика Бурятия,г.Улан-Удэ, мкр.Верхняя Березовка,7б, 8(3013)33-25-14, zorkauu@yandex.ru | G29: 670045,Республика Бурятия,г.Улан-Удэ, мкр.Верхняя Березовка,7б, 8(3013)33-25-14 | H29: зорька03.рф | I29: Организация отдыха детей и их оздоровления сезонного действия | J29: сезонный | K29: 1 смена: 02106.2026-11.07.2026; 2 смена: 14.07.2026- 03.08.2026; 3 смена 06.08.2026- 26.08.2026 | L29: 2176.43 | M29: 7-17/7-15 | N29: Проживание в 2 благоустроенных корпусах, 1 неблагоустроенный, 5-ти разовое питание в столовой | O29: нет | P29: Ввод в эксплуатацию - 1962год; Капитальный ремонт столовой -2024 год. | Q29: 03.БЦ.11.000.М.000506.06.26. от 11.06.2026 г. | R29: 23.06.2025г. - Управление Роспотребнадзора, внеплановая проверка по соблюдению санитарно-эпидемиологических норм. Выявлены нарушения и протокол по делу об административном провонарушении №170 от 23.06.2025. Орган Государственного пожарного надзора внеплановая проверка состояния пожарной безопасности - выявлены нарушения и протокол об административном правонарушении №2505-03-123-00064 от 26.05.2025 | S29: ЛО41- 01171-03/ 01249045 от 14.0262024г. | T29: Л035-01223-03/00958181 от 05.12.2023 | U29: нет | V29: нет | W29: https://зорька03.рф/ | X29: 113 | Y29: муниципальная | Z29: г. Улан-Удэ
A30: 25 | B30: Муниципальное автономное учреждение дополнительного образования «Спортивная школа №5" г.Улан-Удэ,Спортивно-оздоровительный лагерь"Старт" , (МАУ ДО «СШ№ 5" г.Улан-Удэ, СОЛ "Старт") | C30: Муниципальное автономное учреждение | D30: Ким Максим Зенхенович | E30: 0323085080 | F30: 670042,Республика Бурятия г.Улан-Удэ, ул.Жердева,9 "В",тел.8(3012)43-81-01, sportschool5@yandex.ru | G30: 671110, Республика Бурятия, Тарбагатайский район, сельское поселение Саянтуйское, село Верхний Саянтуй, территория СОЛ "Старт", здание 7 | H30: спортшкола5.рф | I30: Организация отдыха детей и их оздоровления сезонного действия | J30: сезонный | K30: 1 смена: 02.06.2026-22.06.2026; 2 смена: 24.06.2026- 14.07.2026; 3 смена 16.07.2026- 05.08.2026; 4 смена: 07.08.2026- 27.08.2026 | L30: 2189.53 | M30: 7-17/7-15 | N30: Проживание в 3 благоустроенных корпусах, 5-ти разовое питание в столовой | O30: бассейн | P30: Ввод в эксплуатацию - 2023 год; Капитальный ремонт столовой -2011 год. | Q30: 03.БЦ.11.000.М.000482.06.26. от 01.06.2026г. | R30: 27.06.2025г.- Управление Роспотребнадзора, плановая проверка по соблюдению санитарно-эпидемиологических норм.Выявлены нарушения предписание об устранении №73 от 27.06.2025 г. | S30: ЛО41- 01171-03/ 00341375 от 19.02.2020г. | T30: №3200 ОТ10.04.2019 г.( Серия 03ЛО1 №0001845) | U30: Поражение верхней конечности. | V30: дети с нарушением слуха (слабослышащие) | W30: https://спортшкола5.рф/wp-content/uploads/2025/04/программа-воспитательной-работы-СОЛ-Старт-07.07.2025.pdf | X30: 136 | Y30: муниципальная | Z30: Тарбагатайский
A31: 26 | B31: Муниципальное автономное учреждение дополнительного образования " Спортивная школа №6" г. Улан-Удэ, СОЛ "Юнтур" | C31: Муниципальное автономное учреждение | D31: Сороковиков Иван Михайлович | E31: 323111533 | F31: 670031, Республика Бурятия, г.Улан-Удэ, ул.Трубачеева, 24 | G31: 671222, Республика Бурятия, Тарбагатайский район, село Верхний Саянтуй, тел. 8(3012)455025 | H31: https://ssh6-uu.ru/ | I31: Организация отдыха детей и их оздоровления сезонного действия | J31: сезонный | K31: 1 смена:15.06.2026-05.07.2026; 2 смена: 08.07.2026-28.07.2026; 3 смена 31.07.2026-20.08.2026 | L31: 2180.43 | M31: 7-15 лет | N31: 2 спальных корпуса, 5-ти разовое питание | O31: бассейн | P31: Ввод в эсплуатацию - 1997год; Капитальный ремонт - 2021- 2022 год; Текущий ремонт - ежегодно. | Q31: 03.БЦ.11.000.М.000501.06.26 от 11.06.2026 | S31: Л041-01171-03/05297176 от 15.06.2026 г. | T31: №3214 от 31.07.2029 (серия 03 Л01 №0001859 ) | U31: нет | V31: нет | W31: разрабатываются | X31: 60 | Y31: Муниципальная | Z31: Тарбагатайский
D32: НЕ ФУНКЦИОНИРУЮТ В 2026 году
A33: 27 | B33: Государственное бюджетное общеобразовательное учреждение "Республиканский бурятский национальный лицей интернат №1", Лагерь труда и отдыха "ТУЯА" | C33: Государственное бюджетное учреждение | D33: Шойнжонов Булат Баирович | E33: 0326005090 | F33: 670034, Республика Бурятия, г. Улан-Удэ, ул. Чертенкова,д.30, rbnli_1@govrb.ru | G33: Республика Бурятия, Иволгинский район, село Хурумша, местность "Карасиное озеро", 8-3012-44-62-03, 89834399171 | H33: 8-3012-44-62-03, 89834399171 | I33: Организация отдыха детей и их оздоровления сезонного действия | J33: сезонный | K33: не будет функционировать | M33: 7-17 лет | N33: проживание в неблагоустроенных корпусах, 5-ти разовое питание в столовой | O33: нет | P33: Ввод в эксплуатацию корпусов 1959 год | S33: Л041-01171-03/00358335 от 30.11.2020 | T33: №2987 от 06.03.2018г. (серия 03ЛО1 №0001601 | Y33: государственная | Z33: Иволгинский
A34: 28 | B34: Спортивно-оздоровительный лагерь "Надежда" структурное подразделение муниципального автономного учреждения дополнительного образования "Спортивная школа олимпийского резерва № 1" г. Улан-Удэ | C34: Муниципальное автономное учреждение | D34: Чернега Евгений Александрович | E34: 0323054780 | F34: 670010, Республика Бурятия, г.Улан-Удэ, ул. Жуковского, д.23, sport.olimp1@yandex.ru | G34: 671182, Республика Бурятия, Селенгинский район, оз. Щучье, СОЛ "Надежда",8(3012)45-60-77, 8(983)433-55-36 | H34: 8(3012)45-60-77, 8(983)433-55-36 | I34: Организация отдыха детей и их оздоровления сезонного действия | J34: сезонный | K34: не будет функционировать | M34: 7-17 лет | N34: Проживание в 6 благоустроенных копусах, 6-ти разовое питание в столовой, спортивные площадки, уличный тренажерный копмлекс, баня, культурно-досуговый центр. | O34: нет | P34: Ввод в эсплуатацию - 1993год; Капитальный ремонт бани - 2022 год. | S34: Л041-01171-03/00306830 от 17.06.2016 | T34: №3154 от 01.10.2018г. (серия 03Л01 №0001788) | Y34: муниципальная | Z34: Иволгинский

Sheet Лагеря с дневным пребыванием
A1: № п/п | B1: Полное и сокращенное (если имеется) наименования организации отдыха детей и их оздоровления | C1: Организационно-правовая форма организации отдыха детей и их оздоровления | D1: ФИО руководителя организации отдыха детей и их оздоровления | E1: ИНН | F1: Адрес (место нахождения) организации отдыха детей и их оздоровления, контактный телефон, адрес электронной почты | G1: Фактический адрес организации отдыха детей и их оздоровления, контактный телефон | H1: Официальный сайт организации отдыха детей и их оздоровления в информационно-телекоммуникационной сети "Интернет" | I1: Тип организации отдыха детей и их оздоровления | J1: Предоставляемые организацией отдыха детей и их оздоровления услуги в сфере отдыха и оздоровления детей | P1: Дата ввода используемых организацией отдыха детей и их оздоровления объектов (для организаций стационарного типа) и дата проведения капитального ремонта | Q1: Информация о наличии санитарно-эпидемиологического заключения, включая дату выдачи заключения | R1: Информация о результатах проведения органами, осуществляющими государственный контроль (надзор), плановых и внеплановых проверок в текущем году (при наличии) и в предыдущем году | S1: Информация о наличии лицензии на осуществление медицинской деятельности | T1: Информация о наличии лицензии на осуществление образовательной деятельности | U1: Обеспечение в организации отдыха детей и их оздоровления доступности услуг для детей-инвалидов и детей с ограниченными возможностями здоровья | W1: Сведения о наличии программы воспитательной работы и календарного плана воспитательной работы с описанием конкретных мероприятий по дням с учетом смен и возрастных групп детей | X1: Проектная вместимость (мощность мест в смену) | Y1: Форма собственности | Z1: Район/муниципалитет
J2: Режим работы организации отдыха детей и их оздоровления (сезонный/круглогодичный) | K2: Даты проведения смен | L2: Средняя стоимость 1 дня пребывания в организации отдыха детей и их оздоровления | M2: Возрастная категория детей, принимаемых в организацию отдыха детей и их оздоровления | N2: Информация о проживании и питании детей в организации отдыха детей и их оздоровления | O2: Наличие оборудованного места для купания | U2: Категория детей-инвалидов 1. передвигающиеся на креслах-колясках 2. поражение нижних конечностей 3. поражение верхних конечностей 4. полное нарушение зрения – слепота 5. частичное нарушение зрения 6. полное нарушение слуха – глухота 7. частичное нарушение слуха 8. нарушения умственного развития 9. Все категории | V2: Дети с ограниченными возможностями здоровья: 1. дети с нарушением слуха (глухие, слабослышащие, позднооглохшие); 2. дети с нарушением зрения (слепые, слабовидящие); 3. дети с нарушением речи (логопаты); 4. дети с нарушением опорно-двигательного аппарата; 5. дети с умственной отсталостью; 6. дети с задержкой психического развития; 7. дети с нарушением поведения и общения; 8. дети с комплексными нарушениями психофизического развития, с так называемыми сложными дефектами (слепоглухонемые, глухие или слепые дети с умственной отсталостью) 9. Все категории
A3: 1 | B3: 2 | C3: 3 | D3: 4 | E3: 5 | F3: 6 | G3: 6.1 | H3: 7 | I3: 8 | J3: 9 | K3: 10 | L3: 11 | M3: 12 | N3: 13 | O3: 14 | P3: 15 | Q3: 16 | R3: 17 | S3: 18 | T3: 19 | U3: 20 | V3: 20.1 | W3: 21 | X3: 22 | Y3: 23 | Z3: 24
A4: 1 | B4: Лагерь с дневным пребыванием "Успешное поколение" МБОУ "Баргузинская СОШ" | C4: Муниципальное бюджетное учреждение | D4: Папич Светлана Базаржабовна | E4: 0301001375 | F4: 671610,Республика Бурятия, Баргузинский район.с.Баргузин, ул.Калинина, д 51 "А" | G4: 671610,Республика Бурятия, Баргузинский район.с.Баргузин, ул.Калинина, д 51 "А" | H4: https://barguzinschool.gosuslugi.ru/ | I4: Лагеря, организованные образовательными организациями, осуществляющими организацию отдыха и оздоровления | J4: сезонный | K4: 1 смена: 01.06.2025- 25.06.2025; | L4: 195 | M4: 7-17 | N4: Без проживания, 2-х разовое питание в столовой | O4: нет | P4: Ввод в эксплуатацию - 1972 год; частичный капитальный ремонт -2024 г. | Q4: № 03.БЦ.11.000.М.000398.05.26 от 20.05.2026 г. | R4: По итогам проверки Управления Роспотребнадзора 28.02.2024г. выездная проверка по соблюдению санитарно-эпидемиологических норм. Выявлены нарушения и выписано предписание об устранении. | S4: Л0-03-01-0003195 от 29.05.2020 | T4: №3016 от 29.03.2019г. | U4: все категории | V4: 4. дети с нарушением опорно-двигательного аппарата; 6. дети с задержкой психического развития; | W4: https://xn--d1abknlude.xn--p1ai/files/programma-profilnoy-smeny-smena-pervykh-pervootkryvateli-leta/ | X4: 120 | Y4: муниципальная | Z4: Баргузинский
A5: 2 | B5: Муниципальное бюджетное общеобразовательное учреждение "Баянгольская средняя общеобразовательная школа" | C5: Муниципальное бюджетное общеобразовательное учреждение "Баянгольская средняя общеобразовательная школа" | D5: Дондупова Екатерина Ракшаевна | E5: 0301001368 | F5: 671616, Республика Бурятия, Баргузинский район, у.Баянгол, ул.Ленина, 69 | G5: 671616, Республика Бурятия, Баргузинский район, у.Баянгол, ул.Ленина, 69 | H5: https://sh-bayangolskaya--barguzinskij-r81.gosweb.gosuslugi.ru/ | I5: Лагеря, организованные образовательными организациями, осуществляющими организацию отдыха и оздоровления | J5: сезонный | K5: 1 смена: 01.06.2026- 25.06.2026 | L5: 195 | M5: 7-17 | N5: Без проживания, 2-х разовое питание в столовой | O5: нет | P5: 2025г. | Q5: № 03.БЦ.11.000.М.000336.05.26 от 15.05.2026 г. | R5: 08.12.2025г. - ТО "Управление Роспотребнадзора по РБ в Баргузинском районе" Требования предписания об устранении выявленных нарушениях от 19.12.2025г. №49, изложенные в пункте 3, а именно несоответствие температуры и относительной влажности воздуха, нормативным величинам в спортзале +15 и актовом зале +10. Продлен срок исполнения до 01.09.2026г. | S5: ЛО-03-01-003195 от 29.05.2020 | T5: №3025 от 29 марта 2018г. Серия 03Л01 № 0001641 | U5: все категории | V5: все категории | W5: https://sh-bayangolskaya--barguzinskij-r81.gosweb.gosuslugi.ru/svedeniya-ob-obrazovatelnoy-organizatsii/dokumenty/dokumenty-all-52_298.html | X5: 176 | Y5: муниципальная | Z5: Баргузинский
A6: 3 | B6: Лагерь с дневным пребыванием "Радуга" МБОУ "Усть-Баргузинская средняя общеобразовательная школа им. Шелковникова К. М." | C6: Муниципальное бюджетное учреждение | D6: Баяндуев Эрдэм Сергеевич | E6: 0301001696 | F6: 671624, Республика Бурятия, р-н Баргузинский, пгт. Усть-Баргузин, ул. Оцимика, д. 24 8(30131)91-3-31 89246535173 school_ust-barguzin@govrb.ru | G6: 671624, Республика Бурятия, р-н Баргузинский, пгт. Усть-Баргузин, ул. Оцимика, д. 24 8(30131)91-3-31 89246535173 school_ust-barguzin@govrb.ru | H6: https://sh-ust-barguzinskaya-r81.gosweb.gosuslugi.ru/ | I6: Лагеря, организованные образовательными организациями, осуществляющими организацию отдыха и оздоровления | J6: сезонный | K6: 1 смена: 01.06.2026-25.06.2026 | L6: 195 | M6: 7-17 | N6: Без проживания, 2-х разовое питание | O6: нет | P6: Ввод в эксплуатацию - 1965 год; Капитальный ремонт -2022 г. | Q6: № 03.БЦ.11.000.М.000461.05.26 от 26.05.2026 | R6: Нарушений не выявлено | S6: ЛО-03-01-003195 от 29.05.2020 ГБУЗ "Баргузинская ЦРБ" | T6: №2993 от 13.03.2018 г. (серия 03Л01 №0001607) | U6: все категории | V6: дети с нарушением слуха (глухие, слабослышащие, позднооглохшие) | W6: https://sh-ust-barguzinskaya-r81.gosweb.gosuslugi.ru/svedeniya-ob-obrazovatelnoy-organizatsii/dokumenty/dokumenty-all-52_406.html | X6: 90 | Y6: муниципальная | Z6: Баргузинский
A7: 4 | B7: Муниципальное бюджетное общеобразовательное учреждение "Улюнская средняя общеобразовательная школа имени Сахара Хамнаева" | C7: Муниципальное бюджетное учреждение | D7: Гармаев Станислав Владимирович | E7: 301002322 | F7: 671601 Республика Бурятия, Баргузинский район, у.Улюн, ул.Пионерская, д.29. Тел. 8 (301 31) 94-129; e-mail: school_ulun@govrb.ru | G7: 671601 Республика Бурятия, Баргузинский район, у.Улюн, ул.Пионерская, д.29. Тел. 8 (301 31) 94-129; e-mail: school_ulun@govrb.ru | H7: https://sh-ulyunskaya-r81.gosweb.gosuslugi.ru | I7: Лагеря, организованные образовательными организациями, осуществляющими организацию отдыха и оздоровления | J7: сезонный | K7: 01/06/2026- 25/06/2026 | L7: 195 | M7: 7-17 | N7: Без проживания, 2-х разовое питание в столовой | O7: нет | P7: Ввод 1964г. Капитальный ремонт 2019г. | Q7: №03.БЦ.11.000.М.000402.05.26 от 20.05.2026 г. | R7: 29.05.2025г - Управление Роспотребнадзора, профилактический визит по соблюдению санитарно-эпидемиологических норм.Нарушений обязательных требований не выявлено . 16.06.2025. - Управление Роспотребнадзора, профилактический визит по соблюдению санитарно-эпидемиологических норм .Нарушений обязательных требований не выявлено | S7: № ЛО-03-01-003195 от 29.05.2020 ГБУЗ "Баргузинская ЦРБ" | T7: Серия 03ЛО1 № 0001637 | U7: все категории | V7: дети с задержкой психического развития | W7: https://sh-ulyunskaya-r81.gosweb.gosuslugi.ru/netcat_files/32/315/PROGRAMMA_VOSPITANIYa_ULYuNSKOY_ShKOLY_NA_2025_26_uch.pdf | X7: 25 | Y7: муниципальная | Z7: Баргузинский
A8: 5 | B8: Муниципальное бюджетное общеобразовательное учреждение "Юбилейная средняя общеобразовательная школа. | C8: Муниципальное бюджетное общеобразовательное учреждение | D8: Горячих Алена Валерьевна | E8: 0301003037 | F8: 671627, Республика Бурятия., Баргузинский район, п. Юбилейный, ул. Калинина 7а | G8: 671627, Республика Бурятия., Баргузинский район, п. Юбилейный, ул. Калинина 7а | H8: https://sh-yubilejnaya-r81.gosweb.gosuslugi.ru/ | I8: Лагеря, организованные образовательными организациями, осуществляющими организацию отдыха и оздоровления | J8: сезонный | K8: с 01.06 по 25 06.2026 года | L8: 195.00 | M8: 7-17 | N8: Без проживания, 2-х разовое питание в столовой | O8: нет | P8: 1967г., капитальный ремонт-2017 г | Q8: № 03.БЦ.11.000.М.000352.05.26 от 18.05.2026 г. | R8: не проводилось | S8: № ЛО-03-01-002165 от 20.05.2016 г. (Серия ЛО-03 № 0001272) | T8: № 1877 от 22.01.2013 (серия 03Л01 №0000347) | U8: нет | V8: нет | W8: https://sh-yubilejnaya-r81.gosweb.gosuslugi.ru/svedeniya-ob-obrazovatelnoy-organizatsii/dokumenty/ | X8: 25 | Y8: муниципальная | Z8: Баргузинский
A9: 6 | B9: Муниципальное автономное образовательное учреждение "Багдаринская СОШ" МАОУ "Багдаринская СОШ" | C9: Муниципальное автономное образовательное уреждение | D9: Дугарова Анжела Борисовна | E9: 0302101414 | F9: 671510, Республика Бурятия Баунтовский эвенкийский р-он, с.Багдарин, ул. Ленина д.103А | G9: 671510, Республика Бурятия Баунтовский эвенкийский р-он, с.Багдарин, ул.Баунтовская 40 А 8(30153) 5-13-878(30153) 4-14-01 | H9: sh-bagdarinskaya-r81.gosweb.gosuslugi.ru | I9: Лагеря, организованные образовательными организациями, осуществляющими организацию отдыха и оздоровления | J9: сезонный | K9: с 1 по 25 июня 2026 года | L9: 195.6 | M9: от 7 до 15 лет | N9: проживание не предусмотрено, питание 4-х разовое | O9: отсутствует | P9: 1974 год | Q9: № 03.БЦ.11.000.М.000314.05.26 от 14.05.2026 г. | R9: 17.06.2025 г. - Управление Роспотребнадзора, обязательный профилактический визит по соблюдению санитарно-эпидеимологических норм. Выявлены нарушения и предписание об устранении выявленных нарушений обязательных требований №9 от 17.06.2025 г. | S9: договор с ГБУЗ "Баунтовская ЦРБ" от № 5 от 09.01.2020г. (пролонгируется ежегодн | T9: №2888 от 20.07.2017 г. (Серия 03Л01 №0001495) | U9: все категории | V9: дети с нарушением слуха (глухие, слабослышащие, позднооглохшие) | W9: sh-bagdarinskaya-r81.gosweb.gosuslugi.ru | X9: 138 | Y9: муниципальная | Z9: Баунтовский
A10: 7 | B10: Муниципальное бюджетное образовательное учреждение "Витимская средняя общеобразовательная школа" МБОУ "Витимская СОШ" | C10: Муниципальное бюджетное образовательное учреждение | D10: Сомова Светлана Николаевна | E10: 0302101492 | F10: 671543 Республика Бурятия Баунтовский эвенкийский район с. Романовка ул. Почтовая д.24 | G10: 671543 Республика Бурятия Баунтовский эвенкийский район с. Романовка ул. Почтовая д.24 8(30153)54243 | H10: sh-vitimskaya-romanovka-r81.gosweb.gosuslugi.ru | I10: Лагеря, организованные образовательными организациями, осуществляющими организацию отдыха и оздоровления | J10: сезонный | K10: с 1 по 25 июня 2026 года | L10: 195.6 | M10: от 7 до 15 лет | N10: Без проживания, 2-х разовое питание в столовой | O10: отсутствует | P10: ввод в эксплуатацию 1964, капитальный ремонт 2024 год | Q10: № 03.БЦ.11.000.М.000470.05.26 от 27.05.2026 г. | R10: не проводились | S10: договор с ГБУЗ "Баунтовская ЦРБ" от № 1 от 09.01.2020г. (пролонгируется ежегодно) | T10: № 2441 от 03 декабря 2015г | U10: все категории | V10: дети с нарушением слуха (глухие, слабослышащие, позднооглохшие) | W10: sh-vitimskaya-romanovka-r81.gosweb.gosuslugi.ru | X10: 60 | Y10: муниципальная | Z10: Баунтовский
A11: 8 | B11: Муниципальное бюджетное образовательное учреждение "Уакитская СОШ" МБОУ "Уакитская СОШ" | C11: Муниципальное бюждетное образовательное учреждение | D11: Педонова Зоя Николаевна | E11: 0302101453 | F11: Республика Бурятия,Баунтовский эвенкийский район,п.Уакит, ул.Советская, 4 | G11: Республика Бурятия,Баунтовский эвенкийский район,п.Уакит, ул.Советская, 4 8301-53 42-3-89 | H11: sh-uakitskaya-r81.gosweb.gosuslugi.ru | I11: Лагеря, организованные образовательными организациями, осуществляющими организацию отдыха и оздоровления | J11: сезонный | K11: с 1 по 25 июня 2026года | L11: 195.6 | M11: от 7 до 15 лет | N11: Без проживания, 2-х разовое питание в столовой | O11: отсутствует | P11: ввод в эксплуатацию 1976, капитальный ремонт 2023 | Q11: № 03.БЦ.11.000.М.000282.05.26 от 14.05.2026 г. | R11: 04.02.2026 №1 проведение профилактического визита, внеплановой проверки | S11: договор с ГБУЗ "Баунтовская ЦРБ" от февраля 2025г. (пролонгируется ежегодно) | T11: 2960 от 19 января 2018 года 03ЛО1 №0001570 | U11: все категории | V11: дети с нарушением слуха | W11: sh-uakitskaya-r81.gosweb.gosuslugi.ru | X11: 16 | Y11: муниципальная | Z11: Баунтовский
A12: 9 | B12: Муниципальное бюджетное образовательное учреждение "Усть-Джилиндинская ООШ" МБОУ "Усть-Джилиндинская ООШ" | C12: Муниципальное бюждетное образовательное учреждение | D12: Федорова Вера Чингисовна | E12: 0302101407 | F12: 671522, Республика Бурятия, Баунтовский эвенкийский район, п.Усть-Джилинда, ул.Северная д.19 | G12: 671522, Республика Бурятия, Баунтовский эвенкийский район, п.Усть-Джилинда, ул.Северная д.19 83912170463 | H12: sh-ust-dzhilindinskaya-r81.gosweb.gosuslugi.ru | I12: Лагеря, организованные образовательными организациями, осуществляющими организацию отдыха и оздоровления | J12: сезонный | K12: с 1 по 25 июня 2026 года | L12: 195.6 | M12: от 7 до 15 лет | N12: проживание не предусмотрено, питание 3-х разовое | O12: отсутствует | P12: ввод в эксплуатацию 1941г. Капитальный ремонт-2023 | Q12: № 03.БЦ.11.000.М.000303.05.26 от 14.05.2026 г. | R12: не было | S12: договор с ГБУЗ "Баунтовская ЦРБ" (пролонгируется ежегодно) | T12: № 3119 от 13.08.2018 г.(серия 03Л01 № 0001753 | U12: все категории | V12: дети с нарушением слуха | W12: sh-ust-dzhilindinskaya-r81.gosweb.gosuslugi.ru | X12: 16 | Y12: муниципальная | Z12: Баунтовский
A13: 10 | B13: муниципальное бюджетное общеобразовательное учреждение "Бичурская средняя общеобразовательная школа № 3" МБОУ "Бичурская СОШ № 3" | C13: Муниципальное бюджетное учреждение | D13: Куприянова Зинаида Алексеевна | E13: 0303000899 | F13: 670000, Республика Бурятия Бичурский район, с. Бичура, ул. Рабочая, д. 23,25, тел. 8(30133)43139, shkola3-07 @mail.ru | G13: 670000, Республика Бурятия Бичурский район, с. Бичура, ул. Рабочая, д. 23,25, тел. 8(30133)43139 | H13: https://sh3-bichura-r81.gosweb.gosuslugi.ru | I13: Лагеря, организованные образовательными организациями, осуществляющими организацию отдыха и оздоровления | J13: сезонный | K13: 1 смена: 01.06.2026- 24.06.2026 | L13: 195.6 | M13: 7-15 лет | N13: без проживания, 2-разовое питание в столовой | O13: не имеется | P13: Ввод в эксплуатацию - 1978 год; Капитальный ремонт -2025 г. | Q13: № 03.БЦ.03.000.М.000154.04.26 от 24.04.2026 г. | R13: 21.06.2024г. - Управление Роспотребнадзора, плановая проверка по соблюдению санитарно-эпидемиологических норм. Выявлены нарушения. Предписание об устранении нарушений №37 Б/МШ-ПВ от 21.06.2024. (В 2025г. Был кап. ремонт) | S13: Договор с ГБУЗ "Бичурская ЦРБ" | T13: № ЛО35-01223-03/00173118 от 29.12.2015 | U13: все категории | V13: все категории | W13: https://orlyatarussia.ru/library/programmy-smen/programmy-smen-sodruzhestvo-orlyat-rossii-dlya-detskikh-lagerey-rossiyskoy-federatsii/ | X13: 50 | Y13: муниципальная | Z13: Бичурский
A14: 11 | B14: Муниципальное бюджетное общеобразовательное учреждение "Бичурская средняя общеобразовательная школа №4 имени Героя Советского Союза Соломенникова Е.И." (МБОУ "Бичурская СОШ №4 имени Героя Советского Союза Соломенникова Е.И.") Лагерь дневного пребывания "Солнышко" | C14: Муниципальное бюджетное учреждение | D14: Нестерова Наталья Андреевна | E14: 0303006241 | F14: 671360, Республика бурятия , Бичурский район, с.Бичура , ул.Калинина,д.150а, тел.:8(30133)41-3-03,bichurasosh_4@mail.ru | G14: 671360, Республика бурятия , Бичурский район, с.Бичура , ул.Калинина, д.150а, тел.:8(30133)41-3-03,bichurasosh_4@mail.ru | H14: https://sh4-bichura-r81.gosweb.gosuslugi.ru/glavnoe/svedeniya-ob-organizatsii-otdyha-detey-i-ih-ozdorovleniya/ | I14: Лагеря, организованные образовательными организациями, осуществляющими организацию отдыха и оздоровления | J14: сезонный | K14: 1 смена: 01.06.2026- 29.06.2026; | L14: 195.6 | M14: 7-15 лет | N14: Без проживания, 2х разовое питание в столовой | O14: нет | P14: Ввод в эксплуатацию - 1967 год; Капитальный ремонт -2023 г | Q14: № 03.БЦ.11.000.М.000155.04.26 от 24.04.2026 г. | R14: 19.06.2025г. - Управление Роспотребнадзора, профилактический визит по соблюдению санитарно-эпидемиологических норм.Нарушений не выявлено. | S14: Договор об организации первичной медико-санитарской помощи несовершеннолетним в период обучения и воспитания от 9 января 2025 г. б/н на базе Калининского ФАП | T14: №2971 от 19.02.2018 (серия 03Л01 №0001585) | U14: все категории | V14: все категории | W14: https://sh4-bichura-r81.gosweb.gosuslugi.ru/glavnoe/svedeniya-ob-organizatsii-otdyha-detey-i-ih-ozdorovleniya/ob-organizatsii-otdyha-detey-i-ih-ozdorovleniya/dokumenty/ | X14: 60 | Y14: Муниципальная | Z14: Бичурский
A15: 12 | B15: Муниципальное бюджетное общеобразовательное учреждение «Бичурская средняя общеобразовательная школа №5» | C15: Муниципальное бюджетное учреждение | D15: Смолина Ольга Владимировна | E15: 303000747 | F15: 671370, Республика Бурятия, п. Сахарный Завод, ул. Заводская, д.3, тел.8(30133) 58-3-47 , bs5bichura@mail.ru | G15: 671370, Республика Бурятия, п. Сахарный Завод, ул. Заводская, д.3, тел.8(30133) 58-3-47 , bs5bichura@mail.ru | H15: https://sh5-bichura-r81.gosweb.gosuslugi.ru/ | I15: Лагеря, организованные образовательными организациями, осуществляющими организацию отдыха и оздоровления | J15: сезонный | K15: 1 смена: 01.06.2026-24.06.2026 | L15: 195.6 | M15: 7-15 лет | N15: Без проживания, 2-разовое питание | O15: нет | P15: Ввод в эксплуатацию - 1961 год | Q15: № 03.БЦ.11.000.М.000280.05.26 от 14.05.2026 г. | R15: 18.06.2025 г. - Управление Федеральной службы по надхору в сфере защиты прав потребителей и благополучия человека по Республике Бурятия- плановая проверка по соблюдению санитарно-эпидемиологических норм | S15: Договор с ГБУЗ "Бичурская ЦРБ" | T15: №2446 от 04.12.2015г. (серия 03Л01 №0000989) | U15: все категории | V15: все категории | W15: https://sh5-bichura-r81.gosweb.gosuslugi.ru/svedeniya-ob-organizatsii-otdyha-detey-i-ih-ozdorovleniya/ob-organizatsii-otdyha-detey-i-ih-ozdorovleniya/dokumenty/dokumenty-1_506.html | X15: 40 | Y15: муниципальная | Z15: Бичурский
A16: 13 | B16: Муниципальное бюджетное общеобразовательное учреждение "Гочитская средняя общеобразовательная школа", МБОУ "Гочитская СОШ" ЛДП "Непоседы" | C16: Муниципальное бюджетное учреждение | D16: Просверенникова Тамара Васильевна | E16: 303005978 | F16: 671362Республика Бурятия, Бичурский район,с.Петропавловка, ул Заречная 1-А, тел 83013357146;89085910152, gochitschool@mail.ru | G16: 671362Республика Бурятия, Бичурский район,с.Петропавловка, ул Заречная 1-А, тел 83013357146;89085910152, gochitschool@mail.ru | I16: Лагеря, организованные образовательными организациями, осуществляющими организацию отдыха и оздоровления | J16: сезонный | K16: 1 смена: 01.06.2026-24.06.2026 | L16: 195.6 | M16: 7-15 лет | N16: Без проживания, 2-разовое питание | O16: нет | P16: ввод в эксплуатацию-1973г.; капитальный ремонт 2022г. | Q16: № 03.БЦ.11.000.М.000189.04.26. от 29.04.2026 г. | R16: 06.06.2025г-Управление Роспотребнадзорапрофилактический визит | S16: Договор с ГБУЗ "Бичурская ЦРБ" от 09.01.2026 | T16: №2445 от 04.12.2015г.(серия 03Л01 №00009888) | U16: все категории | V16: все категории | W16: https://sh-gochitskaya-petropavlovka-r81.gosweb.gosuslugi.ru/glavnoe/svedeniya-ob-organizatsii-otdyha-detey-i-ih-ozdorovlenii/ob-organizatsii-otdyha-detey-i-ih-ozdorovleniya/dokumenty/ | X16: 25 | Y16: муниципальная | Z16: Бичурский
A17: 14 | B17: Муниципальное бюджетное образовательное учреждение "Верхне Мангиртуйская основная общеобразовательная школа", МБОУ "Верхне-Мангиртуйская ООШ"ЛДП "Неугомон" | C17: Муниципальное бюджетное учреждение | D17: Никитина Валентина Григорьевна | E17: 0303001300 | F17: 671373, Республика Бурятия Бичурский район с.Верхний Мангиртуй ул.Дружбы 2Б 89834570659,mangirtui_scool@mail.ru | G17: 671373, Республика Бурятия Бичурский район с.Верхний Мангиртуй ул.Дружбы 2Б 89834570659,mangirtui_scool@mail.ru | H17: https://sh-verxne-mangirtujskaya-r81.gosweb.gosuslugi.ru/glavnoe/ob-organizatsii-otdyha-detey-i-ih-ozdorovleniya/ | I17: Лагеря, организованные образовательными организациями, осуществляющими организацию отдыха и оздоровления | J17: сезонный | K17: 1 смена: 01.06.2026-24.06.2026 | L17: 195.6 | M17: 7-15 лет | N17: Без проживания, 2-х разовое питание в столовой | O17: нет | P17: Ввод в эксплуатацию - 1987 год; | Q17: № 03.БЦ.11.000.М.000156.04.26 от 24.04.2026 г. | R17: Профилактический визит 05.06.2025г. № 29Б/МШ-ЦВ -нарушения устранены. | S17: договор с Бичурской ЦРБ 09.01.2025г. б/н | T17: №1773от 02.11.2012г (серия03Л01 №0000239) | U17: все категории | V17: все категории | W17: https://sh-verxne-mangirtujskaya-r81.gosweb.gosuslugi.ru/glavnoe/ob-organizatsii-otdyha-detey-i-ih-ozdorovleniya/ | X17: 20 | Y17: муниципальная | Z17: Бичурский
A18: 15 | B18: Муниципальное бюджетное общеобразовательное учреждение "Мало-Куналейская средняя общеобразовательная школа" / МБОУ "Мало-Куналейская СОШ" | C18: Муниципальное бюджетное учреждение | D18: Смолина Тамара Александровна | E18: 303005960 | F18: 671363. РБ, Бичурский район, село Малый Куналей, проспект Победы, 12; 89148318393; mcsch35@mail.ru | G18: 671363. РБ, Бичурский район, село Малый Куналей, проспект Победы, 12; 89148318393 | H18: https://sh-malo-kunalejskaya-r81.gosweb.gosuslugi.ru | I18: Лагеря, организованные образовательными организациями, осуществляющими организацию отдыха и оздоровления | J18: сезонный | K18: 1 смена: 01.06.2026 - 24.06.2026 | L18: 195.6 | M18: 7-15 лет | N18: Без проживания, 2-х разовое питание в столовой | O18: нет | P18: Ввод в эксплуатацию - 1985 год; Капитальный ремонт - 2019 | Q18: № 03.БЦ.11.000.М.000200.04.26 от 30.04.2026 года | R18: Проф. Визит, без нарушений. | S18: договор с ГБУЗ "Бичурская ЦРБ" | T18: №2500 от 29.01.2016 | U18: все категории | V18: все категории | W18: https://sh-malo-kunalejskaya-r81.gosweb.gosuslugi.ru/glavnoe/отдых/ | X18: 50 | Y18: муниципальная | Z18: Бичурский
A19: 16 | B19: Муниципальное бюджетное общеобразовательное учреждение Окино-Ключевская средняя общеобразовательная школа МБОУ Окино-Ключевская СОШ | C19: Муниципальное бюджетное учреждение | D19: Иванова Евгения Анатольевна | E19: 0303001412 | F19: 671374, Республика Бурятия, Бичурский район, с. Окино-Ключи, ул. Рогозина, 26, 8(30133)53-1-39, okinorg@mail.ru | G19: 671374, Республика Бурятия, Бичурский район, с. Окино-Ключи, ул. Рогозина, 26, 8(30133)53-1-39, okinorg@mail.ru | H19: https://sh-okino-klyuchevskaya-r81.gosweb.gosuslugi.ru/ | I19: Лагеря, организованные образовательными организациями, осуществляющими организацию отдыха и оздоровления | J19: сезонный | K19: 1 смена: 01.06.2026-24.06.2026 | L19: 195.6 | M19: 7-15 лет | N19: Без проживания, 2-х разовое питание | O19: нет | P19: Ввод в эксплуатацию - 1989 год, Капитальный ремонт - 2018 год | Q19: № 03.БЦ.03.000.М.000218.05.26 от 05.05.2026 г. | R19: № Б/МШ-ПВ от 06.06.2025 г. | S19: Договор о сотрудничестве с ГБУ Бичурской ЦРБ от 10.02.2023г. | T19: №2444 от 04.12.2015 г.(серия 03Л01 №0000987) | U19: все категории | V19: все категории | W19: https://sh-okino-klyuchevskaya-r81.gosweb.gosuslugi.ru/glavnoe/ldp-rodnichok/ | X19: 51 | Y19: Муниципальная | Z19: Бичурский
A20: 17 | B20: Муниципальное бюджетное общеобразовательное учреждение "Новосретенская средняя общеобразовательная школа" МБОУ "Новосретенская СОШ" | C20: Муниципальное бюджетное учреждение | D20: Платонова Наталья Дмитриевна | E20: 0303001483 | F20: 671381, Республика Бурятия, Бичурский район, с. Новосретенка, ул. Школьная, 36 , 830133(59-9-32), novosretenka.sch@mail.ru | G20: 671381, Республика Бурятия, Бичурский район, с. Новосретенка, ул. Школьная, 36 , 830133(59-9-32), novosretenka.sch@mail.ru | H20: https://sh-novosretenskaya-r81.gosweb.gosuslugi.ru/glavnoe/svedeniya-ob-organizatsii-otdyha-detey-i-ih-ozdorovlenii/ob-organizatsii-otdyha-i-ih-ozdorovleniya/dokumenty/ | I20: Лагеря, организованные образовательными организациями, осуществляющими организацию отдыха и оздоровления | J20: сезонный | K20: 1 смена: 01.06.2026-24.06.2026 | L20: 195.6 | M20: 7-15 | N20: Без проживания, 2-х разовое питание в столовой | O20: нет | P20: Ввод в эксплуатацию 1985 | Q20: № 03.БЦ.11.000.М.000220.05.26 от 06.05.2026 г. | R20: 07.06.2024г. - Управление Роспотребнадзора, внеплановая проверка по соблюдению санитарно-эпидемиологических норм. Нарушении не выявленно. | S20: Заключен договор с Бичурской ЦРБ | T20: №1839 от 11.12.2012 (серия 03Л01 №0000312) | U20: все категории | V20: все категории | W20: https://sh-novosretenskaya-r81.gosweb.gosuslugi.ru/glavnoe/svedeniya-ob-organizatsii-otdyha-detey-i-ih-ozdorovlenii/ob-organizatsii-otdyha-i-ih-ozdorovleniya/dokumenty/ | X20: 15 | Y20: муниципальная | Z20: Бичурский
A21: 18 | B21: Муниципальное бюджетное образовательное учреждение "Посельская средняя общеобразовательная школа" МБОУ "Посельская СОШ" | C21: Муниципальное бюджетное учреждение | D21: Панькова Юлия Викторовна | E21: 0303006153 | F21: 671364 РБ, Бичурский район, сю Поселье, переулок Школьный,дом 1; тел. 8(301)3356259; poselye.skool@list.ru | G21: 671364 РБ, Бичурский район, сю Поселье, переулок Школьный,дом 1; тел. 8(301)3356259; poselye.skool@list.ru | H21: https://sh-poselskaya-r81.gosweb.gosuslugi.ru/nasha-shkola/svedeniya-ob-organizatsii-otdyha-detey-i-ih-ozdorovlenii/ | I21: Лагеря, организованные образовательными организациями, осуществляющими организацию отдыха и оздоровления | J21: сезонный | K21: 1 смена: 01.06.2026г.-24.06.2026г | L21: 195.6 | M21: 7-15 | N21: Без проживания, 2-х разовое питание в столовой | O21: нет | P21: Ввод в эксплуатацию-1971 год; Капитальный ремонт- 2022 год | Q21: № 03.БЦ.11 000.М. 000190.04.26 от 29.04.2026 г. | R21: Проверки не проводились | S21: Договор с ГБУз "Бичурская ЦРБ"от 14.02.2026г. (пролонгирован). | T21: № 03. БЦ.03 112.М. 002010.10.08 от 09.10.2008 г. (№1375497) | U21: все категории | V21: все категории | W21: https://sh-poselskaya-r81.gosweb.gosuslugi.ru/nasha-shkola/svedeniya-ob-organizatsii-otdyha-detey-i-ih-ozdorovlenii/dokumenty_650.html | X21: 30 | Y21: муниципальная | Z21: Бичурский
A22: 19 | B22: Муниципальное бюджетное общеобразовательное учреждение "Потанинская средняя общеобразовательная школа", МБОУ "Потанинская СОШ" Лагерь дневного пребывания "Солнышко" | C22: Муниципальное бюджетное учреждение | D22: Цыбенов Эрдэм Владимирович | E22: 303001451 | F22: 671366, Республика Бурятия, Бичурский район, п.Потанино, ул. Октябрьская, д.38. тел.:830133(58-7-39), potanschool@mail.ru | G22: 671366, Республика Бурятия, Бичурский район, п.Потанино, ул. Октябрьская, д.38, тел.:830133(58-7-39), potanschool@mail.ru | H22: https://sh-potaninskaya-r81.gosweb.gosuslugi.ru/glavnoe/otdyh-i-ozdorovlenie-uchaschihsya/ | I22: Лагеря, организованные образовательными организациями, осуществляющими организацию отдыха и оздоровления | J22: сезонный | K22: 1 смена: 01.06.2025 - 26.06.2025 | L22: 195.6 | M22: 7-15 | N22: Без проживания, с 2-разовым питанием | O22: нет | P22: Ввод в эксплуатацию1959, Капитальный ремонт 2004 г. | Q22: № 03.БЦ.11.000.М.000221.05.26 от 06.05.2026 г. | R22: Управление Роспотребнадзора, внеплановая проверка по соблюдению санитарно-эпидемиологических норм. Предписание от 17.06.2024 № 31 Б/МШ-ПВ г. обеспечено выполнение требований п.8.1.7, и п. 2.8. СанПиН 2.3/2.4.3590-20 «Санитарноэпидемиологические требования к организации общественного питания» | S22: Договор с ГБУЗ "Бичурская ЦРБ" о сотрудничестве с мед.организацией от 09.01.2025 | T22: № 1660 03ЛО 1 №0000081 | U22: все категории | V22: все категории | W22: https://sh-potaninskaya-r81.gosweb.gosuslugi.ru/netcat_files/123/2982/RP_vospitaniya_LDP_Solnyshko_Potaninskaya_SOSh.pdf | X22: 100 | Y22: муниципальная | Z22: Бичурский
A23: 20 | B23: Муниципальное бюджетное общеобразовательное учреждение "Еланская средняя общеоразовательная школа" (МБОУ "Еланская СОШ" | C23: Муниципальное бюджетное учреждение | D23: Истомина Татьяна Ивановна | E23: 0303006040 | F23: 671372, Республика Бурятия, Бичурский район, с. Елань, ул. Школьная, 23 | G23: 671372, Республика Бурятия, Бичурский район, с. Елань, ул. Школьная, 23 | H23: https://sh-elanskaya-r81.gosweb.gosuslugi.ru/glavnoe/ob-organizatsii-otdyha-detey-i-ih-ozdorovleniya/ | I23: Лагеря, организованные образовательными организациями, осуществляющими организацию отдыха и оздоровления | J23: сезонный | K23: 1 смена: 01.06.2026- 29.06.2026; | L23: 1400 | M23: 7-17 лет | N23: Без проживания,2х-разовое питание в столовой | O23: нет | P23: Ввод в эксплуатацию - 1981 год; Капитальный ремонт -2022 г. | Q23: № 03.БЦ.11.000.М.000208.05.26 от 05.05.2026 г. | R23: 09.06.2025г. - Управление Роспотребнадзора, плановая проверка по соблюдению санитарно-эпидемиологических норм. Выявлены нарушения и предписание №31-Б/МШ-ВП от 09.06.2025. | S23: Договор с ЦРБ Бичурского района от 09.01.2025 | T23: №1544 от 03.09.2012г. (серия 03ЛО01 №0000088) | U23: все категории | V23: все категории | W23: https://sh-elanskaya-r81.gosweb.gosuslugi.ru/glavnoe/ob-organizatsii-otdyha-detey-i-ih-ozdorovleniya/ | X23: 150 | Y23: муниципальная | Z23: Бичурский
A24: 21 | B24: Муниципальное бюджетное общеобразовательное учреждение "Киретская средняя общеобразовательная школа" /Лагерь дневного пребывания "Планета детства" , МБОУ Киретская СОШ"/ ЛДП "Планета детства" | C24: Муниципальное бюджетное общеобразовательное учреждение | D24: Соковиков Александр Владимирович | E24: 0303001035 | F24: 671371, Республика Бурятия, Бичурский район, улус Дунда-Киреть, ул. Школьная, д.17, 89245368120, kiretsosh@mail.ru | G24: 671371, Республика Бурятия, Бичурский район, улус Дунда-Киреть, ул. Школьная, д.17, 89245368120, kiretsosh@mail.ru | H24: https://kiretsosh.gosuslugi.ru/roditelyam-i-uchenikam/ob-organizatsii-otdyha-detey-i-ih-ozdorovleniya/ | I24: Лагеря, организованные образовательными организациями, осуществляющими организацию отдыха и оздоровления | J24: сезонный | K24: 1 смена: 02.06.2025-25.06.2025 | L24: 195.6 | M24: 7-15 лет | N24: Без проживания, 2-х разовое питание в столовой | O24: нет | P24: Ввод в эксплуатацию - 1972 год, Капитальный ремонт - 2022 | Q24: № 03.БЦ.11.000.М.000179.04.26 от 29.04.2026 г. | R24: 02.12.2024 г. Управление Роспотребнадзора, внеплановая проверка по соблюдению санитарно-эпидемиологических норм Акт внеплановой выездной проверки от 02 декабря 2024г №23Б/МШ-ВП | S24: Договор с ГБУЗ "Бичурская ЦРБ" от 09 января 2025 г. | T24: 03Л01 №0001435 от 18 апреля 2017 | U24: все категории | V24: все категории | W24: https://kiretsosh.gosuslugi.ru/netcat_files/183/2892/programma_LDP.pdf | X24: 40 | Y24: Муниципальная | Z24: Бичурский
A25: 22 | B25: Муниципальное бюджетное общеобразовательное учреждение "Шибертуйсая средняя общеобразовательная школа", МБОУ "Шибертуйская СОШ" ЛДП «Ровесник» | C25: Муниципальное бюджетное общеобразовательное учреждение | D25: Шоймполова Юлия Юможаповна | E25: 303001412 | F25: 671367, Республика Бурятия, Бичурский р-он, улус Шибертуй, ул Елаева,4, 8(30133) 55-1-86, shibertui@mail.ru | G25: 671367, Республика Бурятия, Бичурский р-он, улус Шибертуй, ул Елаева,4, 8(30133) 55-1-86, shibertui@mail.ru | H25: https://sh-shibertujskaya-r81.gosweb.gosuslugi.ru/nasha-shkola/svedeniya-ob-organizatsii-otdyha-detey-i-ih-ozdorovleniya/ | I25: Лагеря, организованные образовательными организациями, осуществляющими организацию отдыха и оздоровления | J25: сезонный | K25: 1 смена: 01.06.2025- 30.06.2025; | L25: 195.6 | M25: 7-15 лет | N25: Без проживания, 2-х разовое питание в столовой | O25: нет | P25: Ввод в эксплуатацию - 1977 год | Q25: № 03.БЦ.11.000.М.000188.04.26 от 29.04.2026 г. | R25: Профилактический визит , без нарушений | S25: Договор с ГБУЗ "Бичурская ЦРБ" | T25: № 2465 от 29.12.2015г | U25: все категории | V25: все категории | W25: https://sh-shibertujskaya-r81.gosweb.gosuslugi.ru/netcat_files/267/3115/Programma_razvitiya_LDP_Rovesnik.pdf | X25: 60 | Y25: муниципальная | Z25: Бичурский
A26: 23 | B26: Муниципальное бюджетное общеобразовательное учреждение "Буйская средняя общеобразовательная школа", МБОУ "Буйская СОШ", Лагерь с дневным пребыванием "Солнышко" | C26: Муниципальное бюджетное общеобразовательное учреждение | D26: Бурцева Надежда Юрьевна | E26: 303006114 | F26: 671365 Республика Бурятия, Бичурский район, с. Буй, ул. Комсомольская, 2 890133 59631 buisch@mail.ru | G26: 671365 Республика Бурятия, Бичурский район, с. Буй, ул. Комсомольская, 2 890133 59631 buisch@mail.ru | H26: https://sh-bujskaya-r81.gosweb.gosuslugi.ru/ | I26: Лагеря, организованные образовательными организациями, осуществляющими организацию отдыха и оздоровления | J26: сезонный | K26: 1 смена: 01.06.2026 - 24.06.2026 | L26: 195.6 | M26: 7-15 лет | N26: Без проживания, 2-х разовое питание в столовой | O26: нет | P26: Ввод в эксплуатацию - 1966 год | Q26: № 03.БЦ.11.000.М.000159.04.26 от 24.04.2026 г. | R26: 10.06.2025г. Управление Роспотребнадзора профилактическая проверка по соблюдению санитарно-эпидемиологических норм. Выявлены нарушения Предписание № 38 Б/МШ-ПВ от 20.06.2025г. | S26: Договор с ГБУЗ "Бичурская ЦРБ" | T26: № 1848 от 21.12.2021 г. (Серия 03Л01 № 0000318) | U26: все категории | V26: все категории | W26: https://sh-bujskaya-r81.gosweb.gosuslugi.ru/ | X26: 30 | Y26: муниципальная | Z26: Бичурский
A27: 24 | B27: Муниципальное бюджетное общеобразовательное учреждение "Армакская средняя общеобразовательная школ" | C27: Муниципальное бюджетное образовательное учреждение | D27: Проничева Анастасия Алексадровна | E27: 304004720 | F27: 671917 Республика Бурятия, Джидинский район, с.Армак, ул. Школьная, зд. 4 | G27: 671917 Республика Бурятия, Джидинский район, с.Армак, ул. Школьная, зд. 4 | I27: Лагеря, организованные образовательными организациями, осуществляющими организацию отдыха и оздоровления | J27: сезонный | K27: 01.06.2026-26.06.2026 | L27: 195.6 | M27: 7-14 лет | N27: Расположение в здании ОО, питание в школьных столовых | O27: нет | P27: Ввод в эксплуатацию 1993 г | Q27: № 03.БЦ.11.000.М.000177.04.26 от 29.04.2026 г. | S27: Договор с ГБУЗ Петропавловская ЦРБ | T27: № 2586 от 10.05.2016 г. | U27: нет | V27: нет | X27: 13 | Y27: муниципальная | Z27: Джидинский
A28: 25 | B28: Муниципальное бюджетное общеобразовательное учреждение "Больше-Нарынская средняя общеобразовательная школа" | C28: Муниципальное бюджетное образовательное учреждение | D28: Осокина Алена Николаевна | E28: 304004920 | F28: 671920 Республика Бурятия, Джидинский район, с.Нарын, ул. Центральная, зд. 58 а | G28: 671920 Республика Бурятия, Джидинский район, с.Нарын, ул. Центральная, зд. 58 а | I28: Лагеря, организованные образовательными организациями, осуществляющими организацию отдыха и оздоровления | J28: сезонный | K28: 01.06.2026-26.06.2026 | L28: 195.6 | M28: 7-14 лет | N28: Расположение в здании ОО, питание в школьных столовых | O28: нет | Q28: № 03.БЦ.11.000.М.000368.05.26 от 18.05.2026 г. | S28: Договор с ГБУЗ Петропавловская ЦРБ | T28: да | U28: =#REF! -> #REF! | V28: =#REF! -> #REF! | X28: 20 | Y28: муниципальная | Z28: Джидинский
A29: 26 | B29: Муниципальное бюджетное общеобразовательное учреждение "Цагатуйская средняя общеобразовательная школа имени Сосорова Нимбу Сосоровича" | C29: Муниципальное бюджетное образовательное учреждение | D29: Чагдурова Екатерина Анатольевна | E29: 304004511 | F29: 671928 Республика Бурятия, Джидинский район,с.Цагатуй, ул. Хандажапова, д. 17 А | G29: 671928 Республика Бурятия, Джидинский район,с.Цагатуй, ул. Хандажапова, д. 17 А | I29: Лагеря, организованные образовательными организациями, осуществляющими организацию отдыха и оздоровления | J29: сезонный | K29: 01.06.2026-26.06.2026 | L29: =$L$6 -> 195 | M29: 7-14 лет | N29: Расположение в здании ОО, питание в школьных столовых | O29: нет | P29: 1986 г -2016 | Q29: № 03.БЦ.11.000.М.000228.05.26 от 07.05.2026 г. | R29: 24.03.2025 г- Управление Роспотребнадзора, плановая проверка по соблюдению санитарно-эпидемиологических норм. | S29: Договор с ГБУЗ Петропавловская ЦРБ | T29: №426 от 16.03.2018 г | U29: =U27 -> нет | V29: =V27 -> нет | X29: 20 | Y29: муниципальная | Z29: Джидинский
A30: 27 | B30: Муниципальное бюджетное общеобразовательное учреждение "Верхне-Торейская средняя общеобразовательная школа" им. Н.Д. Гендуновой | C30: Муниципальное бюджетное образовательное учреждение | D30: Цыденов Бэлигто Манидареевич | E30: 304004487 | F30: 671915 Республика Бурятия, Джидинский район,с.Верхний Торей, ул. Гармаева, д29 | G30: 671915 Республика Бурятия, Джидинский район,с.Верхний Торей, ул. Гармаева, д29 | I30: Лагеря, организованные образовательными организациями, осуществляющими организацию отдыха и оздоровления | J30: сезонный | K30: 01.06.2026-26.06.2026 | L30: =$L$6 -> 195 | M30: 7-14 лет | N30: Расположение в здании ОО, питание в школьных столовых | O30: нет | P30: 1968г-2012г | Q30: № 03.БЦ.11.000.М.000331.05.26 от 15.05.2026 г. | R30: 24.04.2025 г- Управление Роспотребнадзора, плановая проверка по соблюдению санитарно-эпидемиологических норм. | S30: Договор с ГБУЗ Петропавловская ЦРБ | T30: №2186 от 12.01.2015 Серия 03Л01 №0000696 | U30: =U28 -> #REF! | V30: =V28 -> #REF! | X30: 10 | Y30: муниципальная | Z30: Джидинский
A31: 28 | B31: Муниципальное бюджетное общеобразовательное учреждение "Белоозерская средняя общеобразовательная школа" | C31: Муниципальное бюджетное образовательное учреждение | D31: Раднаева Цыжидма Даржинимаевна | E31: 304004769 | F31: 671912 Республика Бурятия, Джидинский район,с.Белоозерск, ул. Школьная, д. 15а | G31: 671912 Республика Бурятия, Джидинский район,с.Белоозерск, ул. Школьная, д. 15а | I31: Лагеря, организованные образовательными организациями, осуществляющими организацию отдыха и оздоровления | J31: сезонный | K31: 01.06.2026-26.06.2026 | L31: =$L$6 -> 195 | M31: 7-14 лет | N31: Расположение в здании ОО, питание в школьных столовых | O31: нет | P31: 1966 | Q31: № 03.БЦ.11.000.М.000486.06.26 от 04.06.2026г. | R31: 04.06.2025 г. Управление Роспотребнадзора, плановая проверка по соблюдению санитарно-эпидемиологических норм | S31: Договор с ГБУЗ Петропавловская ЦРБ | T31: 2745 от 20.01.2017 | U31: =U29 -> нет | V31: =V29 -> нет | X31: 40 | Y31: муниципальная | Z31: Джидинский
A32: 29 | B32: Муниципальное бюджетное общеобразовательное учреждение "Алцакская основная общеобразовательная школа" | C32: Муниципальное бюджетное образовательное учреждение | D32: Очирова Светлана Ринчиновна | E32: 304004624 | F32: 671926 Республика Бурятия, Джидинский район,с.Алцак, ул. Гагарина, зд. 4 alcak@yandex.ru 83013499336 | G32: 671926 Республика Бурятия, Джидинский район,с.Алцак, ул. Гагарина, зд. 4 alcak@yandex.ru 83013499336 | I32: Лагеря, организованные образовательными организациями, осуществляющими организацию отдыха и оздоровления | J32: сезонный | K32: 01.06.2026-26.06.2026 | L32: =$L$6 -> 195 | M32: 7-14 лет | N32: Расположение в здании ОО, питание в школьных столовых | O32: нет | P32: 2009 | Q32: № 03.БЦ.11.000.М.000195.04.26 от 30.04.2026г. | S32: Договор с ГБУЗ Петропавловская ЦРБ | T32: №2143 от 26.09.2014 Серия 03Л01 №0000643 | U32: =U30 -> #REF! | V32: =V30 -> #REF! | X32: 10 | Y32: муниципальная | Z32: Джидинский
A33: 30 | B33: Муниципальное бюджетное общеобразовательное учреждение"Булыкская средняя общеобразовательная школа" | C33: Муниципальное бюджетное образовательное учреждение | D33: Тугаринов Алексей Сергеевич | E33: 304004744 | F33: 671920 Республика Бурятия, Джидинский район,с. Булык, ул. Чапаева, д. 51. | G33: 671920 Республика Бурятия, Джидинский район,с. Булык, ул. Чапаева, д. 51. | I33: Лагеря, организованные образовательными организациями, осуществляющими организацию отдыха и оздоровления | J33: сезонный | K33: 01.06.2026-26.06.2026 | L33: =$L$6 -> 195 | M33: 7-14 лет | N33: Расположение в здании ОО, питание в школьных столовых | O33: нет | P33: 1991 | Q33: № 03.БЦ.11.000.М.000400.05.26 от 20.05.2026 г. | R33: Управление Роспотребнадзора, плановая проверка по соблюдению санитарно - эпидемиологических норм -3.06.2025 | S33: Договор с ГБУЗ Петропавловская ЦРБ | T33: N 2992 от 12 03 2018 серия 03ЛО1 N 0001606 | U33: =U31 -> нет | V33: =V31 -> нет | X33: 200 | Y33: муниципальная | Z33: Джидинский
A34: 31 | B34: Муниципальное бюджетное общеобразовательное учреждение "Верхне-Ичетуйская средняя общеобразовательная школа" им. М.Д. Цаганова | C34: Муниципальное бюджетное образовательное учреждение | D34: Доржиева Сэсэгма Санжиевна | E34: 304003966 | F34: 671921 Республика Бурятия, Джидинский район,с.Верхний-Ичетуй, ул. Ленина, д. 22 | G34: 671921 Республика Бурятия, Джидинский район,с.Верхний-Ичетуй, ул. Ленина, д. 22 | I34: Лагеря, организованные образовательными организациями, осуществляющими организацию отдыха и оздоровления | J34: сезонный | K34: 01.06.2026-26.06.2026 | L34: =$L$6 -> 195 | M34: 7-14 лет | N34: Расположение в здании ОО, питание в школьных столовых | O34: нет | P34: 1924 | Q34: № 03.БЦ.11.000.М.000214.05.26 от 05.05.2026 г. | R34: Управление Роспотребнодзора, плановая проверка по соблюдению санитарно - эпидемиологических норм | S34: Договор с ГБУЗ Петропавловская ЦРБ | T34: Л035-01223-03/00173576 от 05.05.2017 | U34: =U32 -> #REF! | V34: =V32 -> #REF! | X34: 70 | Y34: муниципальная | Z34: Джидинский
A35: 32 | B35: Муниципальное бюджетное общеобразовательное учреждение "Дырестуйская средняя общеобразовательная школа" | C35: Муниципальное бюджетное образовательное учреждение | D35: Галсанова Лидия Галсановна | E35: 304004864 | F35: 671911 Республика Бурятия, Джидинский район,у.Дырестуй, ул. Ленина, д. 17 | G35: 671911 Республика Бурятия, Джидинский район,у.Дырестуй, ул. Ленина, д. 17 | I35: Лагеря, организованные образовательными организациями, осуществляющими организацию отдыха и оздоровления | J35: сезонный | K35: 01.06.2026-26.06.2026 | L35: =$L$6 -> 195 | M35: 7-14 лет | N35: Расположение в здании ОО, питание в школьных столовых | O35: нет | P35: 1924 2024 | Q35: № 03.БЦ.11.000.М.000266.05.26 от 13.05.2026 г. | R35: Управление Роспотребнодзора, плановая проверка по соблюдению санитарно - эпидемиологических норм | S35: Договор с ГБУЗ Петропавловская ЦРБ | T35: №3067от 18.04.2028г Серия 03Л01 №0001686 | U35: =U33 -> нет | V35: =V33 -> нет | X35: 25 | Y35: муниципальная | Z35: Джидинский
A36: 33 | B36: Муниципальное бюджетное общеобразовательное учреждение "Енхорская средняя общеобразовательная школа" | C36: Муниципальное бюджетное образовательное учреждение | D36: Бадмажапова Оюна Дамбаевна | E36: 304004582 | F36: 671913 Республика Бурятия, Джидинский район,с.Енхор, ул. Ленина, д. 12 | G36: 671913 Республика Бурятия, Джидинский район,с.Енхор, ул. Ленина, д. 12 | I36: Лагеря, организованные образовательными организациями, осуществляющими организацию отдыха и оздоровления | J36: сезонный | K36: 01.06.2026-26.06.2026 | L36: =$L$6 -> 195 | M36: 7-14 лет | N36: Расположение в здании ОО, питание в школьных столовых | O36: нет | P36: 1975 г | Q36: № 03.БЦ.11.000.М.000169.04.26 от 27.04.2026 г. | R36: 10.06.2025 г. Управление Роспотребнадзора, плановая проверка по соблюдению санитарно-эпидемиологических норм | S36: Договор с ГБУЗ Петропавловская ЦРБ | T36: №1500 от 12.05.2015 г | U36: =U34 -> #REF! | V36: =V34 -> #REF! | X36: 14 | Y36: муниципальная | Z36: Джидинский
A37: 34 | B37: Муниципальное бюджетное общеобразовательное учреждение "Инзагатуйская средняя общеобразовательная школа" | C37: Муниципальное бюджетное образовательное учреждение | D37: Ошорова Кира Анатольевна | E37: 304004751 | F37: 671922 Республика Бурятия, Джидинский район,с.Инзагатуй, ул. Мурхонова, д. 34 | G37: 671922 Республика Бурятия, Джидинский район,с.Инзагатуй, ул. Мурхонова, д. 34 | I37: Лагеря, организованные образовательными организациями, осуществляющими организацию отдыха и оздоровления | J37: сезонный | K37: 01.06.2026-26.06.2026 | L37: =$L$6 -> 195 | M37: 7-14 лет | N37: Расположение в здании ОО, питание в школьных столовых | O37: нет | P37: 1967 | Q37: № 03.БЦ.11.000.М.000263.05.26 от 13.05.2026 г. | R37: 20.05.2025 - Управление Роспотребнадзора, плановая проверка по соблюдению санитарно - эпидемиологических норм | S37: Договор с ГБУЗ Петропавловская ЦРБ | T37: № 2569 от 18.04.2016 г. | U37: =U35 -> нет | V37: =V35 -> нет | X37: 14 | Y37: муниципальная | Z37: Джидинский
A38: 35 | B38: Муниципальное бюджетное общеобразовательное учреждение Нижнебургалтайская средняя общеобразовательная школа | C38: Муниципальное бюджетное образовательное учреждение | D38: Убугунова Оюна Борисовна | E38: 304004462 | F38: 671923 Республика Бурятия, Джидинский район,с.Нижний Бургалтай, ул. Яковлева, д. 41 | G38: 671923 Республика Бурятия, Джидинский район,с.Нижний Бургалтай, ул. Яковлева, д. 41 | I38: Лагеря, организованные образовательными организациями, осуществляющими организацию отдыха и оздоровления | J38: сезонный | K38: 01.06.2026-26.06.2026 | L38: =$L$6 -> 195 | M38: 7-14 лет | N38: Расположение в здании ОО, питание в школьных столовых | O38: нет | P38: 1969 | Q38: № 03.БЦ.11.000.М.000183.04.26 от 30.04.2026 г. | R38: 03.02.2026г.-Управление Роспотребнадзора, профилактический визит | S38: Договор с ГБУЗ Петропавловская ЦРБ | T38: №2250 от21.08.2012г. | U38: =U36 -> #REF! | V38: =V36 -> #REF! | X38: 18 | Y38: муниципальная | Z38: Джидинский
A39: 36 | B39: Муниципальное бюджетное общеобразовательное учреждение "Нижнеторейская средняя общеобразовательная школа" | C39: Муниципальное бюджетное образовательное учреждение | D39: Тютькина Людмила Федоровна | E39: 304004110 | F39: 671925 Республика Бурятия, Джидинский район,с.Нижний-Торей, ул. Комсомольская, д. 29 | G39: 671925 Республика Бурятия, Джидинский район,с.Нижний-Торей, ул. Комсомольская, д. 29 | I39: Лагеря, организованные образовательными организациями, осуществляющими организацию отдыха и оздоровления | J39: сезонный | K39: 01.06.2026-26.06.2026 | L39: =$L$6 -> 195 | M39: 7-14 лет | N39: Расположение в здании ОО, питание в школьных столовых | O39: нет | P39: 1987 | Q39: № 03.БЦ.11.000.М.000346.05.26 от 18.05.2026 г. | R39: 19.06.2025 гУправление Роспотребнадзора, профилактический виизит ЛДП 28.01.2025 Управление Роспотребнадзора, плановая проверка по соблюдению санитарно-эпидемиологических норм. | S39: Договор с ГБУЗ Петропавловская ЦРБ | T39: №3104 от 22.06.2018 г.(03Л01 № 0001738) | U39: =U37 -> нет | V39: =V37 -> нет | X39: 18 | Y39: муниципальная | Z39: Джидинский
A40: 37 | B40: Муниципальное бюджетное общеобразовательное учреждение "Оерская средняя общеобразовательная школа" | C40: Муниципальное бюджетное образовательное учреждение | D40: Сансуева Ханда Цырендашиевна | E40: 304004737 | F40: 671924 Республика Бурятия, Джидинский район,с.Оер, ул. Центральная, д. 3 | G40: 671924 Республика Бурятия, Джидинский район,с.Оер, ул. Центральная, д. 3 | I40: Лагеря, организованные образовательными организациями, осуществляющими организацию отдыха и оздоровления | J40: сезонный | K40: 01.06.2026-26.06.2026 | L40: =$L$6 -> 195 | M40: 7-14 лет | N40: Расположение в здании ОО, питание в школьных столовых | O40: нет | P40: 1982 | Q40: № 03.БЦ.11.000.М.000428.05.26 от 21.05.2026 г. | R40: 19.06.2025г. - Управление Роспотребнадзора, профилактический виизит ЛДП. 04.12.2025 - Управление Роспотребнадзора, профилактический визит | S40: Договор с ГБУЗ Петропавловская ЦРБ | T40: №1569 от 17.08.2012 г. | U40: =U38 -> #REF! | V40: =V38 -> #REF! | X40: 40 | Y40: муниципальная | Z40: Джидинский
A41: 38 | B41: Муниципальное автономное общеобразовательное учреждение "Петропавловская районная гимназия" | C41: Муниципальное автономное образовательное учреждение | D41: Гармаева Эльвира Тамажаповна | E41: 304003476 | F41: 671920 Республика Бурятия, Джидинский район,с. Петропавловка, ул. Ленина, д. 118 | G41: 671920 Республика Бурятия, Джидинский район,с. Петропавловка, ул. Ленина, д. 118 | I41: Лагеря, организованные образовательными организациями, осуществляющими организацию отдыха и оздоровления | J41: сезонный | K41: 01.06.2026-26.06.2026 | L41: =$L$6 -> 195 | M41: 7-14 лет | N41: Расположение в здании ОО, питание в школьных столовых | O41: нет | P41: 1968 | Q41: № 03.БЦ.11.000.М.000432.05.26 от 21.05.2026 г. | R41: 03.06.2025г. - Управление Роспотребнадзора, профилактический визит по соблюдению санитарно-эпидемиологических норм. | S41: Договор с ГБУЗ Петропавловская ЦРБ | T41: №2430 от 16.11.2015 г. | U41: =U39 -> нет | V41: =V39 -> нет | X41: 45 | Y41: муниципальная | Z41: Джидинский
A42: 39 | B42: Муниципальное бюджетное общеобразовательное учреждение "Джидинская средняя общеобразовательная школа" | C42: Муниципальное бюджетное образовательное учреждение | D42: Зарубин Максим Николаевич | E42: 304004783 | F42: 671900 Республика Бурятия, Джидинский район, пгт. Джида, ул. Школьная, д. 19 | G42: 671900 Республика Бурятия, Джидинский район, пгт. Джида, ул. Школьная, д. 19 | I42: Лагеря, организованные образовательными организациями, осуществляющими организацию отдыха и оздоровления | J42: сезонный | K42: 01.06.2026-26.06.2026 | L42: =$L$6 -> 195 | M42: 7-14 лет | N42: Расположение в здании ОО, питание в школьных столовых | O42: нет | P42: 1964 | Q42: № 03.БЦ.11.000.М.000202.04.26 от 30.04.2026 г. | S42: Договор с ГБУЗ Петропавловская ЦРБ | T42: да | U42: =U40 -> #REF! | V42: =V40 -> #REF! | X42: 40 | Y42: муниципальная | Z42: Джидинский
A43: 40 | B43: Муниципальное бюджетное общеобразовательное учреждение "Боргойская средняя общеобразовательная школа" | C43: Муниципальное бюджетное образовательное учреждение | D43: Ванданова Светлана Александровна | E43: 304004776 | F43: 671922 Республика Бурятия, Джидинский район, улус.Боргой, ул. Школьная, зд. 1 | G43: 671922 Республика Бурятия, Джидинский район, улус.Боргой, ул. Школьная, зд. 1 | I43: Лагеря, организованные образовательными организациями, осуществляющими организацию отдыха и оздоровления | J43: сезонный | K43: 01.06.2026-26.06.2026 | L43: =$L$6 -> 195 | M43: 7-14 лет | N43: Расположение в здании ОО, питание в школьных столовых | O43: нет | P43: 1978 | Q43: № 03.БЦ.11.000.М.000267.05.26 от 13.05.2026 г. | R43: 16.02.2026-Управление Роспотребнадзора, профилактический визит | S43: Договор с ГБУЗ Петропавловская ЦРБ | T43: №3115от 10.08.2018 (серия 03л01 0001749) | U43: =U41 -> нет | V43: =V41 -> нет | X43: 14 | Y43: муниципальная | Z43: Джидинский
A44: 41 | B44: Муниципальное бюджетное общеобразовательное учреждение "Желтуринская средняяя общеобразовательная школа" им. В.С. Клочихина | C44: Муниципальное бюджетное образовательное учреждение | D44: Зайцева Виктория Ивановна | E44: 304004649 | F44: 671926 Республика Бурятия, Джидинский район,с. Желтура, ул. Рокоссовского, д. 66 | G44: 671926 Республика Бурятия, Джидинский район,с. Желтура, ул. Рокоссовского, д. 66 | I44: Лагеря, организованные образовательными организациями, осуществляющими организацию отдыха и оздоровления | J44: сезонный | K44: 01.06.2026-26.06.2026 | L44: =$L$6 -> 195 | M44: 7-14 лет | N44: Расположение в здании ОО, питание в школьных столовых | O44: нет | P44: 1968 Капитальный ремонт 2019 | Q44: № 03.БЦ.11.000.М.000233.05.26 от 07.05.2026 г. | R44: 03.02.2026г. - Управление Роспотребнадзора, профилактический визит | S44: Договор с ГБУЗ Петропавловская ЦРБ | T44: № 2873 от 23.06.2017 Серия 03Л01 № 0001476 | U44: =U42 -> #REF! | V44: =V42 -> #REF! | X44: 30 | Y44: муниципальная | Z44: Джидинский
A45: 42 | B45: Муниципальное бюджетное общеобразовательное учреждение "Тулдунская средняя общеобразовательная школа имени воина-интернационалиста, кавалера ордена Красной Звезды Мулонова Анатолия Максимовича" | C45: Муниципальное бюджетное учреждение | D45: Рыгзенов Санжижап Базаржапович | E45: 0305002362 | F45: 671430, Республика Бурятия, Еравнинский район, поселок Тулдун, ул. Ленина, д.14 | G45: 671430, Республика Бурятия, Еравнинский район, поселок Тулдун, ул. Ленина, д.14 | H45: sh-tuldunskaya-r81.gosweb.gosuslugi.ru | I45: Лагеря, организованные образовательными организациями, осуществляющими организацию отдыха и оздоровления | J45: сезонный | K45: 01.06.2026-21.06.2026 | L45: 195.6 | M45: 7-15 лет | N45: Без проживания, 3-х разовое питание в столовой | O45: нет | P45: ввод в эксплуатацию -1993 г, капитальный ремонт не проводился | Q45: 03.БЦ.11.000.М.000248.05.26 от 08.05.2026 г. | R45: Проверка на соответствие ЛДП от 20.06.2025 г. | S45: Договор с ГБУЗ «Еравнинская центральная районная больница» №1 от 01.01.2026 г. | T45: № 2634 от 07 октября 2016 года | U45: нарушение умственного развития | V45: дети с умственной отсталостью | W45: https://sh-tuldunskaya-r81.gosweb.gosuslugi.ru/ЛДП/dokumenty_243.html | X45: 20 | Y45: Муниципальная | Z45: Еравнинский
A46: 43 | B46: Муниципальное бюджетное общеобразовательное учреждение "Целинная средняя общеобразовательная школа", МБОУ "ЦСОШ" | C46: Муниципальное бюджетное учреждение | D46: Монгуш Амелия Хейме-Ооловна | E46: 0305002468 | F46: 671444 Республика Бурятия, Еравнинский район, п. Целинный, ул. Сазонова, 3 | G46: 671444 Республика Бурятия, Еравнинский район, п. Целинный, ул. Сазонова, 3 | H46: sh-celinnaya-r81.gosweb.gosuslugi.ru | I46: Лагеря, организованные образовательными организациями, осуществляющими организацию отдыха и оздоровления | J46: сезонный | K46: 01.06.2026-21.06.2026 | L46: 195.6 | M46: 6-17 лет | N46: Без проживания, 2-х разовое питание | O46: нет | P46: ввод в эксплуатацию -1983 г, капитальный ремонт 2022 г | Q46: 03.БЦ.11.000.М.000239.05.26 от 08.05.2026 г. | R46: УправлениеРоспотребнадзора по Республике Бурятия в июне 2025 год | S46: Договор с ГБУЗ «Еравнинская центральная районная больница» от 16.01.2026 г. Л041-01171-03/00365403 от 29.05.2020 | T46: № 2774 от 14.02.2017 г (серия 03ЛО1 №0001358) | U46: нарушение умственного развития | V46: дети с задержкой психического развития, дети с нарушением поведения и общения | W46: https://sh-celinnaya-r81.gosweb.gosuslugi.ru/roditelyam-i-uchenikam/poleznaya-informatsiya/otdyh-i-ozdorovlenie-uchaschihsya/ | X46: 31 | Y46: Муниципальная | Z46: Еравнинский
A47: 44 | B47: Муниципальное бюджетное образовательное учреждение "Озерная средняя образовательная школа", МБОУ "ОСОШ" | C47: Муниципальное бюджетное образовательное учреждение | D47: Самойлова Юлия Анатольевна | E47: 0305002387 | F47: 671445, Республика Бурятия, Еравнинский район,п.Озерный,ул.Комсомольская,1 | G47: 671445, Республика Бурятия, Еравнинский район,п.Озерный,ул.Комсомольская,1 | H47: https://sh-ozernaya-r81.gosweb.gosuslugi.ru/ | I47: Лагеря, организованные образовательными организациями, осуществляющими организацию отдыха и оздоровления | J47: сезонный | K47: 01.06.2026-21.06.2026 | L47: 195.6 | M47: 7-15 лет | N47: без проживания, 3-х разовое питание в столовой | O47: Нет | P47: ввод в эксплуатацию - 1976 г., капитальный ремонт - 2022 год. | Q47: 03.БЦ.11.000.М.000300.05.26 от 14.05.2026 г. | R47: Профилактический визит 05.06.2025г Управления Роспотребнадзора по Республике Бурятия | S47: Договор с ГБУЗ «Еравнинская центральная районная больница» № 40 от 16.01.2026 Л041-01171-03/00365403 от 29.05.2020 | T47: №2101 серия 03Л01№0000595 от 30.04.2014 года | U47: передвигающиеся на креслах-колясках,нарушения умственного развития | V47: . дети с умственной отсталостью; -дети с задержкой психического развития; | W47: https://sh-ozernaya-r81.gosweb.gosuslugi.ru/netcat_files/198/2882/Prrogramma_vospitatel_noy_raboty.pdf | X47: 26 | Y47: Муниципальная | Z47: Еравнинский
A48: 45 | B48: Муниципальное бюджетное общеобразовательное учреждение "Ширингинская средняя общеобразовательная школа", МБОУ "ШСОШ" | C48: Муниципальное бюджетное учреждение | D48: Базарова Гэлэгма Будаевна | E48: 0305002450 | F48: 671438, Еравнинский район,село Ширинга, ул.Школьная,3 | G48: 671438, Еравнинский район,село Ширинга, ул.Школьная,3 | H48: sh-shiringinskaya-r81.gosweb.gosuslugi.ru | I48: Лагеря, организованные образовательными организациями, осуществляющими организацию отдыха и оздоровления | J48: сезонный | K48: 01.06.2026-21.06.2026 | L48: 195.6 | M48: 7-15 лет | N48: Без проживания, 3-х разовое питание в столовой | O48: нет | P48: Ввод в эксплуатацию - 1998 г.; капитального ремонта не проводилось | Q48: 03.БЦ.11.000.М.000268.05.26 от 13.05.2026 г. | R48: 11.06.2025 г. ТО Управления Роспотребнадзора по Республике Бурятия в Хоринском районе профилактический визит | S48: Договор с ГБУЗ «Еравнинская центральная районная больница» от 16.01.2026 г. № ЛО -03-01-003194 от 29.05.2020 г. | T48: серия 03Л01 № 0001318 от 30.12.2016 | U48: нарушения умственного развития | V48: дети с умственной отсталостью | W48: https://sh-shiringinskaya-r81.gosweb.gosuslugi.ru/glavnoe/lager-dnevnogo-prebyvaniya-ldp-2025/dokumenty/ | X48: 21 | Y48: Муниципальная | Z48: Еравнинский
A49: 46 | B49: Муниципальное бюджетное общеобразовательное учреждение "Тужинкинская средняя общеобразовательная школа", МБОУ "ТСОШ" | C49: Муниципальное бюджетное учреждение | D49: Сандитова Номин Будажаповна | E49: 0305002500 | F49: 671401, Республика Бурятия, Еравнинский район, село Тужинка, ул. Школьная, д. 15 | G49: 671401, Республика Бурятия, Еравнинский район, село Тужинка, ул. Школьная, д. 15 | H49: sh-tuzhinkinskaya-r81.gosweb.gosuslugi.ru | I49: Лагеря, организованные образовательными организациями, осуществляющими организацию отдыха и оздоровления | J49: Сезонный | K49: 01.06.2026-21.06.2026 | L49: 195.6 | M49: 7-14 лет | N49: Без проживания, 2-х разовое питание | O49: Нет | P49: Ввод в эксплуатацию - 1963 год; Капитальный ремонт - не проводился. | Q49: 03.БЦ.11.000.М.000285.05.26 от 14.05.2026 г. | R49: Плановый визит Территориального отдела Управления Роспотребнадзора по Республике Бурятия в Хоринском районе 02.06.2025 г. - предписание выполнено | S49: Договор с ГБУЗ «Еравнинская центральная районная больница» от 16.01.2026 Л041-01171-03/00365403 от 29.05.2020 | T49: №2872 от 23.06.2017г. (серия 03П01 №0002604) | U49: частичное нарушение слуха, частичное нарушение зрения, нарушение умственного развития | V49: дети с нарушением слуха; дети с нарушением зрения; дети с умственной отсталостью; дети с задержкой психического развития; | W49: https://sh-tuzhinkinskaya-r81.gosweb.gosuslugi.ru/varianty-glavnyh/title/lager-dnevnogo-prebyvaniya-solnyshko/ | X49: 20 | Y49: Муниципальная | Z49: Еравнинский
A50: 47 | B50: Муниципальное автономное общеобразовательное учреждение "Исингинская средняя общеобразовательная школа", МАОУ " Исингинская СОШ" | C50: Муниципальное автономное учреждение | D50: Цыжипова Цыпилма Александровна | E50: 0305002394 | F50: 671442, Республика Бурятия, Еравнинский район, с. Исинга, ул. Школьная, 2 | G50: 671442, Республика Бурятия, Еравнинский район, с. Исинга, ул. Школьная, 2 | H50: sh-isinginskaya-r81.gosweb.gosuslugi.ru | I50: Лагеря, организованные образовательными организациями, осуществляющими организацию отдыха и оздоровления | J50: Сезонный | K50: 01.06.2026-21.06.2026 | L50: 195.6 | M50: 7-15 лет | N50: Без проживания, 2х-разовое питание в столовой | O50: нет | P50: Ввод в эксплуатацию: 2007 год; капитальный ремонт не проводился | Q50: 03.БЦ.11.000.М.000324.05.26 от 15.05.2026 г. | R50: 09.02.2026 г. ТО Управление Роспотребнадзора по Республике бурятия в Хоринском районе. Профилактический визит, плановый визит. | S50: Договор с ГБУЗ «Еравнинская центральная районная больница» от 16.01.2026 Л041-01171-03/00365403 от 29.05.2020 | T50: № 2111 от 29.05.2014 г. | U50: нарушение умственного развития | V50: дети с умственной отсталостью, дети с задержкой психического развития, дети с нарушением поведения и общения | W50: https://sh-isinginskaya-r81.gosweb.gosuslugi.ru/glavnoe/ldp/ | X50: 50 | Y50: Муниципальная | Z50: Еравнинский
A51: 48 | B51: Муниципальное бюджетное общеобразовательное учреждение "Гундинская средняя общеобразовательная школа", МБОУ "ГСОШ" | C51: Муниципальное бюджетное учреждение | D51: Галсанова Марина Будажаповна | E51: 067-101-13924 | F51: 671440,Республика Бурятия,Еравнинский район,село Гунда,ул.Ленина 43 | G51: 671440,Республика Бурятия,Еравнинский район,село Гунда,ул.Ленина 43 | H51: sh-gundinskaya-r81.gosweb.gosuslugi.ru | I51: Лагеря, организованные образовательными организациями, осуществляющими организацию отдыха и оздоровления | J51: Сезонный | K51: 01.06.2026-21.06.2026 | L51: 195.6 | M51: 7-15 лет | N51: Без прроживания 2-х разовое питание | O51: Нет | P51: Ввод в эксплуатацию 1964 г,капитальный ремонт-2012г | Q51: 03.БЦ.11.000.М.000310.05.26 от 14.05.2026 г. | R51: Плановая проверка управления Роспотребнадзора по Республике Бурятия в Хоринском районе 06.06.2025г. - предписание выполнено | S51: Договор с ГБУЗ «Еравнинская центральная районная больница» 16.01.2026 г. Л041-01171-03/00365403 от 29.05.2020 | T51: № 2683 от 12.12.2016 г. (серия 03Л01 № 0001319) | U51: нарушение умственного развития | V51: дети с умственной отсталостью, дети с задержкой психического развития, дети с нарушением поведения и общения | W51: https://sh-gundinskaya-r81.gosweb.gosuslugi.ru/glavnoe/svedeniya-ob-organizatsii-otdyha-detey-i-ih-ozdorovleniya-ldp/ | X51: 41 | Y51: Муниципальная | Z51: Еравнинский
A52: 49 | B52: Муниципальное бюджетное общеобразовательное учреждение "Можайская средняя общеобразовательная школа", МБОУ "МСОШ" | C52: Муниципальное бюджетное учреждение | D52: Цыбиков Эрдэм Бадмадоржиевич | E52: 0305002443 | F52: 671432, республика Бурятия, Еравнинский район, с. Можайка, ул. Октябрьская, д. 11 | G52: 671432, республика Бурятия, Еравнинский район, с. Можайка, ул. Октябрьская, д. 11 | H52: https://sh-mozhajskaya-r81.gosweb.gosuslugi.ru | I52: Лагеря, организованные образовательными организациями, осуществляющими организацию отдыха и оздоровления | J52: сезонный | K52: 01.06.2026-21.06.2026 | L52: 195.6 | M52: 7-14 лет | N52: Без проживания, 2-х разовое питание в столовой | O52: нет | P52: Ввод в эксплуатацию - 1980 год; Капитальный ремонт - 2019 год. | Q52: 03.БЦ.11.000.М.000435.05.26 от 21.05.2026 г. | R52: плановая проверка ТО Управления Роспотребнадзора по Республике Бурятия в Хоринском районе, 18.06.2025 г., предписание выполнено | S52: Договор с ГБУЗ «Еравнинская центральная районная больница» 15.01.2026 г. Л041-01171-03/00365403 от 29.05.2020 | T52: №2712 от 23.12.2016г. (серия 03П01 №0002356) | U52: нарушение умственного развития | V52: дети с нарушением опорно-двигательного аппарата | W52: https://sh-mozhajskaya-r81.gosweb.gosuslugi.ru/roditelyam-i-uchenikam/poleznaya-informatsiya/otdyh-i-ozdorovlenie-uchaschihsya/ | X52: 45 | Y52: Муниципальная | Z52: Еравнинский
A53: 50 | B53: Муниципальное автономное общеобразовательное учреждение "Сосново-Озерская средняя общеобразовательная школа №1", МАОУ "Сосново-Озерская СОШ №1" | C53: Муниципальное автономное учреждение | D53: Гунгарова Алина Баировна | E53: 0305002309 | F53: 671430, Республика Бурятия, Еравнинский район, село Сосново-Озерское, ул. Матросова, д.46 | G53: 671430 Еравнинский район село Сосново-Озерское ул. Первомайская, 102 | H53: sh-sosnovo-ozerskaya-r81.gosweb.gosuslugi.ru | I53: Лагеря, организованные образовательными организациями, осуществляющими организацию отдыха и оздоровления | J53: сезонный | K53: 01.06.2026-21.06.2026 | L53: 195.6 | M53: 7-15 лет | N53: Без проживания, 2-х разовое питание в столовой | O53: нет | P53: ввод в экплуатацию-1986;Капитальный ремонт - 2021 год. | Q53: 03.БЦ.11.000.М.000281.05.26 от 14.05.2026 г. | R53: плановая проверка ТО Управления Роспотребнадзора по Республике Бурятия в Хоринском районе, 04.06.2025 г. Нарушений не выявлено | S53: Договор с ГБУЗ «Еравнинская центральная районная больница» №23 от 15.01.2026 г. Л041-01171-03/00365403 от 29.05.2020 | T53: № Л035-01223-03/00173284 | U53: Категория детей-инвалидов 5. частичное нарушение зрения 7. частичное нарушение слуха 8. нарушения умственного развития | V53: Дети с ограниченными возможностями здоровья: 3. дети с нарушением речи (логопаты); 4. дети с нарушением опорно-двигательного аппарата; 5. дети с умственной отсталостью; 6. дети с задержкой психического развития; 7. дети с нарушением поведения и общения; | W53: https://sh-sosnovo-ozerskaya-r81.gosweb.gosuslugi.ru/glavnoe/letniy-otdyh-2025/ | X53: 66 | Y53: Муниципальная | Z53: Еравнинский
A54: 51 | B54: Муниципальное бюджетное общеобразовательное учреждение "Сосново-Озерская средняя общеобразовательная школа №2", МБОУ "Сосново-Озерская СОШ №2" | C54: Муниципальное бюджетное учреждение | D54: Минеева Светлана Сергеевна | E54: 0305002316 | F54: 671430, Республика Бурятия, Еравнинский район, с. Сосново- Озёрское, ул. Первомайская 102 | G54: 671430, Республика Бурятия, Еравнинский район, с. Сосново- Озёрское, ул. Первомайская 102 | H54: https://sh2-sosnovo-ozerskoe-r81.gosweb.gosuslugi.ru/ | I54: Лагеря, организованные образовательными организациями, осуществляющими организацию отдыха и оздоровления | J54: сезонный | K54: 01.06.2026-21.06.2026 | L54: 195.6 | M54: 6-15 лет | N54: Без проживания, 2-х разовое питание в столовой | O54: нет | P54: Ввод в эксплуатацию - 1986 год; | Q54: 03.БЦ.11.000.М.000295.05.26 от 14.05.2026 г. | R54: плановая проверка ТО Управления Роспотребнадзора по Республике Бурятия в Хоринском районе, 04.06.2025 г. Нарушений не выявлено | S54: Договор с ГБУЗ «Еравнинская центральная районная больница» от 15.01.2026 лицензия Л041-01171-03/00365403 от 29.05.2020 | T54: №2682 от 12.12.2016г. (серия 03Л01 № 0001253). | U54: 1. передвигающиеся на креслах-колясках 2. поражение нижних конечностей 3. поражение верхних конечностей 5. частичное нарушение зрения 7. частичное нарушение слуха 8. нарушения умственного развития | V54: 1. дети с нарушением слуха ( слабослышащие, позднооглохшие); 2. дети с нарушением зрения ( слабовидящие); 3. дети с нарушением речи (логопаты); 4. дети с нарушением опорно-двигательного аппарата; 5. дети с умственной отсталостью; 6. дети с задержкой психического развития; 7. дети с нарушением поведения и общения; 8. дети с комплексными нарушениями психофизического развития, с так называемыми сложными дефектами (слепоглухонемые, глухие или слепые дети с умственной отсталостью) | W54: https://sh2-sosnovo-ozerskoe-r81.gosweb.gosuslugi.ru/vospitatelnaya-rabota/ldp-fantaziya/ | X54: 66 | Y54: Муниципальная | Z54: Еравнинский
A55: 52 | B55: Муниципальноге автономное общеобразовательное учреждение "Усть-Эгитуйская средняя общеобразовательная школа", МАОУ "Усть-Эгитуйская СОШ" | C55: Муниципальное автономное учреждение | D55: Доржиева Сэбэгма Пунсуковна | E55: 0305002330 | F55: 671430, Республика Бурятия, Еравнинский район, с. Усть-Эгита, ул. Базарова, 22 | G55: 671430, Республика Бурятия, Еравнинский район, с. Усть-Эгита, ул. Базарова, 22 | H55: sh-ust-egitujskaya-r81.gosweb.gosuslugi.ru | I55: Лагеря, организованные образовательными организациями, осуществляющими организацию отдыха и оздоровления | J55: Сезонный | K55: 01.06.2026-21.06.2026 | L55: 195.6 | M55: 7-15 лет | N55: Без проживания, 2х-разовое питание в столовой | O55: нет | P55: дата ввода в эксплуатацию - 2013 год, капитальный ремонт не проводился | Q55: 03.БЦ.11.000.М.000273.05.26 от 13.05.2026 г. | R55: плановая проверка ТО Управления Роспотребнадзора по Республике Бурятия в Хоринском районе, 17.06.2025г № ПВ - 2025-12 | S55: Договор №4 от 16.01.2026г. с ГБУЗ «Еравнинская центральная районная больница» Л041-01171-03/00365403 от 29.05.2020 | T55: Лицензия № 2193 серия 03Л01 №0000704 | U55: нарушение умственного развития | V55: дети с умственной отсталостью, дети с задержкой психического развития, дети с нарушением поведения и общения | W55: https://sh-ust-egitujskaya-r81.gosweb.gosuslugi.ru/ЛДП/dokumenty-2_317.html | X55: 50 | Y55: Муниципальная | Z55: Еравнинский
A56: 53 | B56: МБОУ "Ульдургинская средняя общеобразовательная школа им.Ц.Номтоева", МБОУ "Ульдургинская СОШ им.Ц.Номтоева" | C56: Муниципальное бюджетное учреждение | D56: Климова Наталия Васильевна | E56: 0305002436 | F56: 671436, Республика Бурятия, Еравнинский район, село Ульдурга, улица Ленина, 51 | G56: 671436, Республика Бурятия, Еравнинский район, село Ульдурга, улица Ленина, 51 | H56: https://sh-uldurginskaya-r81.gosweb.gosuslugi.ru/ | I56: Лагеря, организованные образовательными организациями, осуществляющими организацию отдыха и оздоровления | J56: сезонный | K56: 01.06.2026-21.06.2026 | L56: 195.6 | M56: 7-15 лет | N56: Без проживания, 3-х разовое питание в столовой | O56: нет | P56: дата ввода здания в эксплуатацию- 1964 г. дата капитального ремонта 2017 г | Q56: 03.БЦ.11.000.М.000307.05.26 от 14.05.2026 г. | R56: плановая проверка ТО Управления Роспотребнадзора по Республике Бурятия в Хоринском районе, 13.03.2025, предписание выполнено | S56: Договор с ГБУЗ «Еравнинская центральная районная больница» от 16.01.2026 г. Л041-01171-03/00365403 от 29.05.2020 | T56: 03ПО13№001908 ОТ 16.11.2016 | U56: нарушение умственного развития | V56: дети с умственной отсталостью, дети с задержкой психического развития, дети с нарушением поведения и общения | W56: https://uldurgasosch.gosuslugi.ru/svedeniya-ob-obrazovatelnoy-organizatsii/dokumenty/dokumenty-all-52_117.html | X56: 45 | Y56: Муниципальная | Z56: Еравнинский
... A58: 55 | B58: Муниципальное автономное общеобразовательное учреждение "Попереченская основная общеобразовательная школа", МАОУ "ПООШ" | C58: Муниципальное автономное учреждение | D58: Фаттахова Елена Марсельевна | E58: 0305002637 | F58: 671433, Республика Бурятия, Еравнинский район, село Поперечное, переулок Школьный, 3 | G58: 671433, Республика Бурятия, Еравнинский район, село Поперечное, переулок Школьный, 3 | H58: sh-poperechenskaya-r81.gosweb.gosuslugi.ru | I58: Лагеря, организованные образовательными организациями, осуществляющими организацию отдыха и оздоровления | J58: сезонный | K58: 01.06.2026-21.06.2026 | L58: 195.6 | M58: 6-17 лет | N58: Без проживания, 2-х разовое питание в столовой | O58: нет | P58: Ввод в эксплуатацию - 1989 год; Капитальный ремонт - 2021 год. | Q58: 03.БЦ.11.000.М.000437.05.26 от 21.05.2026 г. | R58: плановая проверка ТО Управления Роспотребнадзора по Республике Бурятия в Хоринском районе, 03.06.2025 г. - предписание выполнено | S58: Договор с ГБУЗ «Еравнинская центральная районная больница» Л041-01171-03/00365403 от 29.05.2020 | T58: Лицензия на осуществление образовательной деятельности №2726 от 30.12.2016г. | U58: нарушение умственного развития | V58: дети с умственной отсталостью, дети с задержкой психического развития, дети с нарушением поведения и общения | W58: https://sh-poperechenskaya-r81.gosweb.gosuslugi.ru/svedeniya-ob-obrazovatelnoy-organizatsii/dokumenty/dokumenty-all-52_519.html | X58: 20 | Y58: Муниципальная | Z58: Еравнинский
A59: 56 | B59: =[1]Лист1!B4 -> Муниципальное бюджетное общеобразовательное учреждение «Онохойская средняя общеобразовательная школа № 1» (МБОУ «Онохойская СОШ № 1») | C59: =[1]Лист1!C4 -> Муниципальное бюджетное общеобразовательное учреждение | D59: =[1]Лист1!D4 -> Буркова Ирина Петровна | E59: =[1]Лист1!E4 -> 306011232 | F59: =[1]Лист1!F4 -> 671300, Республика Бурятия, Заиграевский район, п. Онохой, ул. Пионерская д.8,тел.8(3012)56401 | G59: =[1]Лист1!G4 -> 671300, Республика Бурятия, Заиграевский район, п. Онохой, ул. Пионерская д.8,тел.8(3012)56401 | H59: =[1]Лист1!H4 -> https://sh1-onoxoj-r81.gosweb.gosuslugi.ru/ | I59: =[1]Лист1!I4 -> Лагеря, организованные образовательными организациями, осуществляющими организацию отдыха и оздоровления | ... P59: =[1]Лист1!P4 -> ввод в эксплуатацию - 1974 г., капитальный ремонт - 2023год. | Q59: ОИ. 03.4.14 от 23.04.2026 г. | R59: =[1]Лист1!R4 -> 04.06.2025г. - Территориальный отдел Управления Федеральной службы по надзору в сфере защиты прав потребителей и благополучия человека по РБ в Заиграевском районе. | S59: Договор ГАУЗ "Заиграевская ЦРБ" | T59: =[1]Лист1!T4 -> Лицензия №2657 от 25.11.2016г. | U59: =[1]Лист1!U4 -> 8 | V59: =[1]Лист1!V4 -> все категории | W59: =[1]Лист1!W4 -> https://sh1-onoxoj-r81.gosweb.gosuslugi.ru/netcat_files/208/3016/PROGRAMMA_VOSPITANIYa_2025_2026_2_.pdf | X59: =[1]Лист1!X4 -> 820 | Y59: =[1]Лист1!Y4 -> муниципальная | Z59: =[1]Лист1!Z4 -> Заиграевский
A60: 57 | B60: =[1]Лист1!B5 -> Муниципальное бюджетное общеобразовательное учреждение «Онохойская средняя общеобразовательная школа № 2» (МБОУ «Онохойская СОШ № 2») | C60: =[1]Лист1!C5 -> Муниципальное бюджетное общеобразовательное учреждение | D60: =[1]Лист1!D5 -> Халтурина Елена Михайловна | E60: =[1]Лист1!E5 -> 306011240 | F60: =[1]Лист1!F5 -> 671300, Республика Бурятия, Заиграевский район, п. Онохой, ул. Серова, д.11, ул. Серова, д.9 тел.8(3012)56260 | G60: =[1]Лист1!G5 -> 671300, Республика Бурятия, Заиграевский район, п. Онохой, ул. Серова, д.11, ул. Серова, д.9 тел.8(3012)56260 | H60: =[1]Лист1!H5 -> https://sh2-onoxoj-r81.gosweb.gosuslugi.ru/ | I60: =[1]Лист1!I5 -> Лагеря, организованные образовательными организациями, осуществляющими организацию отдыха и оздоровления | ... P60: =[1]Лист1!P5 -> ввод в эксплуатацию - 1952 г., капитальный ремонт - 2014 год. | Q60: 03.БЦ.11.000.М.000344.05.26 от 16.05.2026 г. | R60: =[1]Лист1!R5 -> 19.06.2025г. - Территориальный отдел Управления Федеральной службы по надзору в сфере защиты прав потребителей и благополучия человека по РБ в Заиграевском районе. Без замечаний | S60: Договор ГАУЗ "Заиграевская ЦРБ" | T60: =[1]Лист1!T5 -> Лицензия №2661 от 28.11.2016 г. | U60: =[1]Лист1!U5 -> категории 5, 7,8 | V60: =[1]Лист1!V5 -> все категории | W60: =[1]Лист1!W5 -> https://sh2-onoxoj-r81.gosweb.gosuslugi.ru/nasha-shkola/programma-vospitaniya-vospitatelnaya-deyatelnost/ https://sh2-onoxoj-r81.gosweb.gosuslugi.ru/nasha-shkola/letniy-otdyh/ | X60: =[1]Лист1!X5 -> 70 | Y60: =[1]Лист1!Y5 -> муниципальная | Z60: =[1]Лист1!Z5 -> Заиграевский
A61: 58 | B61: =[1]Лист1!B6 -> Муниципальное бюджетное общеобразовательное учреждение "Челутаевская средняя общеобразовательная школа №1"(МБОУ "Челутаевская СОШ №1" | C61: =[1]Лист1!C6 -> Муниципальное бюджетное общеобразовательное учреждение | D61: =[1]Лист1!D6 -> Яремчук Ульяна Андреевна | E61: =[1]Лист1!E6 -> 30601001 | F61: =[1]Лист1!F6 -> school_2_onokhoy@govrb.ru | G61: =[1]Лист1!G6 -> 671338, Республика Бурятия, Заиграевский район, п. Челутай 24 км, ул. Мостовая, д. 6 | H61: =[1]Лист1!H6 -> https://sh1-chelutaj-r81.gosweb.gosuslugi.ru/ | I61: =[1]Лист1!I6 -> Лагеря, организованные образовательными организациями, осуществляющими организацию отдыха и оздоровления | ... P61: =[1]Лист1!P6 -> ввод в эксплуатацию - 1968 г., капитальный ремонт - 2020 год. | Q61: 03.БЦ.11.000.М.000431.05.26 от 21.05.2026 г. | R61: =[1]Лист1!R6 -> 09.06.2025г. - Территориальный отдел Управления Федеральной службы по надзору в сфере защиты прав потребителей и благополучия человека по РБ в Заиграевском районе. Без замечаний | S61: Договор ГАУЗ "Заиграевская ЦРБ" | T61: =[1]Лист1!T6 -> Лицензия №3237, от 24.01.2020 | U61: =[1]Лист1!U6 -> 5,7,8 | V61: =[1]Лист1!V6 -> все категории | W61: =[1]Лист1!W6 -> https://sh1-chelutaj-r81.gosweb.gosuslugi.ru/netcat_files/userfiles/plan_vospitatelnoy_raboty_2.pdf | X61: =[1]Лист1!X6 -> 30 | Y61: =[1]Лист1!Y6 -> муниципальная | Z61: =[1]Лист1!Z6 -> Заиграевский
A62: 59 | B62: =[1]Лист1!B7 -> Муниципальное бюджетное общеобразовательное учреждение "Шпалозаводская средняя общеобразовательная школа" (МБОУ "Шпалозаводская СОШ") | C62: =[1]Лист1!C7 -> Муниципальное бюджетное общеобразовательное учреждение | D62: =[1]Лист1!D7 -> Вишнякова Наталья Михайловна | E62: =[1]Лист1!E7 -> 306011560 | F62: =[1]Лист1!F7 -> 671332, Республика Бурятия, Заиграевский район, с.Новоильинск, ул.Полевая, д.10, school_novoilinsk@govrb.ru | G62: =[1]Лист1!G7 -> 671332, Республика Бурятия, Заиграевский район, с.Новоильинск, ул.Полевая, д.10 | H62: =[1]Лист1!H7 -> 09.06.2025г. - Территориальный отдел Управления Федеральной службы по надзору в сфере защиты прав потребителей и благополучия человека по РБ в Заиграевском районе. Без замечаний | I62: =[1]Лист1!I7 -> Лагеря, организованные образовательными организациями, осуществляющими организацию отдыха и оздоровления | ... P62: =[1]Лист1!P7 -> ввод в эксплуатацию - 1978 г., капитальный ремонт - нет | Q62: 03.БЦ.11.000.М.000241.05.26 от 08.05.2026 г. | R62: =[1]Лист1!R7 -> 13.06.2025г. - Территориальный отдел Управления Федеральной службы по надзору в сфере защиты прав потребителей и благополучия человека по РБ в Заиграевском районе. Без замечаний | S62: Договор ГАУЗ "Заиграевская ЦРБ" | T62: =[1]Лист1!T7 -> Лицензия №2151 от 17.10.2014 | U62: =[1]Лист1!U7 -> 5,7,8 | V62: =[1]Лист1!V7 -> все категории | W62: =[1]Лист1!W7 -> 09.06.2025г. - Территориальный отдел Управления Федеральной службы по надзору в сфере защиты прав потребителей и благополучия человека по РБ в Заиграевском районе. Без замечаний | X62: =[1]Лист1!X7 -> 90 | Y62: =[1]Лист1!Y7 -> Муниципальная | Z62: =[1]Лист1!Z7 -> Заиграевский
A63: 60 | B63: =[1]Лист1!B8 -> Муниципальное бюджтное общеобразовательное учреждение "Ново-Горхонская средняя общеобразовательная школа"(МБОУ "Ново-Горхонская СОШ") | C63: =[1]Лист1!C8 -> Муниципальное бюджетнон общеобразовательное учреждение | D63: =[1]Лист1!D8 -> Каурова Виктория Владимировна | E63: =[1]Лист1!E8 -> 306011465 | F63: =[1]Лист1!F8 -> 671337,Республика Бурятия,Заиграевский район,п.Лесозаводской ул.Лесная д.20а тел.83013650767 ngschool_gorkhon@govrb.ru | G63: =[1]Лист1!G8 -> 671337,Республика Бурятия,Заиграевский район п.Лесозаводской,д20а | H63: =[1]Лист1!H8 -> https://sh-novo-gorxonskaya-gorxon-r81.gosweb.gosuslugi.ru/glavnoe/svedeniya-ob-organizatsii-otdyha-detey-i-ih-ozdorovleniya/ | I63: =[1]Лист1!I8 -> Лагеря, организованные образовательными организациями, осуществляющими организацию отдыха и оздоровления | ... P63: =[1]Лист1!P8 -> ввод в эксплуатацию-1977г.,капитальный ремонт-2017г.. | Q63: 03.БЦ.11.000.М.000212.05.26 от 05.05.2026 | R63: =[1]Лист1!R8 -> 11.06.2025г. Территориальный отдел Управления Федеральной службы по надзору сфере защиты прав потребителей и благополучия человека по Республике Бурятия в Заиграевском районе.Без замечаний | S63: Договор ГАУЗ "Заиграевская ЦРБ" | T63: =[1]Лист1!T8 -> Лицензия №0001245 от 01.12.2016 | U63: =[1]Лист1!U8 | V63: =[1]Лист1!V8 | W63: =[1]Лист1!W8 | X63: =[1]Лист1!X8 | Y63: =[1]Лист1!Y8 -> муниципальная | Z63: =[1]Лист1!Z8 -> Заиграевский
A64: 61 | B64: =[1]Лист1!B9 -> Муниципальное бюджетное общеобразовательное учреждение "Новобрянская средняя общеобразовательная школа"(МБОУ "Новобрянская СОШ") | C64: =[1]Лист1!C9 -> Муниципальное бюджетнон общеобразовательное учреждение | D64: =[1]Лист1!D9 -> Тихонова Татьяна Викторовна | E64: =[1]Лист1!E9 -> 306012701 | F64: =[1]Лист1!F9 -> Республика Бурятия, Заиграевский район, с. Новая Брянь, ул. Пирогова 20 | G64: =[1]Лист1!G9 -> Республика Бурятия, Заиграевский район, с. Новая Брянь, ул. Пирогова 20 | H64: =[1]Лист1!H9 -> https://sh-novobryanskaya-r81.gosweb.gosuslugi.ru/ | I64: =[1]Лист1!I9 -> Лагеря, организованные образовательными организациями, осуществляющими организацию отдыха и оздоровления | ... P64: =[1]Лист1!P9 -> Ввод в эксплуатацию 1992 г. | Q64: 03.БЦ.11.000.М.000198.04.26 от 30.04.2026 | R64: =[1]Лист1!R9 -> 28.01.2026 | S64: Договор ГАУЗ "Заиграевская ЦРБ" | T64: =[1]Лист1!T9 -> Лицензия № 2714 от 23.12.2016 г. | U64: =[1]Лист1!U9 -> 5,7,8 | V64: =[1]Лист1!V9 -> Все категории | W64: =[1]Лист1!W9 -> https://sh-novobryanskaya-r81.gosweb.gosuslugi.ru/roditelyam-i-uchenikam/letniy-lager-raduga/ | X64: =[1]Лист1!X9 -> 800 | Y64: =[1]Лист1!Y9 -> муниципальная | Z64: =[1]Лист1!Z9 -> Заиграевский
A65: 62 | B65: =[1]Лист1!B10 -> Муниципальное бюджетное общеобразовательное учреждение "Горхонская средняя общеобразовательная школа № 73" (МБОУ "Горхонская СОШ № 73" | C65: =[1]Лист1!C10 -> Муниципальное бюджетное общеобразовательное учреждение | D65: =[1]Лист1!D10 -> Сураева Мария Николаевна | E65: =[1]Лист1!E10 -> 0 | F65: =[1]Лист1!F10 -> Республика Бурятия Заиграевский район п. Горхон ул. Железнодорожная д. 22 . тел. 8-301-36-50-7-39; school_73_gorkhon@govrb.ru | G65: =[1]Лист1!G10 -> Республика Бурятия Заиграевский район п. Горхон ул. Железнодорожная д. 22 . тел. 8-301-36-50-7-39; school_73_gorkhon@govrb.ru | H65: =[1]Лист1!H10 -> https://sh-gorxonskaya-r81.gosweb.gosuslugi.ru/ | I65: =[1]Лист1!I10 -> Лагеря, организованные образовательными организациями, осуществляющими организацию отдыха и оздоровления | ... P65: =[1]Лист1!P10 -> ввод в эксплуатацию здания 1900 г, кап ремонт 28.08.2022 г. | Q65: 03.БЦ.11.000.М.000216.05.26 от 05.05.2026 г. | R65: =[1]Лист1!R10 -> 11.06-26.06.2025 г Территориальный отдел Управления Федеральной службы по надзору в сфере защиты прав потребителей и благополучия человека по РБ в Заиграевском районе. Без замечаний | S65: Договор ГАУЗ "Заиграевская ЦРБ" | T65: =[1]Лист1!T10 -> Лицензия № 2314 от 23.12.2016 г. | U65: =[1]Лист1!U10 -> 5,7,8 | V65: =[1]Лист1!V10 -> все категроии | W65: =[1]Лист1!W10 -> https://sh-gorxonskaya-r81.gosweb.gosuslugi.ru/ | X65: =[1]Лист1!X10 -> 80 | Y65: =[1]Лист1!Y10 -> Муниципальная | Z65: =[1]Лист1!Z10 -> Заиграевский
A66: 63 | B66: =[1]Лист1!B11 -> Муниципальное бюджетное общеобразовательное учреждение "Шабурская средняя общеобразовательная школа МБОУ "Шабурская сош" | C66: =[1]Лист1!C11 -> муниципальное | D66: =[1]Лист1!D11 -> Малышева Дарья Андреевна | E66: =[1]Лист1!E11 -> 306011289 | F66: =[1]Лист1!F11 -> Республика Бурятия, Заиграевский район, с.Шабур, ул Ново-школьная 15а | G66: =[1]Лист1!G11 -> Республика Бурятия, Заиграевский район,с.Шабур, ул. Ново-школьная 15а | H66: =[1]Лист1!H11 -> https://sh-shaburskaya-r81.gosweb.gosuslugi.ru/ | I66: =[1]Лист1!I11 -> Лагеря, организованные образовательными организациями, осуществляющими организацию отдыха и оздоровления | ... P66: =[1]Лист1!P11 -> ввод в эксплуатацию -1976г, кап ремонт 2021г | Q66: 03.БЦ. 11.000. М. 000244.05.26 от 08.05.2026 г. | R66: =[1]Лист1!R11 -> 11.06.2025г. Территориальный отдел Управления Федеральной службы по надзору сфере защиты прав потребителей и благополучия человека по Республике Бурятия в Заиграевском районе.Без замечаний | S66: Договор ГАУЗ "Заиграевская ЦРБ" | T66: =[1]Лист1!T11 -> Лицензия № 2668 от 29.11.2016 | U66: =[1]Лист1!U11 -> 5,7,8 | V66: =[1]Лист1!V11 -> все категории | W66: =[1]Лист1!W11 -> https://sh-shaburskaya-r81.gosweb.gosuslugi.ru/ | X66: =[1]Лист1!X11 -> 38 | Y66: =[1]Лист1!Y11 -> муниципальная | Z66: =[1]Лист1!Z11 -> Заиграевский
A67: 64 | B67: =[1]Лист1!B12 -> Муниципальное бюджетное общеобразовательное учреждение "Ново-Курбинская основная общеобразовательная школа" МБОУ "Ново-Курбинская ООШ" | C67: =[1]Лист1!C12 -> Муниципальное | D67: =[1]Лист1!D12 -> Постникова Татьяна Алексеевна | E67: =[1]Лист1!E12 -> 306011627 | F67: =[1]Лист1!F12 -> Республика Бурятия, Завьяловский район, с. Новая Курба, ул Школьная, 65 | G67: =[1]Лист1!G12 -> Республика Бурятия, Заиграевский район, с. Новая Курба, ул Школьная, 65 | H67: =[1]Лист1!H12 -> https://sh-novo-kurbinskaya-r81.gosweb.gosuslugi.ru/glavnoe/letniy-otdyh/ | I67: =[1]Лист1!I12 -> Лагеря, организованные образовательными организациями, осуществляющими организацию отдыха и оздоровления | ... P67: =[1]Лист1!P12 -> кап.ремонт - 2012 | Q67: 03.БЦ.11.000.М.000345.05.26 от 18.05.2026 | R67: =[1]Лист1!R12 -> июнь 2025 г. Территориальный отдел Управления Федеральной службы по надзору в сфере защиты прав потребителей и благополучия человека по Республике Бурятия в Заиграевском районе. Без замечаний | S67: Договор ГАУЗ "Заиграевская ЦРБ" | T67: =[1]Лист1!T12 -> №2877 от 03.07.2017 | U67: =[1]Лист1!U12 -> 0 | V67: =[1]Лист1!V12 -> 0 | W67: =[1]Лист1!W12 -> https://sh-novo-kurbinskaya-r81.gosweb.gosuslugi.ru/glavnoe/letniy-otdyh/ | X67: =[1]Лист1!X12 -> 20 | Y67: =[1]Лист1!Y12 -> муниципальная | Z67: =[1]Лист1!Z12 -> Заиграевский
A68: 65 | B68: =[1]Лист1!B13 -> Муниципальное бюджетное общеобразовательное учреждение "Челутаевская основная общеобразовательная школа № 2", МБОУ "Челутаевская ООШ № 2" | C68: =[1]Лист1!C13 -> Муниципальное | D68: =[1]Лист1!D13 -> Баранова Татьяна Ивановна | E68: =[1]Лист1!E13 -> 306010944 | F68: =[1]Лист1!F13 -> 671338, Республика Бурятия, Заиграевский район, п.Челутай 3 км, ул. Школьная, 4 | G68: =[1]Лист1!G13 -> 671338, Республика Бурятия, Заиграевский район, п.Челутай 3 км, ул. Школьная, 4 | H68: =[1]Лист1!H13 -> https://sh2-chelutaj-3-r81.gosweb.gosuslugi.ru | I68: =[1]Лист1!I13 -> Лагеря, организованные образовательными организациями, осуществляющими организацию отдыха и оздоровления | ... P68: =[1]Лист1!P13 -> ввод в эксплуатацию в 1976, кап.ремонт - 2012 | Q68: 03.БЦ.11.000.М.000276.05.26 от 13.05.2026 | R68: =[1]Лист1!R13 -> 18.06.2025 г. Территориальный отдел Управления Федеральной службы по надзору в сфере защиты прав потребителей и благополучия человека по Республике Бурятия в Заиграевском районе. Без замечаний | S68: Договор ГАУЗ "Заиграевская ЦРБ" | T68: =[1]Лист1!T13 -> № 1847 от 21 декабря 2012 года | U68: =[1]Лист1!U13 -> Нет | V68: =[1]Лист1!V13 -> нет | W68: =[1]Лист1!W13 -> https://sh2-chelutaj-3-r81.gosweb.gosuslugi.ru/nasha-shkola/ldp-ulybka/dokumenty_975.html https://sh2-chelutaj-3-r81.gosweb.gosuslugi.ru/nasha-shkola/ldp-ulybka/dokumenty_974.html | X68: =[1]Лист1!X13 -> 35 | Y68: =[1]Лист1!Y13 -> муниципальная | Z68: =[1]Лист1!Z13 -> Заиграевский
A69: 66 | B69: =[1]Лист1!B14 -> Муниципальное бюджетное общеобразовательное учреждение "Заиграевская средня общеобразовательная школа" | C69: =[1]Лист1!C14 -> Муниципальное | D69: =[1]Лист1!D14 -> Бухольцева Алена Анатольевна | E69: =[1]Лист1!E14 -> 306011497 | F69: =[1]Лист1!F14 -> Республика Бурятия, Заиграевский район, п. Заиграево, ул. Октябрьская, 3. | G69: =[1]Лист1!G14 -> Республика Бурятия, Заиграевский район, п. Заиграево, ул. Октябрьская, 3. | H69: =[1]Лист1!H14 -> https://shttps://zschool03.gosuslugi.ru/ | I69: =[1]Лист1!I14 -> Лагеря, организованные образовательными организациями, осуществляющими организацию отдыха и оздоровления | ... P69: =[1]Лист1!P14 -> 1937 год и 2021 год | Q69: 03.БЦ.11.000.М.000294.05.26 от 14.05.2026 | R69: =[1]Лист1!R14 -> 25.11.2025 Управление Роспотребнадзора по РБ Без замечаний | S69: =[1]Лист1!S14 -> ЛО-03-01-001323 от 11.11.2013 | T69: =[1]Лист1!T14 -> лицензия №2673 от «01» декабря 2016 года | U69: =[1]Лист1!U14 -> нет | V69: =[1]Лист1!V14 -> нет | W69: =[1]Лист1!W14 -> https://zschool03.gosuslugi.ru/svedeniya-ob-obrazovatelnoy-organizatsii/dokumenty/dokumenty-all-52_995.html | X69: =[1]Лист1!X14 -> 79 | Y69: =[1]Лист1!Y14 -> муниципальная | Z69: =[1]Лист1!Z14 -> Заиграевский
A70: 67 | B70: =[1]Лист1!B15 -> Муниципальное бюджетное общеобразовательное учреждение "Унэгэтэйская средняя общеобразовательная школа" | C70: =[1]Лист1!C15 -> Муниципальное | D70: =[1]Лист1!D15 -> Шигина Елена Николаевна | E70: =[1]Лист1!E15 -> 306011578 | F70: =[1]Лист1!F15 -> Республика Бурятия Заиграевский район с.Унэгэтэй ул. Школьная 13 | G70: =[1]Лист1!G15 -> 671326, Республика Бурятия Заиграевский район с. Унэгэтэй Кл. Школьная 13 | H70: =[1]Лист1!H15 -> https://sh-unegetejskaya-r81.gosweb.gosuslugi.ru/ | I70: =[1]Лист1!I15 -> Лагеря, организованные образовательными организациями, осуществляющими организацию отдыха и оздоровления | ... P70: =[1]Лист1!P15 -> Ввод в эксплуатацию 1961, капитальный ремонт 2012г. | Q70: 03.БЦ.11.000.М.000236.05.26 от 07.05.2026 | R70: =[1]Лист1!R15 -> 16.06..2025 г.Территориальный отдел Управления Федеральной службы по надзору в сфере защиты прав потребителей и благополучия человека по РБ в Заиграевском районе. Без замечаний2.04.2025г., 14.0Прокуратура Заиграевского района; 14.05.2025г. - Главное Управление МЧС России по РБ, отделение надзорной деятельности и профилактической работы Заиграевского района УНДиПР; 09.07.2025г., 15.07.2025г., 31.07.2025г. - ТО Управление Федеральной службы по надзору в сфере защиты прав потребителей и благополучия человека по РБ в Заиграевском районе | S70: Договор ГАУЗ "Заиграевская ЦРБ" | T70: =[1]Лист1!T15 -> лицензия №2669 от «29"ноября 2016 года | U70: =[1]Лист1!U15 -> все категории | V70: =[1]Лист1!V15 -> Все категории | W70: =[1]Лист1!W15 -> https://sh-unegetejskaya-r81.gosweb.gosuslugi.ru/netcat_files/202/2940/programma_lagerya.pdf | X70: =[1]Лист1!X15 -> 50 | Y70: =[1]Лист1!Y15 -> муниципальная | Z70: =[1]Лист1!Z15 -> Заиграевский
A71: 68 | B71: =[1]Лист1!B16 -> Муниципальное бюджетное общеобразовательное учреждение "Ключевская средняя общеобразовательная школа" | C71: =[1]Лист1!C16 -> Муниципальное | D71: =[1]Лист1!D16 -> Копосова Людмила Владимировна | E71: =[1]Лист1!E16 -> 306011225 | F71: =[1]Лист1!F16 -> 671312 Республика Бурятия Заиграевский район п.Татрский ключ, ул. Сппортивная 13 | G71: =[1]Лист1!G16 -> 6713112 Республика Бурятия Заиграевский район п. Татарский ключч, уул. Спортивная 13 | H71: =[1]Лист1!H16 -> https://sh-klyuchevskaya-tatarskij-klyuch-r81.gosweb.gosuslugi.ru/ | I71: =[1]Лист1!I16 -> Лагеря, организованные образовательными организациями, осуществляющими организацию отдыха и оздоровления | ... P71: =[1]Лист1!P16 -> Ввод в эксплуатацию 1960 | Q71: № 03.БЦ.03.000.М.000222.05.26 от 06.05.2026 г. | R71: =[1]Лист1!R16 -> 15.06.2025г. - Территориальный отдел Управления Федеральной службы по надзору в сфере защиты прав потребителей и благополучия человека по РБ в Заиграевском районе. Без замечаний | S71: Договор ГАУЗ "Заиграевская ЦРБ" | T71: =[1]Лист1!T16 -> лицензия № 1637 от «17" сентября 2012 года | U71: =[1]Лист1!U16 -> 5,6,7 | V71: =[1]Лист1!V16 -> 6 | W71: =[1]Лист1!W16 -> https://sh-klyuchevskaya-tatarskij-klyuch-r81.gosweb.gosuslugi.ru/roditelyam-i-uchenikam/poleznaya-informatsiya/otdyh-i-ozdorovlenie-uchaschihsya/ | X71: =[1]Лист1!X16 -> 40 | Y71: =[1]Лист1!Y16 -> Муниципальная | Z71: =[1]Лист1!Z16 -> Заиграевский
A72: 69 | B72: =[1]Лист1!B17 -> Муниципальное бюджетное общеобразовательное учреждение "Первомаевская средняя общеобразовательная школа" | C72: =[1]Лист1!C17 -> Муниципальное | D72: =[1]Лист1!D17 -> Козлов Юрий Георгиевич | E72: =[1]Лист1!E17 -> 306011514 | F72: =[1]Лист1!F17 -> 671339 Республика Бурятия, Заиграевскй район, с.Первомаевка, пер. Школьный, 10 | G72: =[1]Лист1!G17 -> 671339 Республика Бурятия, Заиграевскй район, с.Первомаевка, пер. Школьный, 10 | H72: =[1]Лист1!H17 -> sh-pervomaevskaya-r81.gosweb.gosuslugi.ru | I72: =[1]Лист1!I17 -> Лагеря, организованные образовательными организациями, осуществляющими организацию отдыха и оздоровления | ... P72: =[1]Лист1!P17 -> Ввод в эксплуатацию 1959, капитальный ремонт в 2022 году | Q72: 03.БЦ.11.000.М.000313.05.26 от 14.05.2026 г. | R72: =[1]Лист1!R17 -> 06.06.2025 г. Территориальный отдел Управления Федеральной службы по надзору сфере защиты прав потребителей и благополучия человека по Республике Бурятия в Заиграевском районе.Без замечаний | S72: Договор ГАУЗ "Заиграевская ЦРБ" | T72: =[1]Лист1!T17 -> Лицензия №2659, от 28.11.2016 | U72: =[1]Лист1!U17 -> 5,7,8 | V72: =[1]Лист1!V17 -> ytn | W72: =[1]Лист1!W17 -> https://sh-pervomaevskaya-r81.gosweb.gosuslugi.ru/glavnoe/лагерь/letniy-lager-2025_1172.html | X72: =[1]Лист1!X17 -> 30 | Y72: =[1]Лист1!Y17 -> Муниципальная | Z72: =[1]Лист1!Z17 -> Заиграевский
A73: 70 | B73: =[1]Лист1!B18 -> Муниципальное бюджетное общеобразовательное учреждение " Октябрьская основная общеобразовательная школа" МБОУ " Октябрьская ООШ" | C73: =[1]Лист1!C18 -> Муниципальное | D73: =[1]Лист1!D18 -> Буканова Юлия Николаевна | E73: =[1]Лист1!E18 -> 306011352 | F73: =[1]Лист1!F18 -> 671302,Республика Бурятия, Заиграевский район, п. Онохой-2 | G73: =[1]Лист1!G18 -> 671302,Республика Бурятия, Заиграевский район, п. Онохой-2 | H73: =[1]Лист1!H18 -> school_onokhoy-2@govrb.ru | I73: =[1]Лист1!I18 -> Лагеря, организованные образовательными организациями, осуществляющими организацию отдыха и оздоровления | ... P73: =[1]Лист1!P18 -> Ввод в эксплуатацию 1969г | Q73: 03.БЦ.11000.М.000278.05.26 от 13.05.2026 | R73: =[1]Лист1!R18 -> 05.06.2025г Территориальный отдел Управления Федеральной службы по надзору в сфере защиты прав потребителей и благополучия человека по РБ в Заиграевском районе. Без замечаний | S73: =[1]Лист1!S18 -> Договор Заиграевская ЦРБ | T73: =[1]Лист1!T18 -> №2724 от 30.12.2016г. (серия 03Л01 №0001297) | U73: =[1]Лист1!U18 -> 5,7,8 | V73: =[1]Лист1!V18 -> все категории | W73: =[1]Лист1!W18 -> https://sh-oktyabrskaya-r81.gosweb.gosuslugi.ru/svedeniya-ob-organizatsii-otdyha-detey-i-ih-ozdorovlenii-1/dokumenty/dokumenty_580.html | X73: =[1]Лист1!X18 -> 20 | Y73: =[1]Лист1!Y18 -> Муниципальная | Z73: =[1]Лист1!Z18 -> Заиграевский
A74: 71 | B74: =[1]Лист1!B19 -> Муниципальное бюджетное общеобразовательное учреждение "Старобрянская средняя общеобразовательная школа" МБОУ "Старобрянская СОШ" | C74: =[1]Лист1!C19 -> Муниципальное бюджетное общеобразовательное учреждение | D74: =[1]Лист1!D19 -> Владимирова Мария Александровна | E74: =[1]Лист1!E19 -> 306011190 | F74: =[1]Лист1!F19 -> 671338, Республика Бурятия, Заиграевский район, с. Старая Брянь, ул. Центральная, 55 А, sbscool_starayabryan@govrb.ru | G74: =[1]Лист1!G19 -> 671338, Республика Бурятия, Заиграевский район, с. Старая Брянь, ул. Центральная, 55 А, 8(30136)55-1-68 | H74: =[1]Лист1!H19 -> https://sh-yubilejnaya-r81.gosweb.gosuslugi.ru/ | I74: =[1]Лист1!I19 -> Лагеря, организованные образовательными организациями, осуществляющими организацию отдыха и оздоровления | ... P74: =[1]Лист1!P19 -> Ввод в эксплуатацию-1976 год; Капитальный ремонт- не проводился | Q74: 03.БЦ.11.000.М.000213 05.26 от 05.05.2026 | R74: =[1]Лист1!R19 -> 14.02.2022г Плановая выездная проверка Территориальный отдел Управления Федеральной службы по надзору в сфере защиты прав потребителей и благополучия человека по Республике Бурятия в Заиграевском районе. Предписание от 14.02.2022г. | S74: =[1]Лист1!S19 -> Соглашение на медицинское обслуживание детей б/н № 111 от 21.03.2025г | T74: =[1]Лист1!T19 -> № 2671 от 01.12.2016. (серия 03Л01 № 0001241) | U74: =[1]Лист1!U19 -> Имеется паспорт доступности для инвалидов и предоставляемых на нем услуг в сфере образования | V74: =[1]Лист1!V19 -> нет | W74: =[1]Лист1!W19 | X74: =[1]Лист1!X19 -> 18 | Y74: =[1]Лист1!Y19 -> Муниципальная | Z74: =[1]Лист1!Z19 -> Заиграевский
A75: 72 | B75: =[1]Лист1!B20 -> Муниципальное бюджетное общеобразовательной учреждение "Илькинская средняя общеобразовательная школа", МБОУ "Илькинская СОШ" | C75: =[1]Лист1!C20 -> Муниципальное бюджетное общеобразовательное учреждение | D75: =[1]Лист1!D20 -> Цынгуева Анджелла Тадановна | E75: =[1]Лист1!E20 -> 306011539 | F75: =[1]Лист1!F20 -> 671331, Республика Бурятия, Заиграевский район, с.Илька, ул.Трактовая 4, 83013657216, school_ilka@govrb.ru | G75: =[1]Лист1!G20 -> 671331, Ркспублика Бурятия, Заиграевский район, с.Илька, ул.Трактовая 4? 83013657216, school_ilka@govrb.ru | H75: =[1]Лист1!H20 -> https://sh-ilkinskaya-r81.gosweb.gosuslugi.ru/ | I75: =[1]Лист1!I20 -> Лагеря, организованные образовательными организациями, осуществляющими организацию отдыха и оздоровления | ... P75: =[1]Лист1!P20 -> ввод в эксплуатацию - 1972 г., частичный капитальный ремонт - 2018 год. | Q75: 03.БЦ.11.000.М.000275.05.26 от 13.05.2026 | R75: =[1]Лист1!R20 -> 18.06.2025г. - Территориальный отдел Управления Федеральной службы по надзору в сфере защиты прав потребителей и благополучия человека по РБ в Заиграевском районе. Без замечаний | S75: =[1]Лист1!S20 -> Договор ГАУЗ "Заиграевская ЦРЦ" о медицинском обслуживании лиц, пребывающих в дневном оздоровительном лагере на базе образовательного учреждения б/№ от 27.02.2023 г | T75: =[1]Лист1!T20 -> Лицензия №1740 от 15.10.2012 г. | U75: =[1]Лист1!U20 -> категории 5, 7,8 | V75: =[1]Лист1!V20 -> Все категории | W75: =[1]Лист1!W20 -> https://sh-ilkinskaya-r81.gosweb.gosuslugi.ru/glavnoe/svedeniya-ob-organizatsii-lagerya-truda-i-otdyha/dokumenty_540.html | X75: =[1]Лист1!X20 -> 60 | Y75: =[1]Лист1!Y20 -> муниципальная | Z75: =[1]Лист1!Z20 -> Заиграевский
A76: 73 | B76: =[1]Лист1!B21 -> Муниципальное бюджетное общеобразовательное учреждение "Ацагатская средняя общеобразовательная школа-интернат", МБОУ "Ацагатская СОШИ" | C76: =[1]Лист1!C21 -> Муниципальное бюджетное учреждение | D76: =[1]Лист1!D21 -> Рандалова Ольга Вячеславовна | E76: =[1]Лист1!E21 -> 306011786 | F76: =[1]Лист1!F21 -> 671339, Республика Бурятия, Заиграевский район, с.Нарын-Ацагат, ул.Школьная,1, 89516307535, school_naryn-atsagat@govrb.ru | G76: =[1]Лист1!G21 -> 671339, Республика Бурятия, Заиграевский район, с.Нарын-Ацагат, ул.Школьная,1, 89516307535, school_naryn-atsagat@govrb.ru | H76: =[1]Лист1!H21 -> https://sh-acagatskaya-naryn-acagat-r81.gosweb.gosuslugi.ru/glavnoe/ldp/ | I76: =[1]Лист1!I21 -> Лагеря, организованные образовательными организациями, осуществляющими организацию отдыха и оздоровления | ... P76: =[1]Лист1!P21 -> ввод в эксплуатацию -2007г. | Q76: 03,БЦ.11.000.М.000247.05.26 от 08.05.2026 | R76: =[1]Лист1!R21 -> 06.06.2025г ТО Управления Федеральной службы по надзору в сфере защиты прав потребителей и благополучия человека по РБ в Заиграевском районе | S76: =[1]Лист1!S21 -> №ЛО-03-01-003114 от 29.01.2020г. | T76: =[1]Лист1!T21 -> Лицензия №2909 от 04.10.2017г. | U76: =[1]Лист1!U21 -> 8 | V76: =[1]Лист1!V21 -> все категории | W76: =[1]Лист1!W21 -> https://sh-acagatskaya-naryn-acagat-r81.gosweb.gosuslugi.ru/glavnoe/ldp/ldp_475.html | X76: =[1]Лист1!X21 -> 45 | Y76: =[1]Лист1!Y21 -> Муниципальная | Z76: =[1]Лист1!Z21 -> Заиграевский
A77: 74 | B77: =[1]Лист1!B22 -> Муниципальное бюджетное общеобразовательное учреждение "Ташеланская средняя общеобразовательная школа-интернат", МБОУ "Ташеланская СОШИ" | C77: =[1]Лист1!C22 -> Муниципальное бюджетное общеобразовательное учреждение | D77: =[1]Лист1!D22 -> Зубакина Евгения Ивановна | E77: =[1]Лист1!E22 -> 306011419 | F77: =[1]Лист1!F22 -> 671335, Республика Бурятия, Заиграевский район, село Ташелан, ул. Ленина, д.27. | G77: =[1]Лист1!G22 -> 671335, Республика Бурятия, Заиграевский район, село Ташелан, ул. Ленина, д.27. | H77: =[1]Лист1!H22 -> https://sh-int-tashelanskaya-r81.gosweb.gosuslugi.ru/ | I77: =[1]Лист1!I22 -> Лагеря, организованные образовательными организациями, осуществляющими организацию отдыха и оздоровления | ... P77: =[1]Лист1!P22 -> 1970 | Q77: 03.БЦ.11.000.М.00240.05.26 от 08.05.2026 | R77: =[1]Лист1!R22 -> 04.06.2025г. - Территориальный отдел Управления Федеральной службы по надзору в сфере защиты прав потребителей и благополучия человека по РБ в Заиграевском районе. | S77: =[1]Лист1!S22 -> Лицензия_№ ЛО-03-01-001-323 от 11 ноября 2013г. Договор с ГАУЗ "Заиграевскя ЦРБ" б/№ от 27.02.2023 г | T77: =[1]Лист1!T22 -> Лицензия №2670 от 29.11.2016 | U77: =[1]Лист1!U22 -> 7.2 и 5.1 | V77: =[1]Лист1!V22 -> все категории | W77: =[1]Лист1!W22 -> https://sh-int-tashelanskaya-r81.gosweb.gosuslugi.ru/roditelyam-i-uchenikam/letniy-lager/ | X77: =[1]Лист1!X22 -> 120 | Y77: =[1]Лист1!Y22 -> муниципальная | Z77: =[1]Лист1!Z22 -> Заиграевский
A78: 75 | B78: =[1]Лист1!B23 -> Муниципальное бюджетное общеобразовательное учреждение "Усть-Брянская Основная Общеобразовательная Школа" МБОУ "Усть-Брянская ООШ | C78: =[1]Лист1!C23 -> Муниципальное бюджетное общеобразовательное учреждение | D78: =[1]Лист1!D23 -> Туголуков Дмитрий Павлович | E78: =[1]Лист1!E23 -> 306011345 | F78: =[1]Лист1!F23 -> 671328,Республика Бурятия, Заиграевский район, с.Усть-Брянь,ул.Центральная1 | G78: =[1]Лист1!G23 -> 671328,Республика Бурятия, Заиграевский район, с.Усть-Брянь,ул.Центральная1 | H78: =[1]Лист1!H23 -> https: school_ust-bryan@govrb.ru | I78: =[1]Лист1!I23 -> Лагеря, организованные образовательными организациями, осуществляющими организацию отдыха и оздоровления | ... P78: =[1]Лист1!P23 -> ввод в эксплуатацию 1980 | Q78: 03.БЦ.11.000.М.000223.05.26 от 6.05.2026г | R78: =[1]Лист1!R23 -> Территориальный отдел Управления Федеральной службы по надзору в сфере защиты прав потребителей и благополучия человека по Республике Бурятия в Заиграевском районе. С 09.09 -22. 09. 2025г | S78: =[1]Лист1!S23 -> Договор ГАУЗ "Заиграевская ЦРЦ" о медицинском обслуживании лиц, пребывающих в дневном оздоровительном лагере на базе образовательного учреждения б/№ от 27.02.2023 г | T78: =[1]Лист1!T23 -> ЛИЦЕНЗИЯ ОТ 23.12.2016 №2711 | U78: =[1]Лист1!U23 -> 0 | V78: =[1]Лист1!V23 -> ВСЕ КАТЕГОРИИ | W78: =[1]Лист1!W23 -> https://sh-ust-bryanskaya-r81.gosweb.gosuslugi.ru | X78: =[1]Лист1!X23 -> 25 | Y78: =[1]Лист1!Y23 -> Муниципальная | Z78: =[1]Лист1!Z23 -> Заиграевский
A79: 76 | B79: =[1]Лист1!B24 -> Муниципальное автономное образовательное учреждение " Талецкая средняя общеобразовательная школа" ( МАОУ "Талецкая сош") | C79: =[1]Лист1!C24 -> Муниципальное автономное образовательное учреждение | D79: =[1]Лист1!D24 -> Гомбоев Виктор Батуевич | E79: =[1]Лист1!E24 -> 306011360 | F79: =[1]Лист1!F24 -> 671321, Республика Бурятия, р-н Заиграевский , п. Нижние Тальцы, ул. Береговая, зд.11. | G79: =[1]Лист1!G24 -> 671321, Республика Бурятия, р-н Заиграевский , п. Нижние Тальцы, ул. Береговая, зд.11. | H79: =[1]Лист1!H24 -> https://sh-taleckaya-nizhnietalcy-r81.gosweb.gosuslugi.ru/ | I79: =[1]Лист1!I24 -> Лагеря, организованные образовательными организациями, осуществляющими организацию отдыха и оздоровления | ... P79: =[1]Лист1!P24 -> 2021 г. | Q79: 03.БЦ.11.000.М.000312.05.26 от 14.05.2026 (ЛДП) | R79: =[1]Лист1!R24 -> 02.06.2025г. - Территориальный отдел Управления Федеральной службы по надзору в сфере защиты прав потребителей и благополучия человека по РБ в Заиграевском районе. | S79: =[1]Лист1!S24 -> Договор ГАУЗ "Заиграевская ЦРЦ" о медицинском обслуживании лиц,пребывающих в дневном оздоровительном лагере на базе образовательного учреждения №7 от 05.02.2025г. | T79: =[1]Лист1!T24 -> Лицензия № 03-Э-13 от 02.03.2021 г. | U79: =[1]Лист1!U24 -> 1.5.7.8. | V79: =[1]Лист1!V24 -> все категории | W79: =[1]Лист1!W24 -> https://sh-taleckaya-nizhnietalcy-r81.gosweb.gosuslugi.ru/netcat_files/175/2816/rabochaya_programma_vospitaniya_2025_2026_god.pdf | X79: =[1]Лист1!X24 -> 160 | Y79: =[1]Лист1!Y24 -> муниципальная | Z79: =[1]Лист1!Z24 -> Заиграевский
A80: 77 | B80: =[1]Лист1!B25 -> Муниципальное бюджетное общеобразовательное учреждение "Старо-Курбинская основная общеобразовательная школа" | C80: =[1]Лист1!C25 -> Муниципальное | D80: =[1]Лист1!D25 -> Афанасьева Ирина Фёдоровна | E80: =[1]Лист1!E25 -> 306011708 | F80: =[1]Лист1!F25 -> 671339, Республика Бурятия, Заиграевский район, село Старая Курба, улица Школьная 1 | G80: =[1]Лист1!G25 -> 671339, Республика Бурятия, Заиграевский район, село Старая Курба, улица Школьная 1 | H80: =[1]Лист1!H25 -> shoolstar@yandex.ru | I80: =[1]Лист1!I25 -> Лагеря, организованные образовательными организациями, осуществляющими организацию отдыха и оздоровления | ... P80: =[1]Лист1!P25 -> 1984 | Q80: 03.БЦ. 11000.М. 000323.05.26 от 15.05.2026 | R80: =[1]Лист1!R25 -> июнь 2025 г. Территориальный отдел Управления Федеральной службы по надзору в сфере защиты прав потребителей и благополучия человека по Республике Бурятия в Заиграевском районе. Без замечаний | S80: Договор ГАУЗ "Заиграевская ЦРБ" | T80: =[1]Лист1!T25 -> да | U80: =[1]Лист1!U25 -> нет | V80: =[1]Лист1!V25 -> нет | W80: =[1]Лист1!W25 -> да | X80: =[1]Лист1!X25 -> 20 | Y80: =[1]Лист1!Y25 -> муниципальная | Z80: =[1]Лист1!Z25 -> Заиграевский
A81: 78 | B81: =[1]Лист1!B26 -> Муниципальное автономное образовательное учреждение "Новоильинский агротехнический лицей" (МАОУ НАТЛ) | C81: =[1]Лист1!C26 -> Муниципальное автономное образовательное учреждение | D81: =[1]Лист1!D26 -> Мельникова Полина Михайловна | E81: =[1]Лист1!E26 -> 30601001 | F81: =[1]Лист1!F26 -> 671332, Республика Бурятия, р-н Заиграевский, с.Новоильинск, ул.Цыренова, 31 | G81: =[1]Лист1!G26 -> 671332, Республика Бурятия, р-н Заиграевский, с.Новоильинск, ул.Цыренова, 31 | H81: =[1]Лист1!H26 -> https://natl-licey.gosuslugi.ru/glavnoe/organizatsiya-otdyha-detey-i-ih-ozdorovlenie/ | I81: =[1]Лист1!I26 -> Лагеря, организованные образовательными организациями, осуществляющими организацию отдыха и оздоровления | ... P81: =[1]Лист1!P26 -> ввод в эксплуатацию 1978г. 1980г. Капитальный ремонт не провод | Q81: 03.БЦ.11.000.М.000316.05.26 от 15.05.2026 | R81: =[1]Лист1!R26 -> июнь 2025г. - Управление Роспотребнадзора, внеплановая проверка по соблюдению санитарно-эпидемиологических норм в условиях распространения новой коронавирусной инфекции, проверка организации учебного процесса и питания учащихся. Замечания устранены. | S81: =[1]Лист1!S26 -> Лицензия №ЛО-03-01-002554 от 26.12.2017г. | T81: =[1]Лист1!T26 -> Лицензия №2693 от 12.12.2016г. | U81: =[1]Лист1!U26 -> - | V81: =[1]Лист1!V26 -> - | W81: =[1]Лист1!W26 -> https://natl-licey.gosuslugi.ru/glavnoe/organizatsiya-otdyha-detey-i-ih-ozdorovlenie/ | X81: =[1]Лист1!X26 -> 75 | Y81: =[1]Лист1!Y26 -> муниципальная | Z81: =[1]Лист1!Z26 -> Заиграевский
A82: 79 | B82: Муниципальное автономное общеобразовательное учреждение "Ехэ-Цакирская средняя общеобразовательная школа"ЛДП | C82: Муниципальное автономное учреждение | D82: Гармаева Хажидма Владимировна | E82: 0307007574 | F82: 671943, Республика Бурятия, Закаменский район, улус Ехэ-Цакир, ул.Центральная, 64 | G82: 671943, Республика Бурятия, Закаменский район, улус Ехэ-Цакир, ул.Центральная, 64 | H82: https://sh-exe-cakirskaya-r81.gosweb.gosuslugi.ru/glavnoe/svedeniya-ob-organizatsii-otdyha-detey-i-ih-ozdorovleniya-1/ | I82: Лагеря, организованные образовательными организациями, осуществляющими организацию отдыха и оздоровления | J82: сезонный | K82: 1 смена: 02.06.2026-22.06.2026 | L82: 213 | M82: 7-15 | N82: 3-х разовое питание без проживания | O82: нет | P82: Ввод в эксплуатацию - 1991г.; Капитальный ремонт-2013г. | Q82: 03.БЦ.11.000.М.000455.05.26 от 25.05.2026 | R82: проверок не было | S82: Договор ГБУЗ "Закаменская ЦРБ" | T82: №2293 от 03.07.2015г. (серия 03Л01 №0000794) | U82: 1. передвигающиеся на креслах-колясках | V82: 4. дети с нарушением опорно-двигательного аппарата; | W82: Имеется паспорт доступности, программа воспитательной работы и календарного плана воспитательной работы с описанием конкретных мероприятий по дням с учетом смен и возрастных групп детей | X82: 40 | Y82: муниципальная | Z82: Закаменский
A83: 80 | B83: Муниципальное бюджетное общеобразовательное учреждение "Холтосонская средняя общеобразовательная школа", МБОУ "Холтосонская СОШ" ЛДП | C83: Муниципальное бюджетное учреждение | D83: Осипчук Нина Николаевна | E83: 0307008514 | F83: 671934, Республика Бурятия, Закаменский район, с.Холтосон, ул.Заречная, б/н | G83: 671934, Республика Бурятия, Закаменский район, с.Холтосон, ул.Заречная, б/н | H83: https://sh-xoltosonskaya-r81.gosweb.gosuslugi.ru/glavnoe/svedeniya-ob-organizatsii-otdyha-detey-i-ih-ozdorovlenii/ | I83: Лагеря, организованные образовательными организациями, осуществляющими организацию отдыха и оздоровления | J83: сезонный | K83: 1 смена, 02.06.2026 - 22.06.2026 | L83: 213 | M83: 45998 | N83: 3х разовое питание без проживания | O83: нет | P83: Ввод в эксплуатацию 1961г, капитальный ремонт 2020г | Q83: 03.БЦ.11.000.М.000356.05.26 от 18.05.2026 | R83: 26.06.2024г, Управление Роспотребнадзора по Республике Бурятия, профилактический визит, предписание. | S83: Договор ГБУЗ "Закаменская ЦРБ" | T83: Лицензия N 3204 от 23.04.2019г, серия 03Л01 N 0001844 | U83: 1. передвигающиеся на креслах-колясках | V83: 4. дети с нарушением опорно-двигательного аппарата; | W83: Имеется паспорт доступности, программа воспитательной работы и календарного плана воспитательной работы с описанием конкретных мероприятий по дням с учетом смен и возрастных групп детей | X83: 20 | Y83: муниципальная | Z83: Закаменский
A84: 81 | B84: Летний оздоровительный лагерь с дневным пребыванием детей «В кругу друзей» Муниципального автономного общеобразовательного учреждения «Средняя общеобразовательная школа №5 г. Закаменск» | C84: Муниципальное автономное учреждение | D84: Аюшеев Николай Дугаржапович | E84: 0307007662 | F84: 671950, Российская Федерация, Республика Бурятия, Закаменский район, г. Закаменск, ул. Комсомольская, д. 1 | G84: 671950, Российская Федерация, Республика Бурятия, Закаменский район, г. Закаменск, ул. Комсомольская, д. 1 | H84: https://zkmschool5.gosuslugi.ru/ +73013744610 | I84: Лагеря, организованные образовательными организациями, осуществляющими организацию отдыха и оздоровления | J84: сезонный | K84: 1 смена, 02.06.2026 - 26.06.2026 | L84: 213 | M84: 7-14 | N84: 3х разовое питание без проживания | O84: нет | P84: Здание введено в эксплуатацию в 1990 г., капитальный ремонт проводился в 2023 г. | Q84: 03.БЦ.11.000.М.000460.05.26 от 26.05.2026 | R84: 26.06.2024, Управление Роспотребнадзора по Республике Бурятия, профилактический визит | S84: ЛО-03-01-003188 от 02.06.2020 Серия ЛО-03 №0021270 | T84: Лицензия №2338 от 07.09.2015 г. Серия 03Л01 №0000861 | U84: 1. передвигающиеся на креслах-колясках | V84: 4. дети с нарушением опорно-двигательного аппарата; 6. дети с задержкой психического развития; | W84: Имеется паспорт доступности, программа воспитательной работы и календарного плана воспитательной работы с описанием конкретных мероприятий по дням с учетом смен и возрастных групп детей | X84: 150 | Y84: муниципальная | Z84: Закаменский
A85: 82 | B85: Муниципальное автономное общеобразовательное учреждение "Дабатуйская средняя общеобразовательная школа" ЛДП | C85: Муниципальное автономное учреждение | D85: Тубанова Эржена Эрдэмовна | E85: 0307030735 | F85: 671933, Республика Бурятия, Закаменский район, улус Далахай, ул.Центральная, 42 | G85: 671933, Республика Бурятия, Закаменский район, улус Далахай, ул.Центральная, 42 | H85: https://sh-dabatujskaya-r81.gosweb.gosuslugi.ru/glavnoe/svedeniya-ob-organizatsii-otdyha-detey-i-ih-ozdorovlenii/ | I85: Лагеря, организованные образовательными организациями, осуществляющими организацию отдыха и оздоровления | J85: сезонный | K85: 1 смена: 02.06.2026-22.06.2026 | L85: 213 | M85: 7 - 14 | N85: 3-х разовое питание без проживания | O85: нет | P85: Ввод в эксплуатацию 1996г, капитальный ремонт 2022г | Q85: 03.БЦ.11.000.М.000430.05.26 от 21.05.2026 | R85: 24.09.2024, Управление Роспотребнадзора по Республике Бурятия, выездная проверка, профилактический визит | S85: Л041-01171-03/00361270 от 02.06.2020 | T85: Лицензия № 2349 от 18.09.2015 серия 03Л01 № 0000875 | U85: 1. передвигающиеся на креслах-колясках | V85: 4. дети с нарушением опорно-двигательного аппарата; | W85: Имеется паспорт доступности, программа воспитательной работы и календарного плана воспитательной работы с описанием конкретных мероприятий по дням с учетом смен и возрастных групп детей | X85: 15 | Y85: муниципальная | Z85: Закаменский
A86: 83 | B86: Муниципальное бюджетное общеобразовательное учреждение "Мылинская средняя общеобразовательная школа имени Героя Российской Федерации Ж.Б.Гомбоева", ЛДП | C86: Муниципальное бюджетное учреждение | D86: Батуева Сарюна Раднаевна | E86: 0307007366 | F86: 671938, Республика Бурятия, Закаменский район, с. Мыла, ул.Школьная,13 | G86: 671938, Республика Бурятия, Закаменский район, с.Мыла, ул.Школьная,13 | H86: https://school-myla.gosuslugi.ru/glavnoe/svedeniya-ob-organizatsii-otdyha-detey-i-ih-ozdorovlenii/ | I86: Лагеря, организованные образовательными организациями, осуществляющими организацию отдыха и оздоровления | J86: сезонный | K86: 1 смена, 02.06.2025 - 22.06.2025 | L86: 213 | M86: 45998 | N86: 3-хразовое питание без проживания | O86: нет | P86: Ввод в эксплуатацию 1996г, капитальный ремонт 2022г | Q86: 03.БЦ.11.000.М.000422.05.26 от 21.05.2026 г. | R86: 29.03.2024, Управление Роспотребнадзора по Республике Бурятия, внеплановая выездная проверка | S86: Договор ГБУЗ "Закаменская ЦРБ" | T86: Лицензия №ЛО35-01223-03/00173182 от 06.05.2024 г | U86: 1. передвигающиеся на креслах-колясках | V86: 4. дети с нарушением опорно-двигательного аппарата; | W86: Имеется паспорт доступности, программа воспитательной работы и календарного плана воспитательной работы с описанием конкретных мероприятий по дням с учетом смен и возрастных групп детей | X86: 110 | Y86: муниципальная | Z86: Закаменский
A87: 84 | B87: Муниципальное автономное общеобразовательное учреждение "Бортойская средняя общеобразовательная школа", (МАОУ "Бортойская СОШ"), ЛДП | C87: Муниципальное автономное общеобразовательное учреждение | D87: Бадмаева Тунгалаг Владимировна | E87: 0307030774 | F87: 671950 Закаменский район у. Бортой ул. Школьная д.2 | G87: 671950 Закаменский район у. Бортой ул. Школьная д.2 | H87: https://sh-bortojskaya-r81.gosweb.gosuslugi.ru/glavnoe/отдых/ | I87: Лагеря, организованные образовательными организациями, осуществляющими организацию отдыха и оздоровления | J87: сезонный | K87: 1 смена, 02.06.2026 - 22.06.2026 | L87: 213 | M87: 45998 | N87: 3-хразовое питание, без проживания | O87: нет | P87: Ввод в эксплуатацию - 1991 год, Капитальный ремонт - не проводился | Q87: 03.БЦ.11.000.М.000418.05.26 от 21.05.2026 | R87: проверок не было | S87: Договор ГБУЗ "Закаменская ЦРБ" | T87: Рег № 03-Э-107 от 21.01.2022 | U87: 1. передвигающиеся на креслах-колясках | V87: 4. дети с нарушением опорно-двигательного аппарата; | W87: Имеется паспорт доступности, программа воспитательной работы и календарного плана воспитательной работы с описанием конкретных мероприятий по дням с учетом смен и возрастных групп детей | X87: 50 | Y87: Муниципальная | Z87: Закаменский
A88: 85 | B88: Муниципальное автономное общеобразовательное учреждение "Санагинская средняя общеобразовательная школа имени полного кавалера ордена Славы Б.М. Дамчеева", ЛДП | C88: Муниципальное автономное общеобразовательное учреждение | D88: Бадмаева Дари-Цырен Цыреновна | E88: 0307007528 | F88: 671932, Республика Бурятия, Закаменский район, у.Санага, ул.Советская, 11 | G88: 671932, Республика Бурятия, Закаменский район, у.Санага, ул.Советская, 11 | H88: https://sh-sanaginskaya-r81.gosweb.gosuslugi.ru/ | I88: Лагеря, организованные образовательными организациями, осуществляющими организацию отдыха и оздоровления | J88: сезонный | K88: 1 смена, 02.06.2026 - 22.06.2026 | L88: 213 | M88: 45998 | N88: 3-хразовое питание, без проживания | O88: нет | P88: Ввод в эксплуатацию в 2011 г, капитальный ремонт - нет. | Q88: 03.БЦ.11.000.М.000380.05.26 от 19.05.2026 г. | R88: 05.11.2024, Управление Роспотребнадзора по Республике Бурятия, выездная проверка, профилактический визит | S88: Договор ГБУЗ "Закаменская ЦРБ" | T88: Лицензия № 03Л01 №0001659от 29.03.2018 г. | U88: 1. передвигающиеся на креслах-колясках | V88: 4. дети с нарушением опорно-двигательного аппарата; | W88: Имеется паспорт доступности, программа воспитательной работы и календарного плана воспитательной работы с описанием конкретных мероприятий по дням с учетом смен и возрастных групп детей | X88: 80 | Y88: Муниципальная | Z88: Закаменский
A89: 86 | B89: Муниципальное автономное общеобразовательное учреждение "Нуртинская Средняя общеобразовательная школа" (МАОУ "Нуртинская СОШ"), ЛДП | C89: Муниципальное автономное общеобразовательное учреждение | D89: Жалсанова Дулма Жаргаловна | E89: 0307007550 | F89: 671950, Республика Бурятия, Закаменский район, у.Нурта, ул.Школьная,1 | G89: 671950, Республика Бурятия, Закаменский район, у.Нурта, ул.Школьная,1 | H89: https://sh-nurtinskaya-r81.gosweb.gosuslugi.ru/glavnoe/ob-organizatsii-otdyha-detey-i-ih-ozdorovleniya/ | I89: Лагеря, организованные образовательными организациями, осуществляющими организацию отдыха и оздоровления | J89: сезонный | K89: 1 смена, 02.06.2026-22.06.2026 | L89: 213 | M89: 45999 | N89: 3-хразовое питание, без проживания | O89: нет | P89: ввод в эксплуатацию в1989 г., капитальный ремонт 2022 г. | Q89: 03.БЦ.11.000.М.000464.05.26 от 26.05.2026 г. | R89: 14.11.2024 г. Управление Роспотребнадзора по Республике Бурятия, ввнепланова явыездная проверка | S89: Договор ГБУЗ "Закаменская ЦРБ" | T89: №Л035-01223-03/00173069 | U89: 1. передвигающиеся на креслах-колясках | V89: 4. дети с нарушением опорно-двигательного аппарата; | W89: Имеется паспорт доступности, программа воспитательной работы и календарного плана воспитательной работы с описанием конкретных мероприятий по дням с учетом смен и возрастных групп детей | X89: 50 | Y89: Муниципальная | Z89: Закаменский
A90: 87 | B90: Муниципальное автономное общеобразовательное учреждение "Енгорбойская Средняя общеобразовательная школа" (МАОУ "Енгорбойская СОШ"), ЛДП | C90: Муниципальное автономное общеобразовательное учреждение | D90: Очирова Аюна Владимировна | E90: 0307007775 | F90: 671931, Республика Бурятия, Закаменский район,у. Енгорбой, ул. Школьная,17 | G90: 671931, Республика Бурятия, Закаменский район,у. Енгорбой, ул. Школьная,17 | H90: https://sh-engorbojskaya-r81.gosweb.gosuslugi.ru/glavnoe/svedeniya-ob-organizatsii-otdyha-detey-i-ih-ozdorovlenii/ | I90: Лагеря, организованные образовательными организациями, осуществляющими организацию отдыха и оздоровления | J90: сезонный | K90: 1 смена, 02.06.2026-19.06.2026 | L90: 213 | M90: 45998 | N90: 3-хразовое питание, без проживания | O90: нет | P90: ввод в эксплуатацию в 2017 г. | Q90: 03.БЦ.11.000.М.000401.05.26 от 20.05.2026 | S90: Договор ГБУЗ "Закаменская ЦРБ" | T90: Лицензия №3390987 от 04.10.2011 | U90: 1. передвигающиеся на креслах-колясках | V90: 4. дети с нарушением опорно-двигательного аппарата; | W90: Имеется паспорт доступности, программа воспитательной работы и календарного плана воспитательной работы с описанием конкретных мероприятий по дням с учетом смен и возрастных групп детей | X90: 100 | Y90: Муниципальная | Z90: Закаменский
A91: 88 | B91: Муниципальное бюджетное общеобразовательное учреждение "Средняя общеобразовательная школа №4 г.Закаменск" ( МБОУ "СОШ №4 г.Закаменск"), ЛДП | C91: Муниципальное бюджетное общеобразовательное учреждение | D91: Балданова Баярма Олеговна | E91: 0307007737 | F91: 671950, Республика Бурятия, Закаменский район, г.Закаменск, ул. Модонкульская,28 | G91: 671950, Республика Бурятия, Закаменский район, г.Закаменск, ул. Модонкульская,29 | H91: https://sh-zakamensk-r81.gosweb.gosuslugi.ru/glavnoe/svedeniya-ob-organizatsii-otdyha-detey-i-ih-ozdorovlenii/ 83013744706, 89146362374 | I91: Лагеря, организованные образовательными организациями, осуществляющими организацию отдыха и оздоровления | J91: сезонный | K91: 1 смена, 02.06.2026-22.06.2026 | L91: 213 | M91: 45998 | N91: 3-хразовое питание, без проживания | O91: нет | P91: ввод в эксплуатацию в 1988., капитальный ремонт 2019, 2022 г. | Q91: 03.БЦ.10.000.М.000374.05.26 от 19.05.2026 г. | R91: 07.02.2024, 29.01.2024 Управление Роспотребнадзора по Республике Бурятия, выездная проверка, профилактический визит | S91: Договор ГБУЗ "Закаменская ЦРБ" | T91: Лицензия № 2296 от 03.07.2015 г. серия 03Л01 № 0000827 | U91: 1. передвигающиеся на креслах-колясках | V91: 4. дети с нарушением опорно-двигательного аппарата; | W91: Имеется паспорт доступности, программа воспитательной работы и календарного плана воспитательной работы с описанием конкретных мероприятий по дням с учетом смен и возрастных групп детей | X91: 156 | Y91: Муниципальная | Z91: Закаменский
A92: 89 | B92: Муниципальное бюджетное общеобразовательное учреждение "Шара-Азаргинская средняя общеобразовательная школа" ( МБОУ "Шара-Азаргинская СОШ"), ЛДП | C92: Муниципальное бюджетное общеобразовательное учреждение | D92: Балданов Александр Шарлаевич | E92: 0307003604 | F92: 671931, Республика Бурятия, Закаменский район,у. Шара-Азарга, ул. Школьная,1 | G92: 671931, Республика Бурятия, Закаменский район,у. Шара-Азарга, ул. Школьная,1 | H92: https://sh-shara-azarginskaya-r81.gosweb.gosuslugi.ru/glavnoe/ob-organizatsii-otdyha-detey-i-ih-ozdorovleniya/ | I92: Лагеря, организованные образовательными организациями, осуществляющими организацию отдыха и оздоровления | J92: сезонный | K92: 1 смена, 02.06.2026 - 22.06.2026 | L92: 213 | M92: 45998 | N92: 3-хразовое питание, без проживания | O92: нет | P92: Ввод в эксплуатацию - 2006 г.; Капитальный ремонт-2022 г. | Q92: 03.БЦ.11.000.М.000376.05.26 от 19.05.2026 г. | R92: 23.04.2024 - Управление Роспотребнадзора по Республике Бурятия, выездная проверка; 11.04.2024 - Управление Роспотребнадзора по Республике Бурятия, профилактический визит | S92: Договор ГБУЗ "Закаменская ЦРБ" | T92: №2220 от 25.02.2015г. (серия 03Л01 №0000733) | U92: 1. передвигающиеся на креслах-колясках | V92: 4. дети с нарушением опорно-двигательного аппарата; | W92: Имеется паспорт доступности, программа воспитательной работы и календарного плана воспитательной работы с описанием конкретных мероприятий по дням с учетом смен и возрастных групп детей | X92: 50 | Y92: Муниципальная | Z92: Закаменский
A93: 90 | B93: Муниципальное автономное общеобразовательное учреждение "Баянгольская средняя общеобразовательная школа" (МАОУ "Баянгольская СОШ"), ЛДП | C93: Муниципальное автономное общеобразовательное учреждение | D93: Леонова Татьяна Валентиновна | E93: 0307030781 | F93: 671945, Республика Бурятия, Закаменский район, с. Баянгол, ул. Набережная, 29 | G93: 671945, Республика Бурятия, Закаменский район, с. Баянгол, ул. Набережная, 29 | H93: https://sh-bayangolskaya-r81.gosweb.gosuslugi.ru/glavnoe/svedeniya-ob-organizatsii-otdyha-i-ozdorovleniya-detey/ | I93: Лагеря, организованные образовательными организациями, осуществляющими организацию отдыха и оздоровления | J93: сезонный | K93: 1 смена, 01.06.2026 - 25.06.2026 г. | L93: 213 | M93: 45998 | N93: 3-хразовое питание, без проживания | O93: Нет | P93: Ввод в эксплуатацию - 2015 г. | Q93: 03.БЦ.11.000.М.000333.05.26 от 15.05.2026 | R93: 18.03.2025 территориальный отдел Управления Роспотребнадзора по РБ в Джидинском районе. | S93: Договор ГБУЗ "Закаменская ЦРБ" | T93: №2767 от 07.02.2017 (серия 03Л01 № 0001351) | U93: 1. передвигающиеся на креслах-колясках | V93: 4. дети с нарушением опорно-двигательного аппарата; 6. дети с задержкой психического развития; | W93: Имеется паспорт доступности, программа воспитательной работы и календарного плана воспитательной работы с описанием конкретных мероприятий по дням с учетом смен и возрастных групп детей | X93: 50 | Y93: Муниципальная | Z93: Закаменский
A94: 91 | B94: Муниципальное автономное общеобразовательное учреждение "Цакирская средняя общеобразовательная школа" (МАОУ "Цакирская СОШ") | C94: Муниципальное автономное общеобразовательное учреждение | D94: Банзаракцаева Татьяна Евгеньевна | E94: 0307008680 | F94: 671943, Республика Бурятия, Закаменский район, с. Цакир, ул. Пограничная, 80 | G94: 671943, Республика Бурятия, Закаменский район, с. Цакир, ул. Пограничная, 81 | H94: https://sh-cakirskaya-r81.gosweb.gosuslugi.ru/glavnoe/organizatsiya-letnego-otdyha-detey-i-ih-ozdorovlenie/ | I94: Лагеря, организованные образовательными организациями, осуществляющими организацию отдыха и оздоровления | J94: сезонный | K94: 1 смена, 02.06.2026 - 22.06.2026 | L94: 213 | M94: 45998 | N94: 3-хразовое питание, без проживания | O94: Нет | P94: Ввод в эксплуатацию - 1954 г.; Капитальный ремонт-2017 г. | Q94: 03.БЦ.10.000.М.000371.05.26 от 19.05.2026г. | R94: 29.05.2024 территориальный отдел Управления Роспотребнадзора по РБ в Джидинском районе. | S94: Договор ГБУЗ "Закаменская ЦРБ" | T94: Лицензия № 3202 от 17.04.2019 серия 03Л01 № 0001849 | U94: 1. передвигающиеся на креслах-колясках | V94: 4. дети с нарушением опорно-двигательного аппарата; | W94: Имеется паспорт доступности, программа воспитательной работы и календарного плана воспитательной работы с описанием конкретных мероприятий по дням с учетом смен и возрастных групп детей | X94: 60 | Y94: Муниципальная | Z94: Закаменский
A95: 92 | B95: Муниципальное автономное общеобразовательных учреждение "Утатуйская средняя общеобразовательная школа"(МАОУ"Утатуйская СОШ"),ЛДП | C95: Муниципальное автономное общеобразовательных учреждение | D95: Гонжитов Анатолий Геннадьевич | E95: 0307007694 | F95: 671933,Республика Бурятия, Закаменский район,у.Утата, ул.Центральная,38 | G95: 671933,Республика Бурятия, Закаменский район,у.Утата, ул.Центральная,38 | H95: https://sh-utatujskaya-r81.gosweb.gosuslugi.ru/ | I95: Лагеря, организованные образовательными организациями, осуществляющими организацию отдыха и оздоровления | J95: сезонный | K95: 1 смена, 02.06.2026 - 19.06.2026 | L95: 213 | M95: 45998 | N95: 3-хразовое питание, без проживания | O95: Нет | P95: Ввод в эксплуатацию - 1974 г.; Капитальный ремонт-2017 г. | Q95: 03.БЦ.11.000.М.000414.05.26 от 20.05.2026 | R95: 03.05.2024 Управление Роспотребнадзора по Республике Бурятия, внеплановая выездная проверка, профилактический визит | S95: Договор ГБУЗ "Закаменская ЦРБ" | T95: Лицензия 3270от 10.09.2020 серия03Л01 0001932 | U95: 1. передвигающиеся на креслах-колясках | V95: 4. дети с нарушением опорно-двигательного аппарата; | W95: Имеется паспорт доступности, программа воспитательной работы и календарного плана воспитательной работы с описанием конкретных мероприятий по дням с учетом смен и возрастных групп детей | X95: 49 | Y95: Муниципальная | Z95: Закаменский
A96: 93 | B96: Муниципальное автономное общеобразовательное учреждение "Хамнейская средняя общеобразовательная школа" (МАОУ "Хамнейская СОШ"), ЛДП | C96: Муниципальное автономное общеобразовательных учреждение | D96: Цыренов Сергей Валерьевич | E96: 0307007510 | F96: 671942, Республика Бурятия, Закаменский район, с.Хамней, ул.Ленина,5 | G96: 671942, Республика Бурятия, Закаменский район, с.Хамней, ул.Ленина,5 | H96: https://sh-xamnejskaya-r81.gosweb.gosuslugi.ru/glavnoe/svedeniya-ob-organizatsii-otdyha-detey-i-ih-ozdorovleniya/ | I96: Лагеря, организованные образовательными организациями, осуществляющими организацию отдыха и оздоровления | J96: сезонный | K96: 1 смена, 02.06.2026 - 22.06.2026 | L96: 213 | M96: 45998 | N96: 3-хразовое питание, без проживания | O96: Нет | P96: Ввод в эксплуатацию - 1964 г.; | Q96: 03.БЦ.11.000.М.000462.05.26 от 26.05.2026 | S96: Договор ГБУЗ "Закаменская ЦРБ" | T96: Лицензия №2073 от 19.03.2014 Серия 03Л01 №0000567 | U96: 1. передвигающиеся на креслах-колясках | V96: 4. дети с нарушением опорно-двигательного аппарата; | W96: Имеется паспорт доступности, программа воспитательной работы и календарного плана воспитательной работы с описанием конкретных мероприятий по дням с учетом смен и возрастных групп детей | X96: 60 | Y96: Муниципальная | Z96: Закаменский
A97: 94 | B97: Муниципальное автономное общеобразовательное учреждение "Бургуйская средняя общеобразовательная школа" (МАОУ "Бургуйская СОШ"), ЛДП | C97: Муниципальное автономное общеобразовательных учреждение | D97: Тудунова Дарима Батомункоевна | E97: 0307007415 | F97: 671942, Республика Бурятия, Закаменский район, у. Бургуй, ул.Наринская,9 | G97: 671942, Республика Бурятия, Закаменский район, у. Бургуй, ул. Наринская,9 | H97: https://sh-burgujskaya-r81.gosweb.gosuslugi.ru/glavnoe/svedeniya-ob-organizatsii-otdyha-detey-i-ih-ozdorovlenii-1/ | I97: Лагеря, организованные образовательными организациями, осуществляющими организацию отдыха и оздоровления | J97: сезонный | K97: 1 смена, 02.06.2026-22.06.2026 | L97: 213 | M97: 45968 | N97: 3-хразовое питание, без проживания | O97: нет | P97: Ввод в эксплуатацию - 1992 г.; Капитальный ремонт-2022 г. | Q97: 03.БЦ.10.000.М.000381.05.26 от 19.05.2026 | R97: 14.02.2024 Управление Роспотребнадзора по Республике Бурятия, внеплановая выездная проверка, профилактический визит | S97: Договор ГБУЗ "Закаменская ЦРБ" | T97: Лицензия №2325 от 19.08.2015 Серия 03Л01 №0000847 | U97: 1. передвигающиеся на креслах-колясках | V97: 4. дети с нарушением опорно-двигательного аппарата; | W97: Имеется паспорт доступности, программа воспитательной работы и календарного плана воспитательной работы с описанием конкретных мероприятий по дням с учетом смен и возрастных групп детей | X97: 50 | Y97: Муниципальная | Z97: Закаменский
A98: 95 | B98: Муниципальное бюджетное общеобразовательное учреждение " Усть-Бургалтайская средняя общеобразовательная школа", ЛДП | C98: Муниципальное бюджетное учреждение | D98: Табитуева Ирина Николаевна | E98: 0307007768 | F98: 671941, Республика Бурятия, Закаменский район, у. Усть - Бургалтай, ул. Клубная 3 | G98: 671941, Республика Бурятия, Закаменский район, у. Усть - Бургалтай, ул. Клубная 3 | H98: https://sh-ust-burgaltajskaya-r81.gosweb.gosuslugi.ru/glavnoe/svedeniya-ob-organizatsii-otdyha-detey-i-ih-ozdorovleniya/ | I98: Лагеря, организованные образовательными организациями, осуществляющими организацию отдыха и оздоровления | J98: сезонный | K98: 1 смена, 02.06.2026 - 22.06.2026 | L98: 213 | M98: 45999 | N98: 3-хразовое питание, без проживания | O98: нет | P98: Ввод в эксплуатацию - 1993г.; Капитальный ремонт - 2022г. | Q98: 03.БЦ.11.000.М.000369.05.26 от 18.05.2026 | R98: 29.01.2025 Управление Роспотребнадзора по Республике Бурятия, внеплановая выездная проверка, профилактический визит | S98: Договор ГБУЗ "Закаменская ЦРБ" | T98: Лицензия №2330 от 03.08.2015г., Серия 03Л01 №0000852 | U98: 1. передвигающиеся на креслах-колясках | V98: 4. дети с нарушением опорно-двигательного аппарата; | W98: Имеется паспорт доступности, программа воспитательной работы и календарного плана воспитательной работы с описанием конкретных мероприятий по дням с учетом смен и возрастных групп детей | X98: 45 | Y98: муниципальная | Z98: Закаменский
A99: 96 | B99: Муниципальное автономное общеобразовательное учреждение Хужирская начальная общеобразовательная школа имени Д.Б.Жигжитова" (МАОУ "Хужирская НОШ им. Д.Б.Жигжитова") | C99: Муниципальное автономное общеобразовательное учреждение | D99: Жугдурова Элинара Очировна | E99: 0307035532 | F99: 671958, Республика Бурятия, Закаменский район, улус Хужир, ул. Школьная 7 | G99: 671958, Республика Бурятия, Закаменский район, улус Хужир, ул. Школьная 7 | H99: https://sh-xuzhirskaya-r81.gosweb.gosuslugi.ru/glavnoe/svedeniya-ob-organizatsii-otdyha-detey-i-ih-ozdorovlenii/ | I99: Лагеря, организованные образовательными организациями, осуществляющими организацию отдыха и оздоровления | J99: сезонный | K99: 1 смена, 02.06.2026 - 22.06.2026 | L99: 213 | M99: 45937 | N99: 3-х разовое питарие, без проживания | O99: нет | P99: Ввод в эксплуатацию 1936 год, Капитальный ремонт 2011 год | Q99: 03.БЦ.10.000.М.000379.05.26 от 19.05.2026г | R99: 01.04.2024г Управление Роспотребнадзора по Республике Бурятия в Джидинском районе, профилактический визит | S99: Договор ГБУЗ "Закаменская ЦРБ" | T99: Лицензия %Л035-01223-03/001735522 | U99: 1. передвигающиеся на креслах-колясках | V99: 4. дети с нарушением опорно-двигательного аппарата; | W99: Имеется паспорт доступности, программа воспитательной работы и календарного плана воспитательной работы с описанием конкретных мероприятий по дням с учетом смен и возрастных групп детей | X99: 25 | Y99: Муниципальная | Z99: Закаменский
A100: 97 | B100: Муниципальное автономное общеобразовательное учреждение "Цаган-Моринская средняя общеобразовательная школа", ЛДП | C100: Муниципальное автономное общеобразовательное учреждение | D100: Ринчинова Сарюна Сергеевна | E100: 0307031249 | F100: 671958, Республика Бурятия, Закаменский район, у. Цаган-Морин, ул. Центральная,11 | G100: 671958, Республика Бурятия, Закаменский район, у. Цаган-Морин, ул. Центральная,11 | H100: https://sh-cagan-morinskaya-r81.gosweb.gosuslugi.ru/ | I100: Лагеря, организованные образовательными организациями, осуществляющими организацию отдыха и оздоровления | J100: сезонный | K100: 1 смена, 02.06.2026-22.06.2026 | L100: 213 | M100: 45998 | N100: 3-хразовое питание, без проживания | O100: нет | P100: Ввод в эксплуатацию-1990 г.; Капитальный ремонт-2022 г. | Q100: 03.БЦ.11.000.М.000457.05.26 от 25.05.2026 г | R100: 17.04.2024 Управление Роспотребнадзора по Республике Бурятия, внеплановая выездная проверка, профилактический визит | S100: Договор ГБУЗ "Закаменская ЦРБ" | T100: Лицензия № 2292 от 03.07.2015 г. серия 03Л01 № 0000793 | U100: 1. передвигающиеся на креслах-колясках | V100: 4. дети с нарушением опорно-двигательного аппарата; | W100: Имеется паспорт доступности, программа воспитательной работы и календарного плана воспитательной работы с описанием конкретных мероприятий по дням с учетом смен и возрастных групп детей | X100: 40 | Y100: Муниципальная | Z100: Закаменский
A101: 98 | B101: "Муниципальное автономное общеобразовательное учреждение ""Михайловкая средняя общеобразовательная школа им.В.С.Поповой"" ЛДП" | C101: Муниципальное автономное общеобразовательное учреждение | D101: Цыденова Людмила Иннокеньтьевна | E101: 0307007824 | F101: 671941, Республика Бурятия, Закаменский район, с.Михайловка ул. Школьная,26 | G101: 671941, Республика Бурятия, Закаменский район, с.Михайловка ул. Школьная,26 | H101: https://sh-mixajlovskaya-r81.gosweb.gosuslugi.ru/glavnoe/letniy-otdyh/ | I101: Лагеря, организованные образовательными организациями, осуществляющими организацию отдыха и оздоровления | J101: сезонный | K101: 1 смена, 02.06.2026-22.06.2026 | L101: 213 | M101: 45998 | N101: 3-хразовое питание, без проживания | O101: нет | P101: Ввод в эксплуатацию-1988 г.; Капитальный ремонт-2022 г. | Q101: 03.БЦ.11.000.М.000405.05.26 от 20.05.2026 г | R101: 31.01.2025 г Управление Роспотребнадзора по Республике Бурятия, внеплановая выездная проверка, профилактический визит | S101: Договор ГБУЗ "Закаменская ЦРБ" | T101: Лицензия № 2335 от 02.09.2015 г. серия 03Л01 № 0000858 | U101: 1. передвигающиеся на креслах-колясках | V101: 4. дети с нарушением опорно-двигательного аппарата; 6. дети с задержкой психического развития; | W101: Имеется паспорт доступности, программа воспитательной работы и календарного плана воспитательной работы с описанием конкретных мероприятий по дням с учетом смен и возрастных групп детей | X101: 45 | Y101: Муниципальная | Z101: Закаменский
...

Sheet лагеря труда и отдыха
K1: Реестр организаций отдыха и оздоровления детей Республики Бурятия 2026 г.
A3: № п/п | B3: Полное и сокращенное (если имеется) наименования организации отдыха детей и их оздоровления | C3: Организационно-правовая форма организации отдыха детей и их оздоровления | D3: ФИО руководителя организации отдыха детей и их оздоровления | E3: ИНН | F3: Адрес (место нахождения) организации отдыха детей и их оздоровления, контактный телефон, адрес электронной почты | G3: Фактический адрес организации отдыха детей и их оздоровления, контактный телефон | H3: Официальный сайт организации отдыха детей и их оздоровления в информационно-телекоммуникационной сети "Интернет" | I3: Тип организации отдыха детей и их оздоровления | J3: Предоставляемые организацией отдыха детей и их оздоровления услуги в сфере отдыха и оздоровления детей | P3: Дата ввода используемых организацией отдыха детей и их оздоровления объектов (для организаций стационарного типа) и дата проведения капитального ремонта | Q3: Информация о наличии санитарно-эпидемиологического заключения, включая дату выдачи заключения | R3: Информация о результатах проведения органами, осуществляющими государственный контроль (надзор), плановых и внеплановых проверок в текущем году (при наличии) и в предыдущем году | S3: Информация о наличии лицензии на осуществление медицинской деятельности | T3: Информация о наличии лицензии на осуществление образовательной деятельности | U3: Обеспечение в организации отдыха детей и их оздоровления доступности услуг для детей-инвалидов и детей с ограниченными возможностями здоровья | W3: Сведения о наличии программы воспитательной работы и календарного плана воспитательной работы с описанием конкретных мероприятий по дням с учетом смен и возрастных групп детей | X3: Проектная вместимость (мощность мест в смену) | Y3: Форма собственности | Z3: Район/муниципалитет
J4: Режим работы организации отдыха детей и их оздоровления (сезонный/круглогодичный) | K4: Даты проведения смен | L4: Средняя стоимость 1 дня пребывания в организации отдыха детей и их оздоровления | M4: Возрастная категория детей, принимаемых в организацию отдыха детей и их оздоровления | N4: Информация о проживании и питании детей в организации отдыха детей и их оздоровления | O4: Наличие оборудованного места для купания | U4: Категория детей-инвалидов 1. передвигающиеся на креслах-колясках 2. поражение нижних конечностей 3. поражение верхних конечностей 4. полное нарушение зрения – слепота 5. частичное нарушение зрения 6. полное нарушение слуха – глухота 7. частичное нарушение слуха 8. нарушения умственного развития 9. Все категории | V4: Дети с ограниченными возможностями здоровья: 1. дети с нарушением слуха (глухие, слабослышащие, позднооглохшие); 2. дети с нарушением зрения (слепые, слабовидящие); 3. дети с нарушением речи (логопаты); 4. дети с нарушением опорно-двигательного аппарата; 5. дети с умственной отсталостью; 6. дети с задержкой психического развития; 7. дети с нарушением поведения и общения; 8. дети с комплексными нарушениями психофизического развития, с так называемыми сложными дефектами (слепоглухонемые, глухие или слепые дети с умственной отсталостью) 9. Все категории
A5: 1 | B5: Муниципальное автономное образовательное учреждение " Талецкая средняя общеобразовательная школа" ( МАОУ "Талецкая сош") | C5: Муниципальное автономное образовательное учреждение | D5: Гомбоев Виктор Батуевич | E5: 306011360 | F5: 671321, Республика Бурятия, р-н Заиграевский , п. Нижние Тальцы, ул. Береговая, зд.11. | G5: 671321, Республика Бурятия, р-н Заиграевский , п. Нижние Тальцы, ул. Береговая, зд.11. | H5: https://sh-taleckaya-nizhnietalcy-r81.gosweb.gosuslugi.ru/ | I5: Детские лагеря труда и отдыха | J5: сезонный | K5: с "01" июня по "21" июня 2026 года | L5: 195.6 | N5: без проживания, 2-х разоваое питание | O5: нет | P5: 2021 г. | Q5: 03.БЦ.11.000.М.00311.05.26 от 14.05.2026 | R5: 02.06.2025г. - Территориальный отдел Управления Федеральной службы по надзору в сфере защиты прав потребителей и благополучия человека по РБ в Заиграевском районе. | S5: Договор ГАУЗ "Заиграевская ЦРЦ" о медицинском обслуживании лиц, пребывающих в дневном оздоровительном лагере на базе образовательного учреждения №7 от 05.02.2025г. | T5: Лицензия № 03-Э-13 от 02.03.2021 г. | U5: 1.5.7.8. | V5: все категории | W5: https://sh-taleckaya-nizhnietalcy-r81.gosweb.gosuslugi.ru/netcat_files/175/2816/rabochaya_programma_vospitaniya_2025_2026_god.pdf | X5: 40 | Y5: муниципальная | Z5: Заиграевский
A6: 2 | B6: Муниципальное автономное образовательное учреждение "Новоильинский агротехнический лицей" (МАОУ НАТЛ) | C6: Муниципальное автономное образовательное учреждение | D6: Мельникова Полина Михайловна | E6: 30601001 | F6: 671332, Республика Бурятия, р-н Заиграевский, с.Новоильинск, ул.Цыренова, 31 | G6: 671332, Республика Бурятия, р-н Заиграевский, с.Новоильинск, ул.Цыренова, 31 | H6: https://natl-licey.gosuslugi.ru/glavnoe/organizatsiya-otdyha-detey-i-ih-ozdorovlenie/ | I6: Детские лагеря труда и отдыха | J6: сезонный | K6: с 01.06.26 по 25.06.26 | L6: 195.6 | N6: без проживания, 2-х разовое питание | O6: нет | P6: ввод в эксплуатацию 1978г. 1980г. Капитальный ремонт не провод | Q6: 03.БЦ.11.000.М.000317.05.26 от 15.05.2026 | R6: июнь 2025г. - Управление Роспотребнадзора, внеплановая проверка по соблюдению санитарно-эпидемиологических норм в условиях распространения новой коронавирусной инфекции, проверка организации учебного процесса и питания учащихся. Замечания устранены. | S6: Лицензия №ЛО-03-01-002554 от 26.12.2017г. | T6: Лицензия №2693 от 12.12.2016г. | U6: - | V6: - | W6: https://natl-licey.gosuslugi.ru/glavnoe/organizatsiya-otdyha-detey-i-ih-ozdorovlenie/ | X6: 75 | Y6: муниципальная | Z6: Заиграевский
A7: 3 | B7: Муниципальное бюджетное общеобразовательное учреждение "Холтосонская средняя общеобразовательная школа", МБОУ "Холтосонская СОШ" ЛТО | C7: Муниципальное бюджетное учреждение | D7: Осипчук Нина Николаевна | E7: 0307008514 | F7: 671934, Республика Бурятия, Закаменский район, с.Холтосон, ул.Заречная, б/н | G7: 671934, Республика Бурятия, Закаменский район, с.Холтосон, ул.Заречная, б/н | H7: https://sh-xoltosonskaya-r81.gosweb.gosuslugi.ru/glavnoe/svedeniya-ob-organizatsii-otdyha-detey-i-ih-ozdorovlenii/ | I7: Детские лагеря труда и отдыха | J7: сезонный | K7: 1 смена, 02.06.2026 - 19.06.2026 | M7: 13-15 | N7: 3х разовое питание без проживания | O7: нет | P7: Ввод в эксплуатацию 1961г, капитальный ремонт 2020г | Q7: 03.БЦ.11.000.М.000356.05.26 от 18.05.2026 | R7: 26.06.2024г, Управление Роспотребнадзора по Республике Бурятия, профилактический визит, предписание. | S7: Договор ГБУЗ "Закаменская ЦРБ" | T7: Лицензия N 3204 от 23.04.2019г, серия 03Л01 N 0001844 | W7: Имеется паспорт доступности, программа воспитательной работы и календарного плана воспитательной работы с описанием конкретных мероприятий по дням с учетом смен и возрастных групп детей | X7: 15 | Y7: муниципальная | Z7: Закаменский
A8: 4 | B8: Муниципальное автономное общеобразовательное учреждение "Бортойская средняя общеобразовательная школа", (МАОУ "Бортойская СОШ"), ЛТО | C8: Муниципальное автономное общеобразовательное учреждение | D8: Бадмаева Тунгалаг Владимировна | E8: 030703774 | F8: 671950 Закаменский район у. Бортой ул. Школьная д.2 | G8: 671950 Закаменский район у. Бортой ул. Школьная д.2 | H8: https://sh-bortojskaya-r81.gosweb.gosuslugi.ru/glavnoe/отдых/ | I8: Детские лагеря труда и отдыха | J8: сезонный | K8: 1 смена, 02.06.2026 - 19.06.2026 | M8: 12-16 | N8: 3-хразовое питание, без проживания | O8: нет | P8: Ввод в эксплуатацию - 1991 год, Капитальный ремонт - не проводился | Q8: 03.БЦ.11.000.М.000418.05.26 от 21.05.2026 | R8: проверок не было | S8: Договор ГБУЗ "Закаменская ЦРБ" | T8: Рег № 03-Э-107 от 21.01.2022 | W8: Имеется паспорт доступности, программа воспитательной работы и календарного плана воспитательной работы с описанием конкретных мероприятий по дням с учетом смен и возрастных групп детей | X8: 50 | Y8: муниципальная | Z8: Закаменский
A9: 5 | B9: Муниципальное бюджетное общеобразовательное учреждение "Мылинская средняя общеобразовательная школа имени Героя Российской Федерации Ж.Б.Гомбоева", ЛТО | C9: Муниципальное бюджетное учреждение | D9: Цыренжапова Долгорма Хэшэгтуевна | E9: 0307007366 | F9: 671938, Республика Бурятия, Закаменский район, с.Мыла, ул.Школьная,13 | G9: 671938, Республика Бурятия, Закаменский район, с.Мыла, ул.Школьная,13 | H9: https://school-myla.gosuslugi.ru/glavnoe/svedeniya-ob-organizatsii-otdyha-detey-i-ih-ozdorovlenii/ | I9: Детские лагеря труда и отдыха | J9: сезонный | K9: 1 смена, 02.06.2026- 19.06.2026 г. | L9: 174.22 | M9: 12-16 | N9: 3-хразовое питание, без проживания | O9: нет | P9: Ввод в эксплуатацию в 1996 г, капитальный ремонт -2022 г. | Q9: 03.БЦ.11.000.М.000422.05.26 от 21.05.2026 г. | R9: 29.03.2024 г. Управление Роспотребнадзора, внеплановая выездная проверка | S9: Договор ГБУЗ "Закаменская ЦРБ" | T9: Лицензия № ЛО35-01223-03/00173182 от 06.05.2024 г. | W9: Имеется паспорт доступности, программа воспитательной работы и календарного плана воспитательной работы с описанием конкретных мероприятий по дням с учетом смен и возрастных групп детей | X9: 110 | Y9: муниципальная | Z9: Закаменский
A10: 6 | B10: Муниципальное автономное общеобразовательное учреждение "Нуртинская Средняя общеобразовательная школа"(МАОУ "Нуртинская СОШ"), ЛТО | C10: Муниципальное автономное общеобразовательное учреждение | D10: Жалсанова Дулма Жаргаловна | E10: 0307007550 | F10: 671950, Республика Бурятия, Закаменский район, у.Нурта, ул.Школьная,1 | G10: 671950, Республика Бурятия, Закаменский район, у.Нурта, ул.Школьная,1 | H10: https://sh-nurtinskaya-r81.gosweb.gosuslugi.ru/glavnoe/ob-organizatsii-otdyha-detey-i-ih-ozdorovleniya/ | I10: Детские лагеря труда и отдыха | J10: сезонный | K10: 1 смена, 02.06.2026-19.06.2026 | M10: 12-15 | N10: 3-хразовое питание, без проживания | O10: нет | P10: ввод в эксплуатацию в1989 г., капитальный ремонт 2022 г. | Q10: 03.БЦ.11.000.М.000464.05.26 от 26.05.2026 г. | R10: 14.11.2024 г. Управление Роспотребнадзора по Республике Бурятия, ввнепланова явыездная проверка | S10: Договор ГБУЗ "Закаменская ЦРБ" | T10: №Л035-01223-03/00173069 | W10: Имеется паспорт доступности, программа воспитательной работы и календарного плана воспитательной работы с описанием конкретных мероприятий по дням с учетом смен и возрастных групп детей | X10: 50 | Y10: муниципальная | Z10: Закаменский
A11: 7 | B11: Муниципальное бюджетное общеобразовательное учреждение "Шара-Азаргинская средняя общеобразовательная школа" ( МБОУ "Шара-Азаргинская СОШ"), ЛТО | C11: Муниципальное бюджетное общеобразовательное учреждение | D11: Балданов Александр Шарлаевич | E11: 0307003604 | F11: 671931, Республика Бурятия, Закаменский район,у. Шара-Азарга, ул. Школьная,1 | G11: 671931, Республика Бурятия, Закаменский район,у. Шара-Азарга, ул. Школьная,1 | H11: https://sh-shara-azarginskaya-r81.gosweb.gosuslugi.ru/glavnoe/ob-organizatsii-otdyha-detey-i-ih-ozdorovleniya/ | I11: Детские лагеря труда и отдыха | J11: сезонный | K11: 1 смена, 02.06.2026 - 19.06.2026 | M11: 13-15 | N11: 3-хразовое питание, без проживания | O11: нет | P11: Ввод в эксплуатацию - 2006 г.; Капитальный ремонт-2022 г. | Q11: 03.БЦ.11.000.М.000376.05.26 от 19.05.2026 г. | R11: 23.04.2024 - Управление Роспотребнадзора по Республике Бурятия, выездная проверка; 11.04.2024 - Управление Роспотребнадзора по Республике Бурятия, профилактический визит | S11: Договор ГБУЗ "Закаменская ЦРБ" | T11: №2220 от 25.02.2015г. (серия 03Л01 №0000733) | W11: Имеется паспорт доступности, программа воспитательной работы и календарного плана воспитательной работы с описанием конкретных мероприятий по дням с учетом смен и возрастных групп детей | X11: 50 | Y11: муниципальная | Z11: Закаменский
A12: 8 | B12: Муниципальное автономное общеобразовательное учреждение "Цакирская средняя общеобразовательная школа" (МАОУ "Цакирская СОШ"), ЛТО | C12: Муниципальное автономное общеобразовательное учреждение | D12: Балданова Вера Бадма-Очировна | E12: 0307008681 | F12: 671943, Республика Бурятия, Закаменский район, с. Цакир, ул. Пограничная, 81 | G12: 671943, Республика Бурятия, Закаменский район, с. Цакир, ул. Пограничная, 82 | H12: https://sh-cakirskaya-r81.gosweb.gosuslugi.ru/glavnoe/organizatsiya-letnego-otdyha-detey-i-ih-ozdorovlenie/ | I12: Детские лагеря труда и отдыха | J12: Сезонный | K12: 1 смена, 02.06.2026 - 19.06.2026 | M12: 13-15 | N12: 3-хразовое питание, без проживания | O12: Нет | P12: Ввод в эксплуатацию - 1954 г.; Капитальный ремонт-2017 г. | Q12: 03.БЦ.11.000.М.000371.05.26 от 19.05.2026 г. | R12: 29.05.2024 территориальный отдел Управления Роспотребнадзора по РБ в Джидинском районе. | S12: Договор ГБУЗ "Закаменская ЦРБ" | T12: Лицензия № 3202 от 17.04.2019 серия 03Л01 № 0001850 | W12: Имеется паспорт доступности, программа воспитательной работы и календарного плана воспитательной работы с описанием конкретных мероприятий по дням с учетом смен и возрастных групп детей | X12: 60 | Y12: муниципальная | Z12: Закаменский
A13: 9 | B13: Муниципальное автономное общеобразовательных учреждение "Утатуйская средняя общеобразовательная школа"(МАОУ"Утатуйская СОШ"),ЛТО | C13: Муниципальное автономное общеобразовательных учреждение | D13: Гонжитов Анатолий Геннадьевич | E13: 0307007694 | F13: 671933,Республика Бурятия, Закаменский район,у.Утата, ул.Центральная,38 | G13: 671933,Республика Бурятия, Закаменский район,у.Утата, ул.Центральная,38 | H13: https://sh-utatujskaya-r81.gosweb.gosuslugi.ru/ | I13: Детские лагеря труда и отдыха | J13: Сезонный | K13: 1 смена, 02.06.2026 - 19.06.2026 | M13: 13-17 | N13: 3-хразовое питание, без проживания | O13: Нет | P13: Ввод в эксплуатацию - 1974 г.; Капитальный ремонт-2017 г. | Q13: 03.БЦ.11.000.М.000414.05.26 от 20.05.2026г. | R13: 03.05.2024 Управление Роспотребнадзора по Республике Бурятия, внеплановая выездная проверка, профилактический визит | S13: Договор ГБУЗ "Закаменская ЦРБ" | T13: Лицензия 3270 от 10.09.2020 | W13: Имеется паспорт доступности, программа воспитательной работы и календарного плана воспитательной работы с описанием конкретных мероприятий по дням с учетом смен и возрастных групп детей | X13: 49 | Y13: муниципальная | Z13: Закаменский
A14: 10 | B14: Муниципальное автономное общеобразовательное учреждение "Хамнейская средняя общеобразовательная школа" (МАОУ "Хамнейская СОШ"), ЛТО | C14: Муниципальное автономное общеобразовательных учреждение | D14: Цыренов Сергей Валерьевич | E14: 0307007510 | F14: 671942, Республика Бурятия, Закаменский район, с.Хамней, ул.Ленина,5 | G14: 671942, Республика Бурятия, Закаменский район, с.Хамней, ул.Ленина,5 | H14: https://sh-xamnejskaya-r81.gosweb.gosuslugi.ru/glavnoe/svedeniya-ob-organizatsii-otdyha-detey-i-ih-ozdorovleniya/ | I14: Детские лагеря труда и отдыха | J14: Сезонный | K14: 1 смена, 02.06.2026 - 22.06.2026 | M14: 13-17 | N14: 3-хразовое питание, без проживания | O14: Нет | P14: Ввод в эксплуатацию - 1964 г.; | Q14: 03.БЦ.11.000.М.000462.05.26 от 26.05.2026 | R14: 05.02.2025 Профилактический визит | S14: Договор ГБУЗ "Закаменская ЦРБ" | T14: Лицензия №2073 от 19.03.2014 Серия 03Л01 №0000567 | W14: Имеется паспорт доступности, программа воспитательной работы и календарного плана воспитательной работы с описанием конкретных мероприятий по дням с учетом смен и возрастных групп детей | X14: 60 | Y14: муниципальная | Z14: Закаменский
A15: 11 | B15: Муниципальное автономное общеобразовательное учреждение "Бургуйская средняя общеобразовательная школа" (МАОУ "Бургуйская СОШ"), ЛТО | C15: Муниципальное автономное общеобразовательных учреждение | D15: Тудунова Дарима Батомункоевна | E15: 0307007415 | F15: 671942, Республика Бурятия, Закаменский район, у. Бургуй, ул. Наринская,9 | G15: 671942, Республика Бурятия, Закаменский район, у. Бургуй, ул. Наринская, 9 | H15: https://sh-burgujskaya-r81.gosweb.gosuslugi.ru/glavnoe/svedeniya-ob-organizatsii-otdyha-detey-i-ih-ozdorovlenii-1/ | I15: Детские лагеря труда и отдыха | J15: Сезонный | K15: 1 смена, 02.06.2026-19.06.2026 | M15: 12-16 | N15: 3-хразовое питание, без проживания | O15: нет | P15: Ввод в эксплуатацию - 1992 г.; Капитальный ремонт-2022 г. | Q15: 03.БЦ.11.000.М.000381.05.26 от 19.05.2026 | R15: 14.02.2024Управление Роспотребнадзора по Республике Бурятия, внеплановая выездная проверка, профилактический визит | S15: Договор ГБУЗ "Закаменская ЦРБ" | T15: Лицензия №2325 от 19.08.2015 Серия 03Л01 №0000847 | W15: Имеется паспорт доступности, программа воспитательной работы и календарного плана воспитательной работы с описанием конкретных мероприятий по дням с учетом смен и возрастных групп детей | Y15: муниципальная | Z15: Закаменский
A16: 12 | B16: Муниципальное автономное общеобразовательное учреждение "Цаган-Моринская средняя общеобразовательная школа", ЛТО | C16: Муниципальное автономное общеобразовательное учреждение | D16: Ринчинова Сарюна Сергеевна | E16: 0307031249 | F16: 671958, Республика Бурятия, Закаменский район, у. Цаган-Морин, ул. Центральная,11 | G16: 671958, Республика Бурятия, Закаменский район, у. Цаган-Морин, ул. Центральная,11 | H16: https://sh-cagan-morinskaya-r81.gosweb.gosuslugi.ru/ | I16: Детские лагеря труда и отдыха | J16: Сезонный | K16: 1 смена, 02.06.2026-19.06.2026 | M16: 13-17 | N16: 3-хразовое питание, без проживания | O16: нет | P16: Ввод в эксплуатацию-1995 г.; Капитальный ремонт-2022 г. | Q16: 03.БЦ.11.000.М.000457.05.26 от 25.05.2026г | R16: 17.04.2024 Управление Роспотребнадзора по Республике Бурятия, внеплановая выездная проверка, профилактический визит | S16: Договор ГБУЗ "Закаменская ЦРБ" | T16: Лицензия № 2292 от 03.07.2015 г. серия 03Л01 № 0000793 | W16: Имеется паспорт доступности, программа воспитательной работы и календарного плана воспитательной работы с описанием конкретных мероприятий по дням с учетом смен и возрастных групп детей | X16: 40 | Y16: муниципальная | Z16: Закаменский
A17: 13 | B17: "Муниципальное автономное общеобразовательное учреждение ""Михайловкая средняя общеобразовательная школа им.В.С.Поповой"" ЛТО | C17: Муниципальное автономное общеобразовательное учреждение | D17: Цыдыпова Мария Васильевна | E17: 0307007824 | F17: 671941, Республика Бурятия, Закаменский район, с.Михайловка ул. Школьная,26 | G17: 671941, Республика Бурятия, Закаменский район, с.Михайловка ул. Школьная,26 | H17: https://sh-mixajlovskaya-r81.gosweb.gosuslugi.ru/glavnoe/letniy-otdyh/ | I17: Детские лагеря труда и отдыха | J17: Сезонный | K17: 1 смена, 23.06.2026-13.07.2026 | M17: 12-17 | N17: 3-хразовое питание, без проживания | O17: нет | P17: Ввод в эксплуатацию-1988 г.; Капитальный ремонт-2022 г. | Q17: 03.БЦ.11.000.М.000405.05.26 от 20.05.2026г | R17: 31.01.2025 г Управление Роспотребнадзора по Республике Бурятия, внеплановая выездная проверка, профилактический визит | S17: Договор ГБУЗ "Закаменская ЦРБ" | T17: Лицензия № 2335 от 02.09.2015 г. серия 03Л01 № 0000858 | W17: Имеется паспорт доступности, программа воспитательной работы и календарного плана воспитательной работы с описанием конкретных мероприятий по дням с учетом смен и возрастных групп детей | X17: 45 | Y17: муниципальная | Z17: Закаменский
A18: 14 | B18: "Муниципальное автономное общеобразовательное учреждение ""Хуртагинская средняя общеобразовательная школа" ЛТО | C18: Муниципальное автономное общеобразовательное учреждение | D18: Арипова Туяна Викторовна | E18: 0307007630 | F18: 671940,Республика Бурятия,Закаменский район,у. Хуртага, ул. Центральная, 17а | G18: 671940,Республика Бурятия,Закаменский район,у. Хуртага, ул. Центральная, 17а | H18: https://hurtaga-scool.gosuslugi.ru/roditelyam-i-uchenikam/svedeniya-ob-organizatsii-otdyha-detey-i-ih-ozdorovlenii/ | I18: Детские лагеря труда и отдыха | J18: Сезонный | K18: 1 смена,02.06.2026-19.06.2026 | M18: 11-16 | N18: 3- разовое питание, без проживания | O18: Нет | P18: Ввод в эксплуатацию-1999 г.; Капитальный ремонт-2022 г. | Q18: 03.БЦ.11.000.М.000467.05.26 от 27.05.2026г | S18: Договор ГБУЗ "Закаменская ЦРБ" | T18: Лицензия № 2321 от 06 августа 2015 | W18: Имеется паспорт доступности, программа воспитательной работы и календарного плана воспитательной работы с описанием конкретных мероприятий по дням с учетом смен и возрастных групп детей | X18: 100 | Y18: муниципальная | Z18: Закаменский
